PDS_VERSION_ID = PDS3
/* FILE DATA ELEMENTS */
RECORD_TYPE = UNDEFINED
/* POINTERS TO DATA OBJECTS */
^IMAGE = ("H2469_0001_RE4.TIF")
/* IDENTIFICATION DATA ELEMENTS */
DATA_SET_ID = "MEX-M-HRSC-4-REFDR-MAPPROJECT-EXT1-V4.0"
DATA_SET_NAME = "MARS EXPRESS HRSC MAP PROJECTED REFDR EXTENSION1 V4.0"
DETECTOR_ID = MEX_HRSC_RED
EVENT_TYPE = "MARS-REGIONAL-MAPPING-Im-Fl"
INSTRUMENT_HOST_ID = MEX
INSTRUMENT_HOST_NAME = "MARS EXPRESS"
INSTRUMENT_ID = HRSC
INSTRUMENT_NAME = "HIGH RESOLUTION STEREO CAMERA"
MISSION_NAME = "MARS EXPRESS"
MISSION_PHASE_NAME = ME_Phase_1
PROCESSING_LEVEL_ID = 4
PRODUCT_CREATION_TIME = 2023-02-08T07:05:14.000Z
PRODUCT_ID = "H2469_0001_RE4.TIF"
RELEASE_ID = 0001
REVISION_ID = 0000
/* QUALITY DATA ELEMENTS */
DATA_QUALITY_ID = 1
DATA_QUALITY_DESC = "Data calculated based on original SPICE kernels"
/* TIME DATA ELEMENTS */
SPACECRAFT_CLOCK_START_COUNT = "1/0082689240.57946"
SPACECRAFT_CLOCK_STOP_COUNT = "1/0082689715.00724"
START_TIME = 2005-12-15T01:16:25.846Z
STOP_TIME = 2005-12-15T01:21:24.609Z
/* ORBITAL DATA ELEMENTS */
ASCENDING_NODE_LONGITUDE = 176.43
MAXIMUM_RESOLUTION = 0.1314
FOOTPRINT_POINT_LATITUDE = (-30.7237,-30.7244,-30.7244,-30.7238, -30.7227,-30.7215,-30.7192,-30.7158, -30.7155,-30.7391,-30.4009,-29.945, -29.4843,-29.0181,-28.5493,-28.0739, -27.5935,-27.3517,-27.1086,-26.7405, -26.4955,-26.2482,-25.9993,-25.7487, -25.2566,-25.0048,-24.7446,-24.4925, -24.2335,-23.9607,-23.7006,-23.3107, -23.0531,-22.7995,-22.5449,-22.2904, -22.0377,-21.7878,-21.5379,-21.2898, -21.0409,-20.7961,-20.5515,-20.1866, -19.5853,-19.1077,-18.6367,-18.5198, -18.4977,-18.5054,-18.5143,-18.5236, -18.5346,-18.5452,-18.5598,-18.5735, -18.5825,-18.5969,-18.6053,-18.6207, -18.6221,-18.6241,-19.2027,-19.9106, -20.2705,-20.6312,-20.8726,-21.1151, -21.3591,-21.6048,-21.9775,-22.2264, -22.4741,-22.7355,-22.9891,-23.2439, -23.4977,-23.8751,-24.1341,-24.391, -24.6461,-24.9,-25.1521,-25.4034, -25.6531,-25.9059,-26.2764,-26.6411, -26.8848,-27.1265,-27.607,-28.2009, -28.6706,-29.1354,-29.5943,-29.9396, -30.2803,-30.6133,-30.7255,-30.7237)
FOOTPRINT_POINT_LONGITUDE = (163.078,163.523,163.997,164.471, 164.886,165.212,165.686,166.222,166.252 ,166.271,166.284,166.303,166.32,166.338 ,166.357,166.375,166.393,166.402, 166.411,166.425,166.434,166.444,166.453 ,166.463,166.487,166.498,166.505, 166.517,166.527,166.531,166.541,166.556 ,166.566,166.578,166.588,166.598, 166.608,166.618,166.628,166.639,166.648 ,166.658,166.668,166.683,166.708, 166.727,166.746,166.751,166.752,166.428 ,166.101,165.775,165.328,164.963, 164.476,163.989,163.664,163.177,162.892 ,162.443,162.402,162.389,162.436,162.49 ,162.516,162.542,162.56,162.578,162.595 ,162.612,162.637,162.653,162.671, 162.684,162.7,162.715,162.732,162.758, 162.773,162.787,162.802,162.816,162.829 ,162.843,162.856,162.867,162.885, 162.904,162.916,162.927,162.949,162.974 ,162.993,163.012,163.029,163.04,163.051 ,163.064,163.068,163.078)
ORBIT_NUMBER = 2469
ORBITAL_ECCENTRICITY = 0.572
ORBITAL_INCLINATION = 86.62
ORBITAL_SEMIMAJOR_AXIS = 8532.79
PERIAPSIS_ALTITUDE = 276.03
PERIAPSIS_ARGUMENT_ANGLE = 284.31
PERIAPSIS_TIME = 2005-12-15T01:03:13.000Z
SPACECRAFT_ORIENTATION = (0.0,-1.0,0.0)
^MEX_ORIENTATION_DESC = "MEX_ORIENTATION_DESC.TXT"
SPACECRAFT_POINTING_MODE = ACROSSTRACK
^MEX_POINTING_DESC = "MEX_POINTING_DESC.TXT"
RIGHT_ASCENSION = -1e+32
DECLINATION = -1e+32
OFFSET_ANGLE = -0.05
SPACECRAFT_SOLAR_DISTANCE = 2.25767e+08
TARGET_NAME = MARS
/* CAMERA DATA ELEMENTS */
DETECTOR_TEMPERATURE = 21.0212
FOCAL_PLANE_TEMPERATURE = 8.9911
INST_CMPRS_NAME = "DISCRETE COSINE TRANSFORMATION (DCT)"
INST_CMPRS_RATIO = 12.7083
INST_CMPRS_QUALITY = 0
INST_CMPRS_QUANTZ_TBL_ID = 0
INSTRUMENT_TEMPERATURE = 13.8847
LENS_TEMPERATURE = 9.6028
MACROPIXEL_SIZE = 4
MISSING_FRAMES = 0
PIXEL_SUBSAMPLING_FLAG = N
SIGNAL_CHAIN_ID = 2
/* RADIOMETRIC DATA ELEMENTS */
BANDWIDTH = 48.0
CENTER_FILTER_WAVELENGTH = 748.0
RADIANCE_OFFSET = 1.38842
RADIANCE_SCALING_FACTOR = 0.0069536
REFLECTANCE_SCALING_FACTOR = 0.000808842
MEX:REFLECTANCE_OFFSET = 0.161501
/* IMAGE OBJECT DEFINITIONS */
OBJECT = IMAGE
  INTERCHANGE_FORMAT = BINARY
  LINES = 7259
  LINE_SAMPLES = 2067
  SAMPLE_TYPE = UNSIGNED_INTEGER
  SAMPLE_BITS = 8
  BANDS = 1
  BAND_STORAGE_TYPE = BAND_SEQUENTIAL
  MAXIMUM = 255
  MEAN = 133.422
  MINIMUM = 1
  STANDARD_DEVIATION = 57.6994
END_OBJECT = IMAGE
/* MAP OBJECT DEFINITIONS */
OBJECT = IMAGE_MAP_PROJECTION
  ^DATA_SET_MAP_PROJECTION_CATALOG= "DSMAP.CAT"
  A_AXIS_RADIUS = 3396.0
  B_AXIS_RADIUS = 3396.0
  C_AXIS_RADIUS = 3396.0
  CENTER_LATITUDE = 0.0
  CENTER_LONGITUDE = 165.0
  COORDINATE_SYSTEM_NAME = PLANETOGRAPHIC
  COORDINATE_SYSTEM_TYPE = "BODY-FIXED ROTATING"
  EASTERNMOST_LONGITUDE = 166.752
  FIRST_STANDARD_PARALLEL = "N/A"
  LINE_FIRST_PIXEL = 1
  LINE_LAST_PIXEL = 7259
  LINE_PROJECTION_OFFSET = -10939.625
  MAP_PROJECTION_ROTATION = 0.0
  MAP_PROJECTION_TYPE = SINUSOIDAL
  MAP_RESOLUTION = 592.713803866667
  MAP_SCALE = 0.1
  MAXIMUM_LATITUDE = -18.4977
  MINIMUM_LATITUDE = -30.7391
  POSITIVE_LONGITUDE_DIRECTION = EAST
  REFERENCE_LATITUDE = "N/A"
  REFERENCE_LONGITUDE = "N/A"
  SAMPLE_FIRST_PIXEL = 1
  SAMPLE_LAST_PIXEL = 2067
  SAMPLE_PROJECTION_OFFSET = 1294.375
  SECOND_STANDARD_PARALLEL = "N/A"
  WESTERNMOST_LONGITUDE = 162.389
END_OBJECT = IMAGE_MAP_PROJECTION
END
