PDS_VERSION_ID = PDS3
/* FILE DATA ELEMENTS */
RECORD_TYPE = UNDEFINED
/* POINTERS TO DATA OBJECTS */
^IMAGE = ("H2475_0000_BL4.TIF")
/* IDENTIFICATION DATA ELEMENTS */
DATA_SET_ID = "MEX-M-HRSC-4-REFDR-MAPPROJECT-EXT1-V4.0"
DATA_SET_NAME = "MARS EXPRESS HRSC MAP PROJECTED REFDR EXTENSION1 V4.0"
DETECTOR_ID = MEX_HRSC_BLUE
EVENT_TYPE = "MARS-REGIONAL-MAPPING-Im-Fl-Pf"
INSTRUMENT_HOST_ID = MEX
INSTRUMENT_HOST_NAME = "MARS EXPRESS"
INSTRUMENT_ID = HRSC
INSTRUMENT_NAME = "HIGH RESOLUTION STEREO CAMERA"
MISSION_NAME = "MARS EXPRESS"
MISSION_PHASE_NAME = ME_Phase_1
PROCESSING_LEVEL_ID = 4
PRODUCT_CREATION_TIME = 2023-02-08T07:05:14.000Z
PRODUCT_ID = "H2475_0000_BL4.TIF"
RELEASE_ID = 0001
REVISION_ID = 0000
/* QUALITY DATA ELEMENTS */
DATA_QUALITY_ID = 1
DATA_QUALITY_DESC = "Data calculated based on original SPICE kernels"
/* TIME DATA ELEMENTS */
SPACECRAFT_CLOCK_START_COUNT = "1/0082833793.57319"
SPACECRAFT_CLOCK_STOP_COUNT = "1/0082834287.41936"
START_TIME = 2005-12-16T17:23:50.106Z
STOP_TIME = 2005-12-16T17:30:41.895Z
/* ORBITAL DATA ELEMENTS */
ASCENDING_NODE_LONGITUDE = 176.31
MAXIMUM_RESOLUTION = 0.0469
FOOTPRINT_POINT_LATITUDE = (-66.565,-66.686,-66.6869,-66.7054, -65.6699,-65.2474,-64.825,-63.9819, -63.3343,-62.899,-62.4642,-62.03, -61.5852,-61.137,-60.689,-60.2421, -59.7809,-59.3197,-58.86,-58.3891, -57.9157,-57.4433,-56.972,-56.5016, -56.0322,-55.5643,-55.0972,-54.2912, -53.7383,-53.1871,-52.6381,-52.0905, -51.5448,-51.0004,-50.446,-49.8879, -49.3185,-48.7418,-48.16,-47.5696, -46.9689,-46.3626,-45.7441,-45.122, -44.5025,-43.8862,-43.2733,-42.6626, -42.0544,-41.4511,-41.1503,-41.1439, -41.1274,-41.0971,-41.0962,-41.097, -41.6966,-42.3002,-42.9077,-43.5176, -44.1301,-44.7471,-45.3661,-46.2917, -46.8981,-47.4975,-48.0866,-48.6675, -49.2426,-49.8097,-50.3666,-50.9199, -51.463,-52.0077,-52.5542,-53.1022, -53.6515,-54.2026,-55.0078,-55.4733, -55.94,-56.4076,-56.8764,-57.5827, -58.0532,-58.7591,-59.4472,-60.1361, -60.8052,-61.2515,-61.9182,-62.5662, -62.9996,-63.4335,-63.8624,-64.7018, -65.5424,-66.3697,-66.5726,-66.565)
FOOTPRINT_POINT_LONGITUDE = (290.332,292.722,292.745,292.803, 293.091,293.202,293.308,293.508,293.655 ,293.748,293.838,293.925,294.011, 294.095,294.174,294.253,294.331,294.405 ,294.477,294.549,294.618,294.685, 294.749,294.811,294.871,294.93,294.986, 295.08,295.143,295.203,295.262,295.319, 295.373,295.425,295.475,295.525,295.57, 295.616,295.662,295.707,295.752,295.8, 295.84,295.882,295.921,295.96,295.998, 296.033,296.065,296.1,296.117,296.117, 294.982,293.656,293.633,293.625,293.616 ,293.603,293.585,293.568,293.549, 293.524,293.5,293.46,293.431,293.399, 293.364,293.327,293.287,293.246,293.205 ,293.162,293.116,293.07,293.02,292.968, 292.914,292.857,292.762,292.705,292.644 ,292.582,292.516,292.406,292.335, 292.217,292.095,291.968,291.832,291.739 ,291.591,291.444,291.336,291.224, 291.107,290.865,290.604,290.324,290.252 ,290.332)
ORBIT_NUMBER = 2475
ORBITAL_ECCENTRICITY = 0.572
ORBITAL_INCLINATION = 86.62
ORBITAL_SEMIMAJOR_AXIS = 8530.94
PERIAPSIS_ALTITUDE = 275.95
PERIAPSIS_ARGUMENT_ANGLE = 283.27
PERIAPSIS_TIME = 2005-12-16T17:21:19.000Z
SPACECRAFT_ORIENTATION = (0.0,-1.0,0.0)
^MEX_ORIENTATION_DESC = "MEX_ORIENTATION_DESC.TXT"
SPACECRAFT_POINTING_MODE = ACROSSTRACK
^MEX_POINTING_DESC = "MEX_POINTING_DESC.TXT"
RIGHT_ASCENSION = -1e+32
DECLINATION = -1e+32
OFFSET_ANGLE = 0.07
SPACECRAFT_SOLAR_DISTANCE = 2.26096e+08
TARGET_NAME = MARS
/* CAMERA DATA ELEMENTS */
DETECTOR_TEMPERATURE = 18.3705
FOCAL_PLANE_TEMPERATURE = 8.3794
INST_CMPRS_NAME = "DISCRETE COSINE TRANSFORMATION (DCT)"
INST_CMPRS_RATIO = 8.30604
INST_CMPRS_QUALITY = 0
INST_CMPRS_QUANTZ_TBL_ID = 0
INSTRUMENT_TEMPERATURE = 11.0301
LENS_TEMPERATURE = 8.5833
MACROPIXEL_SIZE = 4
MISSING_FRAMES = 0
PIXEL_SUBSAMPLING_FLAG = N
SIGNAL_CHAIN_ID = 2
/* RADIOMETRIC DATA ELEMENTS */
BANDWIDTH = 76.0
CENTER_FILTER_WAVELENGTH = 444.0
RADIANCE_OFFSET = 0.563904
RADIANCE_SCALING_FACTOR = 0.00169106
REFLECTANCE_SCALING_FACTOR = 8.88183e-05
MEX:REFLECTANCE_OFFSET = 0.0296175
/* IMAGE OBJECT DEFINITIONS */
OBJECT = IMAGE
  INTERCHANGE_FORMAT = BINARY
  LINES = 30363
  LINE_SAMPLES = 3651
  SAMPLE_TYPE = UNSIGNED_INTEGER
  SAMPLE_BITS = 8
  BANDS = 1
  BAND_STORAGE_TYPE = BAND_SEQUENTIAL
  MAXIMUM = 255
  MEAN = 124.395
  MINIMUM = 1
  STANDARD_DEVIATION = 49.9393
END_OBJECT = IMAGE
/* MAP OBJECT DEFINITIONS */
OBJECT = IMAGE_MAP_PROJECTION
  ^DATA_SET_MAP_PROJECTION_CATALOG= "DSMAP.CAT"
  A_AXIS_RADIUS = 3396.0
  B_AXIS_RADIUS = 3396.0
  C_AXIS_RADIUS = 3396.0
  CENTER_LATITUDE = 0.0
  CENTER_LONGITUDE = 294.0
  COORDINATE_SYSTEM_NAME = PLANETOGRAPHIC
  COORDINATE_SYSTEM_TYPE = "BODY-FIXED ROTATING"
  EASTERNMOST_LONGITUDE = 296.117
  FIRST_STANDARD_PARALLEL = "N/A"
  LINE_FIRST_PIXEL = 1
  LINE_LAST_PIXEL = 30363
  LINE_PROJECTION_OFFSET = -48716.625
  MAP_PROJECTION_ROTATION = 0.0
  MAP_PROJECTION_TYPE = SINUSOIDAL
  MAP_RESOLUTION = 1185.42760773333
  MAP_SCALE = 0.05
  MAXIMUM_LATITUDE = -41.0962
  MINIMUM_LATITUDE = -66.7054
  POSITIVE_LONGITUDE_DIRECTION = EAST
  REFERENCE_LATITUDE = "N/A"
  REFERENCE_LONGITUDE = "N/A"
  SAMPLE_FIRST_PIXEL = 1
  SAMPLE_LAST_PIXEL = 3651
  SAMPLE_PROJECTION_OFFSET = 1764.125
  SECOND_STANDARD_PARALLEL = "N/A"
  WESTERNMOST_LONGITUDE = 290.252
END_OBJECT = IMAGE_MAP_PROJECTION
END
