PDS_VERSION_ID = PDS3
/* FILE DATA ELEMENTS */
RECORD_TYPE = UNDEFINED
/* POINTERS TO DATA OBJECTS */
^IMAGE = ("H2482_0004_SR4.TIF")
/* IDENTIFICATION DATA ELEMENTS */
DATA_SET_ID = "MEX-M-HRSC-4-REFDR-MAPPROJECT-EXT1-V4.0"
DATA_SET_NAME = "MARS EXPRESS HRSC MAP PROJECTED REFDR EXTENSION1 V4.0"
DETECTOR_ID = MEX_HRSC_SRC
EVENT_TYPE = "MARS-REGIONAL-MAPPING-Im-Fl-Gl"
INSTRUMENT_HOST_ID = MEX
INSTRUMENT_HOST_NAME = "MARS EXPRESS"
INSTRUMENT_ID = HRSC
INSTRUMENT_NAME = "HIGH RESOLUTION STEREO CAMERA"
MISSION_NAME = "MARS EXPRESS"
MISSION_PHASE_NAME = ME_Phase_1
PROCESSING_LEVEL_ID = 4
PRODUCT_CREATION_TIME = 2023-02-08T07:05:14.000Z
PRODUCT_ID = "H2482_0004_SR4.TIF"
RELEASE_ID = 0001
REVISION_ID = 0000
/* QUALITY DATA ELEMENTS */
DATA_QUALITY_ID = 1
DATA_QUALITY_DESC = "Data calculated based on original SPICE kernels"
/* TIME DATA ELEMENTS */
SPACECRAFT_CLOCK_START_COUNT = "1/0083003037.57297"
SPACECRAFT_CLOCK_STOP_COUNT = "1/0083003366.16240"
IMAGE_TIME = 2005-12-18T16:26:56.136Z
START_TIME = 2005-12-18T16:26:56.134Z
STOP_TIME = 2005-12-18T16:26:56.139Z
/* ORBITAL DATA ELEMENTS */
ASCENDING_NODE_LONGITUDE = 176.17
MAXIMUM_RESOLUTION = 0.003081
FOOTPRINT_POINT_LATITUDE = (-59.8857,-59.8892,-59.8924,-59.8944, -59.8969,-59.9006,-59.9033,-59.9066, -59.909,-59.9116,-59.9135,-59.9165, -59.9185,-59.9201,-59.9234,-59.9255, -59.9287,-59.9314,-59.9329,-59.9359, -59.938,-59.9381,-59.9381,-59.9378, -59.9377,-59.9375,-59.9373,-59.9371, -59.937,-59.9368,-59.9366,-59.9365, -59.9363,-59.9361,-59.9359,-59.9358, -59.9355,-59.9354,-59.9353,-59.9351, -59.9349,-59.9347,-59.9345,-59.9344, -59.9342,-59.9341,-59.9339,-59.9338, -59.9337,-59.9336,-59.9336,-59.9313, -59.9293,-59.9268,-59.9248,-59.9222, -59.9191,-59.9169,-59.9142,-59.9118, -59.9102,-59.9063,-59.9038,-59.9005, -59.8981,-59.8943,-59.8916,-59.8899, -59.8874,-59.8852,-59.8833,-59.8812, -59.8812,-59.8812,-59.8814,-59.8815, -59.8816,-59.8818,-59.882,-59.8822, -59.8823,-59.8825,-59.8827,-59.8828, -59.883,-59.8832,-59.8834,-59.8836, -59.8839,-59.8841,-59.8843,-59.8844, -59.8846,-59.8848,-59.885,-59.8852, -59.8854,-59.8856,-59.8857,-59.8857)
FOOTPRINT_POINT_LONGITUDE = (325.723,325.723,325.722,325.722, 325.721,325.721,325.72,325.72,325.719, 325.719,325.718,325.718,325.718,325.717 ,325.717,325.716,325.716,325.715, 325.715,325.715,325.714,325.714,325.714 ,325.709,325.705,325.701,325.696, 325.692,325.688,325.685,325.681,325.677 ,325.673,325.668,325.664,325.66,325.655 ,325.652,325.649,325.645,325.64,325.636 ,325.632,325.628,325.624,325.621, 325.616,325.613,325.61,325.609,325.609, 325.609,325.609,325.61,325.61,325.611, 325.611,325.611,325.612,325.612,325.613 ,325.613,325.614,325.614,325.615, 325.615,325.616,325.616,325.617,325.617 ,325.617,325.618,325.618,325.618, 325.622,325.625,325.628,325.632,325.636 ,325.641,325.645,325.649,325.652, 325.656,325.66,325.664,325.669,325.674, 325.68,325.685,325.689,325.693,325.698, 325.702,325.707,325.712,325.715,325.721 ,325.722,325.723)
ORBIT_NUMBER = 2482
ORBITAL_ECCENTRICITY = 0.572
ORBITAL_INCLINATION = 86.63
ORBITAL_SEMIMAJOR_AXIS = 8529.42
PERIAPSIS_ALTITUDE = 276.14
PERIAPSIS_ARGUMENT_ANGLE = 282.05
PERIAPSIS_TIME = 2005-12-18T16:22:27.000Z
SPACECRAFT_ORIENTATION = (0.0,-1.0,0.0)
^MEX_ORIENTATION_DESC = "MEX_ORIENTATION_DESC.TXT"
SPACECRAFT_POINTING_MODE = NADIR
^MEX_POINTING_DESC = "MEX_POINTING_DESC.TXT"
RIGHT_ASCENSION = -1e+32
DECLINATION = -1e+32
OFFSET_ANGLE = -1e+32
SPACECRAFT_SOLAR_DISTANCE = 2.26479e+08
TARGET_NAME = MARS
/* CAMERA DATA ELEMENTS */
BUFFER_MODE_ID = BUFFER_8
EXPOSURE_DURATION = 5.04
INST_CMPRS_NAME = NONE
INST_CMPRS_RATIO = 1.0
INST_CMPRS_QUALITY = -2147483648
INST_CMPRS_QUANTZ_TBL_ID = -2147483648
INSTRUMENT_TEMPERATURE = 11.2121
MISSING_FRAMES = 0
START_BIT = 0
/* RADIOMETRIC DATA ELEMENTS */
BANDWIDTH = 250.0
CENTER_FILTER_WAVELENGTH = 600.0
RADIANCE_OFFSET = -9.99e+31
RADIANCE_SCALING_FACTOR = -9.99e+31
REFLECTANCE_SCALING_FACTOR = -9.99e+31
MEX:REFLECTANCE_OFFSET = -9.99e+31
/* IMAGE OBJECT DEFINITIONS */
OBJECT = IMAGE
  INTERCHANGE_FORMAT = BINARY
  LINES = 1452
  LINE_SAMPLES = 1457
  SAMPLE_TYPE = UNSIGNED_INTEGER
  SAMPLE_BITS = 8
  BANDS = 1
  BAND_STORAGE_TYPE = BAND_SEQUENTIAL
  MAXIMUM = 243
  MEAN = 128.521
  MINIMUM = 6
  STANDARD_DEVIATION = 29.275
END_OBJECT = IMAGE
/* MAP OBJECT DEFINITIONS */
OBJECT = IMAGE_MAP_PROJECTION
  ^DATA_SET_MAP_PROJECTION_CATALOG= "DSMAP.CAT"
  A_AXIS_RADIUS = 3396.19
  B_AXIS_RADIUS = 3396.19
  C_AXIS_RADIUS = 3396.19
  CENTER_LATITUDE = 0.0
  CENTER_LONGITUDE = 326.0
  COORDINATE_SYSTEM_NAME = PLANETOGRAPHIC
  COORDINATE_SYSTEM_TYPE = "BODY-FIXED ROTATING"
  EASTERNMOST_LONGITUDE = 325.723
  FIRST_STANDARD_PARALLEL = "N/A"
  LINE_FIRST_PIXEL = 1
  LINE_LAST_PIXEL = 1452
  LINE_PROJECTION_OFFSET = -1417296.0
  MAP_PROJECTION_ROTATION = 0.0
  MAP_PROJECTION_TYPE = SINUSOIDAL
  MAP_RESOLUTION = 23709.8786048756
  MAP_SCALE = 0.0025
  MAXIMUM_LATITUDE = -59.8812
  MINIMUM_LATITUDE = -59.9381
  POSITIVE_LONGITUDE_DIRECTION = EAST
  REFERENCE_LATITUDE = "N/A"
  REFERENCE_LONGITUDE = "N/A"
  SAMPLE_FIRST_PIXEL = 1
  SAMPLE_LAST_PIXEL = 1457
  SAMPLE_PROJECTION_OFFSET = 4687.0
  SECOND_STANDARD_PARALLEL = "N/A"
  WESTERNMOST_LONGITUDE = 325.609
END_OBJECT = IMAGE_MAP_PROJECTION
END
