PDS_VERSION_ID = PDS3
/* FILE DATA ELEMENTS */
RECORD_TYPE = UNDEFINED
/* POINTERS TO DATA OBJECTS */
^IMAGE = ("H2482_0005_SR4.TIF")
/* IDENTIFICATION DATA ELEMENTS */
DATA_SET_ID = "MEX-M-HRSC-4-REFDR-MAPPROJECT-EXT1-V4.0"
DATA_SET_NAME = "MARS EXPRESS HRSC MAP PROJECTED REFDR EXTENSION1 V4.0"
DETECTOR_ID = MEX_HRSC_SRC
EVENT_TYPE = "MARS-REGIONAL-MAPPING-Im-Fl-Gl"
INSTRUMENT_HOST_ID = MEX
INSTRUMENT_HOST_NAME = "MARS EXPRESS"
INSTRUMENT_ID = HRSC
INSTRUMENT_NAME = "HIGH RESOLUTION STEREO CAMERA"
MISSION_NAME = "MARS EXPRESS"
MISSION_PHASE_NAME = ME_Phase_1
PROCESSING_LEVEL_ID = 4
PRODUCT_CREATION_TIME = 2023-02-08T07:05:14.000Z
PRODUCT_ID = "H2482_0005_SR4.TIF"
RELEASE_ID = 0001
REVISION_ID = 0000
/* QUALITY DATA ELEMENTS */
DATA_QUALITY_ID = 1
DATA_QUALITY_DESC = "Data calculated based on original SPICE kernels"
/* TIME DATA ELEMENTS */
SPACECRAFT_CLOCK_START_COUNT = "1/0083003037.57297"
SPACECRAFT_CLOCK_STOP_COUNT = "1/0083003366.16240"
IMAGE_TIME = 2005-12-18T16:26:56.681Z
START_TIME = 2005-12-18T16:26:56.679Z
STOP_TIME = 2005-12-18T16:26:56.684Z
/* ORBITAL DATA ELEMENTS */
ASCENDING_NODE_LONGITUDE = 176.17
MAXIMUM_RESOLUTION = 0.003083
FOOTPRINT_POINT_LATITUDE = (-59.8505,-59.8536,-59.8573,-59.8594, -59.8621,-59.8643,-59.8675,-59.8704, -59.8731,-59.8757,-59.8786,-59.8809, -59.8836,-59.886,-59.888,-59.891, -59.8936,-59.8954,-59.8973,-59.8999, -59.9029,-59.9029,-59.9029,-59.9027, -59.9026,-59.9025,-59.9023,-59.9021, -59.902,-59.9018,-59.9016,-59.9014, -59.9012,-59.9011,-59.9009,-59.9007, -59.9006,-59.9004,-59.9003,-59.9001, -59.8999,-59.8997,-59.8995,-59.8994, -59.8992,-59.899,-59.8988,-59.8987, -59.8985,-59.8985,-59.8985,-59.8969, -59.8951,-59.8936,-59.8916,-59.8891, -59.887,-59.8841,-59.8824,-59.8796, -59.8763,-59.8738,-59.8719,-59.8687, -59.8668,-59.8651,-59.8631,-59.8598, -59.8567,-59.8547,-59.8531,-59.851, -59.8479,-59.846,-59.846,-59.846, -59.8462,-59.8464,-59.8465,-59.8467, -59.8469,-59.8471,-59.8473,-59.8475, -59.8477,-59.8479,-59.8481,-59.8484, -59.8487,-59.8489,-59.8491,-59.8493, -59.8496,-59.8497,-59.8499,-59.8501, -59.8503,-59.8504,-59.8505,-59.8505)
FOOTPRINT_POINT_LONGITUDE = (325.729,325.729,325.728,325.728, 325.727,325.727,325.726,325.726,325.725 ,325.725,325.724,325.724,325.724, 325.723,325.723,325.722,325.722,325.722 ,325.721,325.721,325.72,325.72,325.72, 325.716,325.713,325.71,325.706,325.701, 325.698,325.694,325.689,325.685,325.681 ,325.678,325.673,325.669,325.665, 325.662,325.658,325.654,325.65,325.644, 325.641,325.637,325.633,325.629,325.625 ,325.62,325.616,325.615,325.615,325.615 ,325.615,325.615,325.616,325.616, 325.617,325.617,325.617,325.618,325.618 ,325.619,325.619,325.62,325.62,325.62, 325.621,325.621,325.622,325.622,325.622 ,325.623,325.623,325.624,325.624, 325.624,325.628,325.632,325.636,325.639 ,325.645,325.65,325.654,325.658,325.663 ,325.668,325.674,325.679,325.686, 325.691,325.695,325.702,325.707,325.711 ,325.715,325.719,325.723,325.727, 325.728,325.729)
ORBIT_NUMBER = 2482
ORBITAL_ECCENTRICITY = 0.572
ORBITAL_INCLINATION = 86.63
ORBITAL_SEMIMAJOR_AXIS = 8529.42
PERIAPSIS_ALTITUDE = 276.14
PERIAPSIS_ARGUMENT_ANGLE = 282.05
PERIAPSIS_TIME = 2005-12-18T16:22:27.000Z
SPACECRAFT_ORIENTATION = (0.0,-1.0,0.0)
^MEX_ORIENTATION_DESC = "MEX_ORIENTATION_DESC.TXT"
SPACECRAFT_POINTING_MODE = NADIR
^MEX_POINTING_DESC = "MEX_POINTING_DESC.TXT"
RIGHT_ASCENSION = -1e+32
DECLINATION = -1e+32
OFFSET_ANGLE = -1e+32
SPACECRAFT_SOLAR_DISTANCE = 2.26479e+08
TARGET_NAME = MARS
/* CAMERA DATA ELEMENTS */
BUFFER_MODE_ID = BUFFER_8
EXPOSURE_DURATION = 5.04
INST_CMPRS_NAME = NONE
INST_CMPRS_RATIO = 1.0
INST_CMPRS_QUALITY = -2147483648
INST_CMPRS_QUANTZ_TBL_ID = -2147483648
INSTRUMENT_TEMPERATURE = 11.2121
MISSING_FRAMES = 0
START_BIT = 0
/* RADIOMETRIC DATA ELEMENTS */
BANDWIDTH = 250.0
CENTER_FILTER_WAVELENGTH = 600.0
RADIANCE_OFFSET = -9.99e+31
RADIANCE_SCALING_FACTOR = -9.99e+31
REFLECTANCE_SCALING_FACTOR = -9.99e+31
MEX:REFLECTANCE_OFFSET = -9.99e+31
/* IMAGE OBJECT DEFINITIONS */
OBJECT = IMAGE
  INTERCHANGE_FORMAT = BINARY
  LINES = 1452
  LINE_SAMPLES = 1458
  SAMPLE_TYPE = UNSIGNED_INTEGER
  SAMPLE_BITS = 8
  BANDS = 1
  BAND_STORAGE_TYPE = BAND_SEQUENTIAL
  MAXIMUM = 254
  MEAN = 148.397
  MINIMUM = 7
  STANDARD_DEVIATION = 32.1778
END_OBJECT = IMAGE
/* MAP OBJECT DEFINITIONS */
OBJECT = IMAGE_MAP_PROJECTION
  ^DATA_SET_MAP_PROJECTION_CATALOG= "DSMAP.CAT"
  A_AXIS_RADIUS = 3396.19
  B_AXIS_RADIUS = 3396.19
  C_AXIS_RADIUS = 3396.19
  CENTER_LATITUDE = 0.0
  CENTER_LONGITUDE = 326.0
  COORDINATE_SYSTEM_NAME = PLANETOGRAPHIC
  COORDINATE_SYSTEM_TYPE = "BODY-FIXED ROTATING"
  EASTERNMOST_LONGITUDE = 325.729
  FIRST_STANDARD_PARALLEL = "N/A"
  LINE_FIRST_PIXEL = 1
  LINE_LAST_PIXEL = 1452
  LINE_PROJECTION_OFFSET = -1416466.0
  MAP_PROJECTION_ROTATION = 0.0
  MAP_PROJECTION_TYPE = SINUSOIDAL
  MAP_RESOLUTION = 23709.8786048756
  MAP_SCALE = 0.0025
  MAXIMUM_LATITUDE = -59.846
  MINIMUM_LATITUDE = -59.9029
  POSITIVE_LONGITUDE_DIRECTION = EAST
  REFERENCE_LATITUDE = "N/A"
  REFERENCE_LONGITUDE = "N/A"
  SAMPLE_FIRST_PIXEL = 1
  SAMPLE_LAST_PIXEL = 1458
  SAMPLE_PROJECTION_OFFSET = 4620.0
  SECOND_STANDARD_PARALLEL = "N/A"
  WESTERNMOST_LONGITUDE = 325.615
END_OBJECT = IMAGE_MAP_PROJECTION
END
