PDS_VERSION_ID = PDS3
/* FILE DATA ELEMENTS */
RECORD_TYPE = UNDEFINED
/* POINTERS TO DATA OBJECTS */
^IMAGE = ("H2484_0000_P24.TIF")
/* IDENTIFICATION DATA ELEMENTS */
DATA_SET_ID = "MEX-M-HRSC-4-REFDR-MAPPROJECT-EXT1-V4.0"
DATA_SET_NAME = "MARS EXPRESS HRSC MAP PROJECTED REFDR EXTENSION1 V4.0"
DETECTOR_ID = MEX_HRSC_P2
EVENT_TYPE = "MARS-REGIONAL-MAPPING-Te-Fl-Gl"
INSTRUMENT_HOST_ID = MEX
INSTRUMENT_HOST_NAME = "MARS EXPRESS"
INSTRUMENT_ID = HRSC
INSTRUMENT_NAME = "HIGH RESOLUTION STEREO CAMERA"
MISSION_NAME = "MARS EXPRESS"
MISSION_PHASE_NAME = ME_Phase_1
PROCESSING_LEVEL_ID = 4
PRODUCT_CREATION_TIME = 2023-02-08T07:05:14.000Z
PRODUCT_ID = "H2484_0000_P24.TIF"
RELEASE_ID = 0001
REVISION_ID = 0000
/* QUALITY DATA ELEMENTS */
DATA_QUALITY_ID = 1
DATA_QUALITY_DESC = "Data calculated based on original SPICE kernels"
/* TIME DATA ELEMENTS */
SPACECRAFT_CLOCK_START_COUNT = "1/0083051440.57977"
SPACECRAFT_CLOCK_STOP_COUNT = "1/0083051767.49944"
START_TIME = 2005-12-19T05:51:31.145Z
STOP_TIME = 2005-12-19T05:55:56.317Z
/* ORBITAL DATA ELEMENTS */
ASCENDING_NODE_LONGITUDE = 176.13
MAXIMUM_RESOLUTION = 0.0497
FOOTPRINT_POINT_LATITUDE = (-67.057,-67.1818,-67.1828,-67.2455, -66.6762,-65.9582,-65.6679,-65.0937, -64.7979,-64.4988,-64.2035,-63.9094, -63.6147,-63.3159,-63.0098,-62.7062, -62.404,-62.1008,-61.7928,-61.4802, -61.1683,-60.8569,-60.5466,-60.0824, -59.7731,-59.4653,-59.1593,-58.8523, -58.5454,-58.2395,-57.8756,-57.5109, -56.9646,-56.6024,-56.2423,-55.8851, -55.5254,-55.1691,-54.6337,-54.2769, -53.9124,-53.5518,-53.0011,-52.6313, -52.2552,-51.8778,-51.496,-51.1113, -50.9192,-50.913,-50.8909,-50.8615, -50.8355,-50.8351,-50.8359,-51.4109, -51.794,-52.1707,-52.5516,-52.9205, -53.2884,-53.8296,-54.1918,-54.5431, -54.8943,-55.2496,-55.6088,-55.9695, -56.3282,-56.6875,-57.0481,-57.41, -57.774,-58.1372,-58.4423,-58.748, -59.0542,-59.3605,-59.6672,-59.9761, -60.4368,-60.7453,-61.2105,-61.5209, -61.8333,-62.1349,-62.4373,-62.74, -63.0431,-63.4932,-63.7868,-64.0816, -64.3766,-64.6732,-65.2539,-65.9687, -66.3987,-66.9689,-67.1076,-67.057)
FOOTPRINT_POINT_LONGITUDE = (126.147,128.678,128.703,128.761, 128.926,129.128,129.202,129.348,129.42, 129.489,129.559,129.627,129.693,129.758 ,129.821,129.884,129.946,130.005, 130.064,130.122,130.179,130.234,130.288 ,130.368,130.419,130.469,130.519, 130.566,130.613,130.658,130.71,130.761, 130.833,130.881,130.928,130.975,131.019 ,131.063,131.125,131.165,131.205, 131.246,131.305,131.343,131.381,131.418 ,131.455,131.49,131.508,131.509,130.66, 129.719,129.079,129.055,129.048,129.004 ,128.971,128.939,128.901,128.868, 128.835,128.782,128.746,128.711,128.675 ,128.635,128.591,128.545,128.499, 128.453,128.404,128.353,128.298,128.243 ,128.196,128.147,128.096,128.045, 127.992,127.935,127.852,127.793,127.699 ,127.635,127.567,127.5,127.431,127.36, 127.287,127.173,127.098,127.018,126.937 ,126.852,126.679,126.455,126.311,126.11 ,126.059,126.147)
ORBIT_NUMBER = 2484
ORBITAL_ECCENTRICITY = 0.572
ORBITAL_INCLINATION = 86.62
ORBITAL_SEMIMAJOR_AXIS = 8531.84
PERIAPSIS_ALTITUDE = 276.28
PERIAPSIS_ARGUMENT_ANGLE = 281.68
PERIAPSIS_TIME = 2005-12-19T05:48:31.000Z
SPACECRAFT_ORIENTATION = (0.0,-1.0,0.0)
^MEX_ORIENTATION_DESC = "MEX_ORIENTATION_DESC.TXT"
SPACECRAFT_POINTING_MODE = NADIR
^MEX_POINTING_DESC = "MEX_POINTING_DESC.TXT"
RIGHT_ASCENSION = -1e+32
DECLINATION = -1e+32
OFFSET_ANGLE = -1e+32
SPACECRAFT_SOLAR_DISTANCE = 2.26589e+08
TARGET_NAME = MARS
/* CAMERA DATA ELEMENTS */
DETECTOR_TEMPERATURE = 18.3705
FOCAL_PLANE_TEMPERATURE = 8.7872
INST_CMPRS_NAME = "DISCRETE COSINE TRANSFORMATION (DCT)"
INST_CMPRS_RATIO = 10.4232
INST_CMPRS_QUALITY = 0
INST_CMPRS_QUANTZ_TBL_ID = 0
INSTRUMENT_TEMPERATURE = 11.234
LENS_TEMPERATURE = 8.7872
MACROPIXEL_SIZE = 4
MISSING_FRAMES = 0
PIXEL_SUBSAMPLING_FLAG = N
SIGNAL_CHAIN_ID = 3
/* RADIOMETRIC DATA ELEMENTS */
BANDWIDTH = 177.0
CENTER_FILTER_WAVELENGTH = 676.5
RADIANCE_OFFSET = 2.86794
RADIANCE_SCALING_FACTOR = 0.0136966
REFLECTANCE_SCALING_FACTOR = 0.000372862
MEX:REFLECTANCE_OFFSET = 0.0780736
/* IMAGE OBJECT DEFINITIONS */
OBJECT = IMAGE
  INTERCHANGE_FORMAT = BINARY
  LINES = 19462
  LINE_SAMPLES = 3176
  SAMPLE_TYPE = UNSIGNED_INTEGER
  SAMPLE_BITS = 8
  BANDS = 1
  BAND_STORAGE_TYPE = BAND_SEQUENTIAL
  MAXIMUM = 255
  MEAN = 119.763
  MINIMUM = 1
  STANDARD_DEVIATION = 41.1099
END_OBJECT = IMAGE
/* MAP OBJECT DEFINITIONS */
OBJECT = IMAGE_MAP_PROJECTION
  ^DATA_SET_MAP_PROJECTION_CATALOG= "DSMAP.CAT"
  A_AXIS_RADIUS = 3396.0
  B_AXIS_RADIUS = 3396.0
  C_AXIS_RADIUS = 3396.0
  CENTER_LATITUDE = 0.0
  CENTER_LONGITUDE = 129.0
  COORDINATE_SYSTEM_NAME = PLANETOGRAPHIC
  COORDINATE_SYSTEM_TYPE = "BODY-FIXED ROTATING"
  EASTERNMOST_LONGITUDE = 131.509
  FIRST_STANDARD_PARALLEL = "N/A"
  LINE_FIRST_PIXEL = 1
  LINE_LAST_PIXEL = 19462
  LINE_PROJECTION_OFFSET = -60283.125
  MAP_PROJECTION_ROTATION = 0.0
  MAP_PROJECTION_TYPE = SINUSOIDAL
  MAP_RESOLUTION = 1185.42760773333
  MAP_SCALE = 0.05
  MAXIMUM_LATITUDE = -50.8351
  MINIMUM_LATITUDE = -67.24550000000001
  POSITIVE_LONGITUDE_DIRECTION = EAST
  REFERENCE_LATITUDE = "N/A"
  REFERENCE_LONGITUDE = "N/A"
  SAMPLE_FIRST_PIXEL = 1
  SAMPLE_LAST_PIXEL = 3176
  SAMPLE_PROJECTION_OFFSET = 1348.125
  SECOND_STANDARD_PARALLEL = "N/A"
  WESTERNMOST_LONGITUDE = 126.059
END_OBJECT = IMAGE_MAP_PROJECTION
END
