PDS_VERSION_ID = PDS3
/* FILE DATA ELEMENTS */
RECORD_TYPE = UNDEFINED
/* POINTERS TO DATA OBJECTS */
^IMAGE = ("H2486_0000_S14.TIF")
/* IDENTIFICATION DATA ELEMENTS */
DATA_SET_ID = "MEX-M-HRSC-4-REFDR-MAPPROJECT-EXT1-V4.0"
DATA_SET_NAME = "MARS EXPRESS HRSC MAP PROJECTED REFDR EXTENSION1 V4.0"
DETECTOR_ID = MEX_HRSC_S1
EVENT_TYPE = "MARS-REGIONAL-MAPPING-Gl-Pf-La"
INSTRUMENT_HOST_ID = MEX
INSTRUMENT_HOST_NAME = "MARS EXPRESS"
INSTRUMENT_ID = HRSC
INSTRUMENT_NAME = "HIGH RESOLUTION STEREO CAMERA"
MISSION_NAME = "MARS EXPRESS"
MISSION_PHASE_NAME = ME_Phase_1
PROCESSING_LEVEL_ID = 4
PRODUCT_CREATION_TIME = 2023-02-08T07:05:14.000Z
PRODUCT_ID = "H2486_0000_S14.TIF"
RELEASE_ID = 0001
REVISION_ID = 0000
/* QUALITY DATA ELEMENTS */
DATA_QUALITY_ID = 1
DATA_QUALITY_DESC = "Data calculated based on original SPICE kernels"
/* TIME DATA ELEMENTS */
SPACECRAFT_CLOCK_START_COUNT = "1/0083099647.56192"
SPACECRAFT_CLOCK_STOP_COUNT = "1/0083099888.55287"
START_TIME = 2005-12-19T19:14:14.706Z
STOP_TIME = 2005-12-19T19:17:19.319Z
/* ORBITAL DATA ELEMENTS */
ASCENDING_NODE_LONGITUDE = 176.09
MAXIMUM_RESOLUTION = 0.0231
FOOTPRINT_POINT_LATITUDE = (-78.1099,-78.2185,-78.2843,-78.3607, -78.3628,-78.2744,-77.9226,-77.6845, -77.3301,-77.09,-76.7346,-76.3791, -76.0196,-75.7797,-75.5382,-75.2975, -75.051,-74.6927,-74.4526,-74.21, -73.9682,-73.7257,-73.4794,-73.117, -72.875,-72.5115,-72.1451,-71.902, -71.6584,-71.4147,-71.1706,-70.9264, -70.6825,-70.4379,-70.1933,-69.9488, -69.7047,-69.4504,-69.1961,-68.8144, -68.4323,-68.0495,-67.7949,-67.4126, -67.157,-66.774,-66.3859,-66.121, -65.9885,-65.9659,-65.9395,-65.9038, -65.8405,-65.8391,-65.8389,-66.1025, -66.4938,-66.748,-67.1294,-67.3833, -67.6303,-67.8906,-68.1431,-68.5221, -68.9012,-69.1538,-69.4066,-69.7772, -70.0199,-70.261,-70.6251,-70.8685, -71.233,-71.4737,-71.7137,-71.9512, -72.1901,-72.4312,-72.7924,-73.1542, -73.3978,-73.6397,-73.8768,-74.1156, -74.3544,-74.5905,-74.8307,-75.1879, -75.4241,-75.6573,-75.8955,-76.1283, -76.3646,-76.7121,-76.946,-77.2973, -77.53,-77.8758,-77.9923,-78.1099)
FOOTPRINT_POINT_LONGITUDE = (281.082,282.745,283.856,285.275, 285.317,285.595,285.999,286.264,286.633 ,286.876,287.211,287.527,287.835, 288.031,288.222,288.406,288.595,288.843 ,289.003,289.163,289.317,289.466, 289.617,289.823,289.956,290.148,290.336 ,290.455,290.571,290.684,290.794, 290.901,291.005,291.107,291.206,291.303 ,291.396,291.492,291.584,291.719, 291.848,291.974,292.054,292.171,292.248 ,292.359,292.468,292.539,292.574, 292.581,291.968,291.235,290.09,290.066, 290.057,289.97,289.836,289.746,289.608, 289.512,289.411,289.313,289.209,289.048 ,288.881,288.765,288.646,288.467, 288.345,288.219,288.025,287.891,287.683 ,287.538,287.389,287.236,287.078, 286.916,286.665,286.402,286.22,286.032, 285.838,285.637,285.43,285.216,284.996, 284.651,284.411,284.162,283.906,283.639 ,283.364,282.931,282.63,282.156,281.825 ,281.304,281.123,281.082)
ORBIT_NUMBER = 2486
ORBITAL_ECCENTRICITY = 0.572
ORBITAL_INCLINATION = 86.62
ORBITAL_SEMIMAJOR_AXIS = 8529.96
PERIAPSIS_ALTITUDE = 276.31
PERIAPSIS_ARGUMENT_ANGLE = 281.35
PERIAPSIS_TIME = 2005-12-19T19:14:38.000Z
SPACECRAFT_ORIENTATION = (0.0,-1.0,0.0)
^MEX_ORIENTATION_DESC = "MEX_ORIENTATION_DESC.TXT"
SPACECRAFT_POINTING_MODE = NADIR
^MEX_POINTING_DESC = "MEX_POINTING_DESC.TXT"
RIGHT_ASCENSION = -1e+32
DECLINATION = -1e+32
OFFSET_ANGLE = -1e+32
SPACECRAFT_SOLAR_DISTANCE = 2.26698e+08
TARGET_NAME = MARS
/* CAMERA DATA ELEMENTS */
DETECTOR_TEMPERATURE = 17.351
FOCAL_PLANE_TEMPERATURE = 7.5638
INST_CMPRS_NAME = "DISCRETE COSINE TRANSFORMATION (DCT)"
INST_CMPRS_RATIO = 9.5217
INST_CMPRS_QUALITY = 0
INST_CMPRS_QUANTZ_TBL_ID = 0
INSTRUMENT_TEMPERATURE = 11.6418
LENS_TEMPERATURE = 8.5833
MACROPIXEL_SIZE = 2
MISSING_FRAMES = 0
PIXEL_SUBSAMPLING_FLAG = N
SIGNAL_CHAIN_ID = 1
/* RADIOMETRIC DATA ELEMENTS */
BANDWIDTH = 180.0
CENTER_FILTER_WAVELENGTH = 677.0
RADIANCE_OFFSET = 2.28376
RADIANCE_SCALING_FACTOR = 0.0116427
REFLECTANCE_SCALING_FACTOR = 0.000312171
MEX:REFLECTANCE_OFFSET = 0.0612336
/* IMAGE OBJECT DEFINITIONS */
OBJECT = IMAGE
  INTERCHANGE_FORMAT = BINARY
  LINES = 29502
  LINE_SAMPLES = 7382
  SAMPLE_TYPE = UNSIGNED_INTEGER
  SAMPLE_BITS = 8
  BANDS = 1
  BAND_STORAGE_TYPE = BAND_SEQUENTIAL
  MAXIMUM = 255
  MEAN = 139.153
  MINIMUM = 1
  STANDARD_DEVIATION = 37.0506
END_OBJECT = IMAGE
/* MAP OBJECT DEFINITIONS */
OBJECT = IMAGE_MAP_PROJECTION
  ^DATA_SET_MAP_PROJECTION_CATALOG= "DSMAP.CAT"
  A_AXIS_RADIUS = 3396.0
  B_AXIS_RADIUS = 3396.0
  C_AXIS_RADIUS = 3396.0
  CENTER_LATITUDE = 0.0
  CENTER_LONGITUDE = 289.0
  COORDINATE_SYSTEM_NAME = PLANETOGRAPHIC
  COORDINATE_SYSTEM_TYPE = "BODY-FIXED ROTATING"
  EASTERNMOST_LONGITUDE = 292.581
  FIRST_STANDARD_PARALLEL = "N/A"
  LINE_FIRST_PIXEL = 1
  LINE_LAST_PIXEL = 29502
  LINE_PROJECTION_OFFSET = -156066.25
  MAP_PROJECTION_ROTATION = 0.0
  MAP_PROJECTION_TYPE = SINUSOIDAL
  MAP_RESOLUTION = 2370.85521546667
  MAP_SCALE = 0.025
  MAXIMUM_LATITUDE = -65.8389
  MINIMUM_LATITUDE = -78.36279999999999
  POSITIVE_LONGITUDE_DIRECTION = EAST
  REFERENCE_LATITUDE = "N/A"
  REFERENCE_LONGITUDE = "N/A"
  SAMPLE_FIRST_PIXEL = 1
  SAMPLE_LAST_PIXEL = 7382
  SAMPLE_PROJECTION_OFFSET = 3892.25
  SECOND_STANDARD_PARALLEL = "N/A"
  WESTERNMOST_LONGITUDE = 281.082
END_OBJECT = IMAGE_MAP_PROJECTION
END
