PDS_VERSION_ID = PDS3
/* FILE DATA ELEMENTS */
RECORD_TYPE = UNDEFINED
/* POINTERS TO DATA OBJECTS */
^IMAGE = ("H2486_0001_IR4.TIF")
/* IDENTIFICATION DATA ELEMENTS */
DATA_SET_ID = "MEX-M-HRSC-4-REFDR-MAPPROJECT-EXT1-V4.0"
DATA_SET_NAME = "MARS EXPRESS HRSC MAP PROJECTED REFDR EXTENSION1 V4.0"
DETECTOR_ID = MEX_HRSC_IR
EVENT_TYPE = "MARS-REGIONAL-MAPPING-Te-Fl"
INSTRUMENT_HOST_ID = MEX
INSTRUMENT_HOST_NAME = "MARS EXPRESS"
INSTRUMENT_ID = HRSC
INSTRUMENT_NAME = "HIGH RESOLUTION STEREO CAMERA"
MISSION_NAME = "MARS EXPRESS"
MISSION_PHASE_NAME = ME_Phase_1
PROCESSING_LEVEL_ID = 4
PRODUCT_CREATION_TIME = 2023-02-08T07:05:14.000Z
PRODUCT_ID = "H2486_0001_IR4.TIF"
RELEASE_ID = 0001
REVISION_ID = 0000
/* QUALITY DATA ELEMENTS */
DATA_QUALITY_ID = 1
DATA_QUALITY_DESC = "Data calculated based on original SPICE kernels"
/* TIME DATA ELEMENTS */
SPACECRAFT_CLOCK_START_COUNT = "1/0083100184.57979"
SPACECRAFT_CLOCK_STOP_COUNT = "1/0083100815.08508"
START_TIME = 2005-12-19T19:23:19.524Z
STOP_TIME = 2005-12-19T19:29:21.441Z
/* ORBITAL DATA ELEMENTS */
ASCENDING_NODE_LONGITUDE = 176.09
MAXIMUM_RESOLUTION = 0.084
FOOTPRINT_POINT_LATITUDE = (-42.5164,-42.5458,-42.5646,-42.5748, -42.5751,-42.5445,-41.6905,-40.9952, -40.2884,-39.57,-38.8411,-38.0947, -37.7161,-37.3357,-36.9507,-36.5616, -36.1706,-35.7743,-35.3733,-34.969, -34.5613,-34.1484,-33.731,-33.31, -32.8844,-32.4548,-32.0207,-31.5814, -31.1387,-30.6915,-30.238,-29.7787, -29.3159,-28.8486,-28.3741,-27.8934, -27.1623,-26.6697,-26.1707,-25.4097, -24.9009,-24.3945,-23.8903,-23.388, -22.8873,-22.3881,-21.892,-21.3971, -21.1506,-21.0717,-21.0896,-21.1026, -21.1066,-21.1066,-21.103,-21.1027, -21.1044,-21.594,-22.0858,-22.5801, -23.3252,-23.8249,-24.3267,-24.8297, -25.3354,-26.0926,-26.5902,-27.0818, -27.5683,-28.0499,-28.5266,-29.0006, -29.4709,-29.9287,-30.6071,-31.0472, -31.4891,-31.9272,-32.3596,-33.002, -33.4253,-33.8415,-34.2551,-34.6656, -35.072,-35.473,-35.8707,-36.2656, -36.6558,-37.0428,-37.8031,-38.3643, -39.0998,-39.6499,-40.3638,-40.8903, -41.5828,-42.2629,-42.4316,-42.5164)
FOOTPRINT_POINT_LONGITUDE = (293.095,293.973,294.763,295.422, 295.445,295.466,295.51,295.544,295.578, 295.609,295.64,295.671,295.686,295.7, 295.715,295.729,295.743,295.757,295.77, 295.784,295.797,295.81,295.823,295.836, 295.849,295.861,295.873,295.885,295.896 ,295.907,295.919,295.93,295.941,295.951 ,295.961,295.972,295.988,295.997, 296.007,296.021,296.03,296.039,296.047, 296.054,296.062,296.069,296.076,296.083 ,296.086,296.087,295.309,294.437, 293.783,293.347,292.786,292.755,292.744 ,292.769,292.792,292.816,292.849, 292.871,292.893,292.913,292.933,292.961 ,292.978,292.995,293.01,293.025,293.04, 293.054,293.068,293.079,293.093,293.099 ,293.107,293.115,293.122,293.131, 293.137,293.141,293.145,293.148,293.151 ,293.153,293.154,293.155,293.156, 293.156,293.153,293.149,293.141,293.138 ,293.127,293.118,293.104,293.088, 293.083,293.095)
ORBIT_NUMBER = 2486
ORBITAL_ECCENTRICITY = 0.572
ORBITAL_INCLINATION = 86.62
ORBITAL_SEMIMAJOR_AXIS = 8529.96
PERIAPSIS_ALTITUDE = 276.31
PERIAPSIS_ARGUMENT_ANGLE = 281.35
PERIAPSIS_TIME = 2005-12-19T19:14:38.000Z
SPACECRAFT_ORIENTATION = (0.0,-1.0,0.0)
^MEX_ORIENTATION_DESC = "MEX_ORIENTATION_DESC.TXT"
SPACECRAFT_POINTING_MODE = NADIR
^MEX_POINTING_DESC = "MEX_POINTING_DESC.TXT"
RIGHT_ASCENSION = -1e+32
DECLINATION = -1e+32
OFFSET_ANGLE = -1e+32
SPACECRAFT_SOLAR_DISTANCE = 2.26698e+08
TARGET_NAME = MARS
/* CAMERA DATA ELEMENTS */
DETECTOR_TEMPERATURE = 18.5744
FOCAL_PLANE_TEMPERATURE = 8.3794
INST_CMPRS_NAME = "DISCRETE COSINE TRANSFORMATION (DCT)"
INST_CMPRS_RATIO = 20.4356
INST_CMPRS_QUALITY = 0
INST_CMPRS_QUANTZ_TBL_ID = 0
INSTRUMENT_TEMPERATURE = 13.0691
LENS_TEMPERATURE = 8.7872
MACROPIXEL_SIZE = 4
MISSING_FRAMES = 0
PIXEL_SUBSAMPLING_FLAG = N
SIGNAL_CHAIN_ID = 2
/* RADIOMETRIC DATA ELEMENTS */
BANDWIDTH = 81.0
CENTER_FILTER_WAVELENGTH = 955.5
RADIANCE_OFFSET = 0.808282
RADIANCE_SCALING_FACTOR = 0.00382554
REFLECTANCE_SCALING_FACTOR = 0.000424151
MEX:REFLECTANCE_OFFSET = 0.089617
/* IMAGE OBJECT DEFINITIONS */
OBJECT = IMAGE
  INTERCHANGE_FORMAT = BINARY
  LINES = 12729
  LINE_SAMPLES = 2083
  SAMPLE_TYPE = UNSIGNED_INTEGER
  SAMPLE_BITS = 8
  BANDS = 1
  BAND_STORAGE_TYPE = BAND_SEQUENTIAL
  MAXIMUM = 255
  MEAN = 102.874
  MINIMUM = 1
  STANDARD_DEVIATION = 31.608
END_OBJECT = IMAGE
/* MAP OBJECT DEFINITIONS */
OBJECT = IMAGE_MAP_PROJECTION
  ^DATA_SET_MAP_PROJECTION_CATALOG= "DSMAP.CAT"
  A_AXIS_RADIUS = 3396.0
  B_AXIS_RADIUS = 3396.0
  C_AXIS_RADIUS = 3396.0
  CENTER_LATITUDE = 0.0
  CENTER_LONGITUDE = 294.0
  COORDINATE_SYSTEM_NAME = PLANETOGRAPHIC
  COORDINATE_SYSTEM_TYPE = "BODY-FIXED ROTATING"
  EASTERNMOST_LONGITUDE = 296.087
  FIRST_STANDARD_PARALLEL = "N/A"
  LINE_FIRST_PIXEL = 1
  LINE_LAST_PIXEL = 12729
  LINE_PROJECTION_OFFSET = -12480.875
  MAP_PROJECTION_ROTATION = 0.0
  MAP_PROJECTION_TYPE = SINUSOIDAL
  MAP_RESOLUTION = 592.713803866667
  MAP_SCALE = 0.1
  MAXIMUM_LATITUDE = -21.0717
  MINIMUM_LATITUDE = -42.5751
  POSITIVE_LONGITUDE_DIRECTION = EAST
  REFERENCE_LATITUDE = "N/A"
  REFERENCE_LONGITUDE = "N/A"
  SAMPLE_FIRST_PIXEL = 1
  SAMPLE_LAST_PIXEL = 2083
  SAMPLE_PROJECTION_OFFSET = 818.375
  SECOND_STANDARD_PARALLEL = "N/A"
  WESTERNMOST_LONGITUDE = 292.744
END_OBJECT = IMAGE_MAP_PROJECTION
END
