PDS_VERSION_ID = PDS3
/* FILE DATA ELEMENTS */
RECORD_TYPE = UNDEFINED
/* POINTERS TO DATA OBJECTS */
^IMAGE = ("H2503_0000_ND4.TIF")
/* IDENTIFICATION DATA ELEMENTS */
DATA_SET_ID = "MEX-M-HRSC-4-REFDR-MAPPROJECT-EXT1-V4.0"
DATA_SET_NAME = "MARS EXPRESS HRSC MAP PROJECTED REFDR EXTENSION1 V4.0"
DETECTOR_ID = MEX_HRSC_NADIR
EVENT_TYPE = "MARS-REGIONAL-MAPPING-Vo-Im-Pf"
INSTRUMENT_HOST_ID = MEX
INSTRUMENT_HOST_NAME = "MARS EXPRESS"
INSTRUMENT_ID = HRSC
INSTRUMENT_NAME = "HIGH RESOLUTION STEREO CAMERA"
MISSION_NAME = "MARS EXPRESS"
MISSION_PHASE_NAME = ME_Phase_1
PROCESSING_LEVEL_ID = 4
PRODUCT_CREATION_TIME = 2023-02-08T07:05:14.000Z
PRODUCT_ID = "H2503_0000_ND4.TIF"
RELEASE_ID = 0001
REVISION_ID = 0000
/* QUALITY DATA ELEMENTS */
DATA_QUALITY_ID = 1
DATA_QUALITY_DESC = "Data calculated based on original SPICE kernels"
/* TIME DATA ELEMENTS */
SPACECRAFT_CLOCK_START_COUNT = "1/0083510923.56191"
SPACECRAFT_CLOCK_STOP_COUNT = "1/0083511276.15420"
START_TIME = 2005-12-24T13:29:16.551Z
STOP_TIME = 2005-12-24T13:33:53.560Z
/* ORBITAL DATA ELEMENTS */
ASCENDING_NODE_LONGITUDE = 175.73
MAXIMUM_RESOLUTION = 0.0119
FOOTPRINT_POINT_LATITUDE = (-69.7982,-69.8875,-69.9304,-69.9315, -69.9387,-69.1913,-68.4201,-67.8018, -67.1844,-66.8665,-66.5474,-66.2287, -65.9103,-65.5923,-65.2686,-64.9403, -64.6123,-64.2846,-63.9573,-63.4522, -63.115,-62.7782,-62.4419,-62.1061, -61.7706,-61.4356,-61.1011,-60.7672, -60.4338,-60.1008,-59.517,-59.1214, -58.7265,-58.3324,-57.939,-57.5465, -57.1548,-56.7639,-56.3738,-55.9846, -55.3889,-54.9913,-54.5844,-54.1783, -53.7645,-53.35,-52.9286,-52.506, -52.2913,-52.2831,-52.2598,-52.2314, -52.2087,-52.2077,-52.2075,-52.8433, -53.2637,-53.6771,-54.09,-54.495, -54.901,-55.2976,-55.892,-56.2802, -56.6693,-57.0591,-57.4498,-57.8412, -58.2334,-58.6264,-59.0201,-59.4146, -59.9977,-60.3297,-60.6621,-60.995, -61.3283,-61.6621,-61.9963,-62.3309, -62.666,-63.0015,-63.3374,-63.8408, -64.1668,-64.4932,-64.8199,-65.1469, -65.4692,-65.7859,-66.1029,-66.4201, -66.7376,-67.0541,-67.6683,-68.2832, -69.05,-69.6443,-69.7929,-69.7982)
FOOTPRINT_POINT_LONGITUDE = (59.3372,61.1353,62.1704,62.1994,62.348 ,62.5952,62.8272,63.0016,63.164,63.2444 ,63.3222,63.3986,63.4722,63.545,63.6153 ,63.6869,63.7536,63.8203,63.8844, 63.9794,64.04,64.0998,64.158,64.2141, 64.2683,64.3196,64.371,64.4223,64.4723, 64.5204,64.6007,64.6547,64.7064,64.758, 64.8074,64.8559,64.9034,64.9496,64.995, 65.0401,65.1073,65.1488,65.1915,65.2321 ,65.2723,65.3121,65.3501,65.3875, 65.4058,65.4065,64.3714,63.4495,62.8399 ,62.8146,62.8022,62.7564,62.7243, 62.6913,62.657,62.6218,62.5849,62.5479, 62.4895,62.4492,62.4068,62.3625,62.3159 ,62.2676,62.2169,62.164,62.1086,62.0506 ,61.961,61.9059,61.8491,61.791,61.7325, 61.6711,61.6086,61.5446,61.4766,61.4064 ,61.3338,61.2205,61.1439,61.0649, 60.9829,60.8979,60.8118,60.724,60.6331, 60.5391,60.4418,60.3414,60.137,59.9186, 59.6242,59.3788,59.315,59.3372)
ORBIT_NUMBER = 2503
ORBITAL_ECCENTRICITY = 0.572
ORBITAL_INCLINATION = 86.63
ORBITAL_SEMIMAJOR_AXIS = 8529.18
PERIAPSIS_ALTITUDE = 276.22
PERIAPSIS_ARGUMENT_ANGLE = 278.38
PERIAPSIS_TIME = 2005-12-24T13:26:24.000Z
SPACECRAFT_ORIENTATION = (0.0,-1.0,0.0)
^MEX_ORIENTATION_DESC = "MEX_ORIENTATION_DESC.TXT"
SPACECRAFT_POINTING_MODE = ACROSSTRACK
^MEX_POINTING_DESC = "MEX_POINTING_DESC.TXT"
RIGHT_ASCENSION = -1e+32
DECLINATION = -1e+32
OFFSET_ANGLE = -0.34
SPACECRAFT_SOLAR_DISTANCE = 2.27628e+08
TARGET_NAME = MARS
/* CAMERA DATA ELEMENTS */
DETECTOR_TEMPERATURE = 18.3705
FOCAL_PLANE_TEMPERATURE = 8.9911
INST_CMPRS_NAME = "DISCRETE COSINE TRANSFORMATION (DCT)"
INST_CMPRS_RATIO = 7.18054
INST_CMPRS_QUALITY = 0
INST_CMPRS_QUANTZ_TBL_ID = 0
INSTRUMENT_TEMPERATURE = 10.4184
LENS_TEMPERATURE = 9.6028
MACROPIXEL_SIZE = 1
MISSING_FRAMES = 0
PIXEL_SUBSAMPLING_FLAG = N
SIGNAL_CHAIN_ID = 0
/* RADIOMETRIC DATA ELEMENTS */
BANDWIDTH = 177.0
CENTER_FILTER_WAVELENGTH = 677.5
RADIANCE_OFFSET = 2.36921
RADIANCE_SCALING_FACTOR = 0.017634
REFLECTANCE_SCALING_FACTOR = 0.000485387
MEX:REFLECTANCE_OFFSET = 0.0652141
/* IMAGE OBJECT DEFINITIONS */
OBJECT = IMAGE
  INTERCHANGE_FORMAT = BINARY
  LINES = 84078
  LINE_SAMPLES = 13020
  SAMPLE_TYPE = UNSIGNED_INTEGER
  SAMPLE_BITS = 8
  BANDS = 1
  BAND_STORAGE_TYPE = BAND_SEQUENTIAL
  MAXIMUM = 255
  MEAN = 103.414
  MINIMUM = 1
  STANDARD_DEVIATION = 46.5813
END_OBJECT = IMAGE
/* MAP OBJECT DEFINITIONS */
OBJECT = IMAGE_MAP_PROJECTION
  ^DATA_SET_MAP_PROJECTION_CATALOG= "DSMAP.CAT"
  A_AXIS_RADIUS = 3396.0
  B_AXIS_RADIUS = 3396.0
  C_AXIS_RADIUS = 3396.0
  CENTER_LATITUDE = 0.0
  CENTER_LONGITUDE = 63.0
  COORDINATE_SYSTEM_NAME = PLANETOGRAPHIC
  COORDINATE_SYSTEM_TYPE = "BODY-FIXED ROTATING"
  EASTERNMOST_LONGITUDE = 65.40649999999999
  FIRST_STANDARD_PARALLEL = "N/A"
  LINE_FIRST_PIXEL = 1
  LINE_LAST_PIXEL = 84078
  LINE_PROJECTION_OFFSET = -247553.0
  MAP_PROJECTION_ROTATION = 0.0
  MAP_PROJECTION_TYPE = SINUSOIDAL
  MAP_RESOLUTION = 4741.71043093333
  MAP_SCALE = 0.0125
  MAXIMUM_LATITUDE = -52.2075
  MINIMUM_LATITUDE = -69.9387
  POSITIVE_LONGITUDE_DIRECTION = EAST
  REFERENCE_LATITUDE = "N/A"
  REFERENCE_LONGITUDE = "N/A"
  SAMPLE_FIRST_PIXEL = 1
  SAMPLE_LAST_PIXEL = 13020
  SAMPLE_PROJECTION_OFFSET = 6038.0
  SECOND_STANDARD_PARALLEL = "N/A"
  WESTERNMOST_LONGITUDE = 59.315
END_OBJECT = IMAGE_MAP_PROJECTION
END
