PDS_VERSION_ID = PDS3
/* FILE DATA ELEMENTS */
RECORD_TYPE = UNDEFINED
/* POINTERS TO DATA OBJECTS */
^IMAGE = ("H2503_0000_S24.TIF")
/* IDENTIFICATION DATA ELEMENTS */
DATA_SET_ID = "MEX-M-HRSC-4-REFDR-MAPPROJECT-EXT1-V4.0"
DATA_SET_NAME = "MARS EXPRESS HRSC MAP PROJECTED REFDR EXTENSION1 V4.0"
DETECTOR_ID = MEX_HRSC_S2
EVENT_TYPE = "MARS-REGIONAL-MAPPING-Vo-Im-Pf"
INSTRUMENT_HOST_ID = MEX
INSTRUMENT_HOST_NAME = "MARS EXPRESS"
INSTRUMENT_ID = HRSC
INSTRUMENT_NAME = "HIGH RESOLUTION STEREO CAMERA"
MISSION_NAME = "MARS EXPRESS"
MISSION_PHASE_NAME = ME_Phase_1
PROCESSING_LEVEL_ID = 4
PRODUCT_CREATION_TIME = 2023-02-08T07:05:14.000Z
PRODUCT_ID = "H2503_0000_S24.TIF"
RELEASE_ID = 0001
REVISION_ID = 0000
/* QUALITY DATA ELEMENTS */
DATA_QUALITY_ID = 1
DATA_QUALITY_DESC = "Data calculated based on original SPICE kernels"
/* TIME DATA ELEMENTS */
SPACECRAFT_CLOCK_START_COUNT = "1/0083510923.56191"
SPACECRAFT_CLOCK_STOP_COUNT = "1/0083511276.15420"
START_TIME = 2005-12-24T13:29:44.184Z
STOP_TIME = 2005-12-24T13:34:41.100Z
/* ORBITAL DATA ELEMENTS */
ASCENDING_NODE_LONGITUDE = 175.73
MAXIMUM_RESOLUTION = 0.0263
FOOTPRINT_POINT_LATITUDE = (-69.6813,-69.7353,-69.7857,-69.841, -69.8424,-69.9422,-69.4906,-68.8865, -68.5756,-68.2653,-67.6465,-67.1765, -66.8579,-66.3808,-66.064,-65.7433, -65.254,-64.7672,-64.4433,-63.9594, -63.6365,-63.3152,-62.994,-62.674, -62.3549,-61.8131,-61.4328,-61.0556, -60.6794,-60.3059,-59.9321,-59.5584, -59.1878,-58.8183,-58.4512,-57.8906, -57.5168,-57.137,-56.7567,-56.3719, -55.9863,-55.5964,-55.0048,-54.6077, -54.203,-53.7959,-53.3851,-52.9714, -52.5601,-52.3549,-52.325,-52.2985, -52.257,-52.2218,-52.2206,-52.2208, -52.6305,-53.0422,-53.6597,-54.0643, -54.6664,-55.0641,-55.454,-55.8438, -56.2264,-56.6098,-56.9882,-57.3674, -57.7391,-58.2971,-58.6637,-59.032, -59.4026,-59.7743,-60.3411,-60.7205, -61.2857,-61.6626,-62.0362,-62.3563, -62.8347,-63.1544,-63.4747,-63.7948, -64.1164,-64.4377,-64.7616,-65.2466, -65.5717,-65.8919,-66.2076,-66.5243, -66.8414,-67.3137,-68.0828,-68.3915, -68.8544,-69.6006,-69.7496,-69.6813)
FOOTPRINT_POINT_LONGITUDE = (59.3503,60.2542,61.1713,62.2787, 62.3081,62.4245,62.5763,62.7689,62.8625 ,62.9533,63.1264,63.2498,63.331,63.448, 63.5236,63.5982,63.707,63.8118,63.8789, 63.9766,64.0383,64.099,64.1575,64.2148, 64.2706,64.361,64.4212,64.481,64.539, 64.5964,64.6511,64.7032,64.7554,64.806, 64.856,64.9289,64.9769,65.0249,65.0719, 65.1189,65.1654,65.2118,65.2783,65.3242 ,65.3659,65.4078,65.45,65.4899,65.5291, 65.5481,65.5508,64.6868,63.5553,62.7348 ,62.7075,62.6976,62.6705,62.6417, 62.5962,62.5649,62.515,62.4803,62.4452, 62.4081,62.3708,62.3311,62.29,62.2469, 62.2029,62.1332,62.085,62.0344,61.9812, 61.9259,61.8352,61.7715,61.6741,61.6064 ,61.538,61.4774,61.381,61.3139,61.2446, 61.1733,61.0991,61.0227,60.9426,60.8181 ,60.7308,60.6421,60.5514,60.4573,60.36, 60.2088,59.9457,59.8336,59.6582,59.3561 ,59.2927,59.3503)
ORBIT_NUMBER = 2503
ORBITAL_ECCENTRICITY = 0.572
ORBITAL_INCLINATION = 86.63
ORBITAL_SEMIMAJOR_AXIS = 8529.18
PERIAPSIS_ALTITUDE = 276.22
PERIAPSIS_ARGUMENT_ANGLE = 278.38
PERIAPSIS_TIME = 2005-12-24T13:26:24.000Z
SPACECRAFT_ORIENTATION = (0.0,-1.0,0.0)
^MEX_ORIENTATION_DESC = "MEX_ORIENTATION_DESC.TXT"
SPACECRAFT_POINTING_MODE = ACROSSTRACK
^MEX_POINTING_DESC = "MEX_POINTING_DESC.TXT"
RIGHT_ASCENSION = -1e+32
DECLINATION = -1e+32
OFFSET_ANGLE = -0.34
SPACECRAFT_SOLAR_DISTANCE = 2.27628e+08
TARGET_NAME = MARS
/* CAMERA DATA ELEMENTS */
DETECTOR_TEMPERATURE = 18.3705
FOCAL_PLANE_TEMPERATURE = 8.9911
INST_CMPRS_NAME = "DISCRETE COSINE TRANSFORMATION (DCT)"
INST_CMPRS_RATIO = 13.2153
INST_CMPRS_QUALITY = 0
INST_CMPRS_QUANTZ_TBL_ID = 0
INSTRUMENT_TEMPERATURE = 10.4184
LENS_TEMPERATURE = 9.6028
MACROPIXEL_SIZE = 2
MISSING_FRAMES = 0
PIXEL_SUBSAMPLING_FLAG = N
SIGNAL_CHAIN_ID = 1
/* RADIOMETRIC DATA ELEMENTS */
BANDWIDTH = 178.0
CENTER_FILTER_WAVELENGTH = 679.0
RADIANCE_OFFSET = 2.95425
RADIANCE_SCALING_FACTOR = 0.0188023
REFLECTANCE_SCALING_FACTOR = 0.000515934
MEX:REFLECTANCE_OFFSET = 0.0810641
/* IMAGE OBJECT DEFINITIONS */
OBJECT = IMAGE
  INTERCHANGE_FORMAT = BINARY
  LINES = 42039
  LINE_SAMPLES = 6510
  SAMPLE_TYPE = UNSIGNED_INTEGER
  SAMPLE_BITS = 8
  BANDS = 1
  BAND_STORAGE_TYPE = BAND_SEQUENTIAL
  MAXIMUM = 255
  MEAN = 103.937
  MINIMUM = 1
  STANDARD_DEVIATION = 48.0265
END_OBJECT = IMAGE
/* MAP OBJECT DEFINITIONS */
OBJECT = IMAGE_MAP_PROJECTION
  ^DATA_SET_MAP_PROJECTION_CATALOG= "DSMAP.CAT"
  A_AXIS_RADIUS = 3396.0
  B_AXIS_RADIUS = 3396.0
  C_AXIS_RADIUS = 3396.0
  CENTER_LATITUDE = 0.0
  CENTER_LONGITUDE = 63.0
  COORDINATE_SYSTEM_NAME = PLANETOGRAPHIC
  COORDINATE_SYSTEM_TYPE = "BODY-FIXED ROTATING"
  EASTERNMOST_LONGITUDE = 65.5508
  FIRST_STANDARD_PARALLEL = "N/A"
  LINE_FIRST_PIXEL = 1
  LINE_LAST_PIXEL = 42039
  LINE_PROJECTION_OFFSET = -123776.75
  MAP_PROJECTION_ROTATION = 0.0
  MAP_PROJECTION_TYPE = SINUSOIDAL
  MAP_RESOLUTION = 2370.85521546667
  MAP_SCALE = 0.025
  MAXIMUM_LATITUDE = -52.2206
  MINIMUM_LATITUDE = -69.9422
  POSITIVE_LONGITUDE_DIRECTION = EAST
  REFERENCE_LATITUDE = "N/A"
  REFERENCE_LONGITUDE = "N/A"
  SAMPLE_FIRST_PIXEL = 1
  SAMPLE_LAST_PIXEL = 6510
  SAMPLE_PROJECTION_OFFSET = 3018.75
  SECOND_STANDARD_PARALLEL = "N/A"
  WESTERNMOST_LONGITUDE = 59.2927
END_OBJECT = IMAGE_MAP_PROJECTION
END
