PDS_VERSION_ID = PDS3
/* FILE DATA ELEMENTS */
RECORD_TYPE = UNDEFINED
/* POINTERS TO DATA OBJECTS */
^IMAGE = ("H2507_0000_IR4.TIF")
/* IDENTIFICATION DATA ELEMENTS */
DATA_SET_ID = "MEX-M-HRSC-4-REFDR-MAPPROJECT-EXT1-V4.0"
DATA_SET_NAME = "MARS EXPRESS HRSC MAP PROJECTED REFDR EXTENSION1 V4.0"
DETECTOR_ID = MEX_HRSC_IR
EVENT_TYPE = "MARS-REGIONAL-MAPPING-Vo-Te-Gl"
INSTRUMENT_HOST_ID = MEX
INSTRUMENT_HOST_NAME = "MARS EXPRESS"
INSTRUMENT_ID = HRSC
INSTRUMENT_NAME = "HIGH RESOLUTION STEREO CAMERA"
MISSION_NAME = "MARS EXPRESS"
MISSION_PHASE_NAME = ME_Phase_1
PROCESSING_LEVEL_ID = 4
PRODUCT_CREATION_TIME = 2023-02-08T07:05:14.000Z
PRODUCT_ID = "H2507_0000_IR4.TIF"
RELEASE_ID = 0001
REVISION_ID = 0000
/* QUALITY DATA ELEMENTS */
DATA_QUALITY_ID = 1
DATA_QUALITY_DESC = "Data calculated based on original SPICE kernels"
/* TIME DATA ELEMENTS */
SPACECRAFT_CLOCK_START_COUNT = "1/0083607600.57938"
SPACECRAFT_CLOCK_STOP_COUNT = "1/0083607970.63113"
START_TIME = 2005-12-25T16:20:12.023Z
STOP_TIME = 2005-12-25T16:25:00.099Z
/* ORBITAL DATA ELEMENTS */
ASCENDING_NODE_LONGITUDE = 175.65
MAXIMUM_RESOLUTION = 0.0469
FOOTPRINT_POINT_LATITUDE = (-73.9492,-74.0471,-74.1777,-74.1796, -74.1062,-73.6092,-73.2773,-72.7797, -72.4477,-72.1156,-71.6107,-70.9451, -70.6008,-70.2561,-69.9087,-69.5622, -69.2158,-68.8627,-68.5162,-67.9794, -67.6213,-67.265,-66.9075,-66.547, -66.1787,-65.6193,-65.062,-64.6892, -64.3043,-63.7274,-63.3441,-62.9565, -62.5601,-62.1636,-61.5704,-61.1754, -60.7768,-60.3778,-59.9879,-59.5929, -59.1987,-58.7595,-58.29,-57.822, -57.3542,-56.6522,-56.1852,-55.7197, -55.2552,-55.0226,-54.9635,-54.9308, -54.8983,-54.8326,-54.831,-54.8315, -55.2943,-55.7587,-56.4577,-56.9223, -57.3888,-58.0868,-58.5566,-59.0022, -59.3948,-59.7888,-60.379,-60.9692, -61.3635,-61.7569,-62.1515,-62.5464, -62.9399,-63.3224,-63.7055,-64.0889, -64.4723,-64.8446,-65.2127,-65.5832, -65.9537,-66.321,-66.6789,-67.216, -67.5694,-67.9262,-68.2814,-68.7968, -69.1473,-69.4908,-69.8347,-70.1775, -70.6934,-71.5228,-71.8521,-72.6737, -73.3287,-73.6558,-73.8194,-73.9492)
FOOTPRINT_POINT_LONGITUDE = (21.3747,22.6702,24.6377,24.6684, 24.7546,25.1078,25.3314,25.6496,25.8512 ,26.045,26.3258,26.6717,26.8411,27.0038 ,27.1626,27.3149,27.4619,27.6064, 27.7433,27.9463,28.0755,28.1993,28.3196 ,28.4378,28.5545,28.7245,28.8852, 28.9888,29.0926,29.2412,29.3359,29.4288 ,29.5208,29.61,29.738,29.8199,29.9012, 29.9804,30.0529,30.1259,30.1964,30.2726 ,30.3514,30.4271,30.5003,30.6062, 30.6737,30.7386,30.8012,30.8321,30.8396 ,30.1177,29.5047,28.4307,28.4077, 28.3999,28.3374,28.2729,28.1716,28.0986 ,28.0234,27.902,27.82,27.7351,27.6588, 27.5808,27.457,27.3256,27.2345,27.1389, 27.0405,26.9386,26.833,26.7268,26.6171, 26.5035,26.3854,26.2683,26.143,26.0153, 25.883,25.7461,25.6087,25.3934,25.2381, 25.0808,24.9172,24.6695,24.4944,24.315, 24.1294,23.9354,23.6336,23.1006,22.8744 ,22.268,21.7356,21.4525,21.3066, 21.3747)
ORBIT_NUMBER = 2507
ORBITAL_ECCENTRICITY = 0.572
ORBITAL_INCLINATION = 86.61
ORBITAL_SEMIMAJOR_AXIS = 8529.25
PERIAPSIS_ALTITUDE = 276.8
PERIAPSIS_ARGUMENT_ANGLE = 277.67
PERIAPSIS_TIME = 2005-12-25T16:18:34.000Z
SPACECRAFT_ORIENTATION = (0.0,-1.0,0.0)
^MEX_ORIENTATION_DESC = "MEX_ORIENTATION_DESC.TXT"
SPACECRAFT_POINTING_MODE = ACROSSTRACK
^MEX_POINTING_DESC = "MEX_POINTING_DESC.TXT"
RIGHT_ASCENSION = -1e+32
DECLINATION = -1e+32
OFFSET_ANGLE = 0.35
SPACECRAFT_SOLAR_DISTANCE = 2.27846e+08
TARGET_NAME = MARS
/* CAMERA DATA ELEMENTS */
DETECTOR_TEMPERATURE = 18.5744
FOCAL_PLANE_TEMPERATURE = 8.7872
INST_CMPRS_NAME = "DISCRETE COSINE TRANSFORMATION (DCT)"
INST_CMPRS_RATIO = 10.4669
INST_CMPRS_QUALITY = 0
INST_CMPRS_QUANTZ_TBL_ID = 0
INSTRUMENT_TEMPERATURE = 11.4379
LENS_TEMPERATURE = 9.3989
MACROPIXEL_SIZE = 4
PIXEL_SUBSAMPLING_FLAG = N
SIGNAL_CHAIN_ID = 2
/* RADIOMETRIC DATA ELEMENTS */
BANDWIDTH = 81.0
CENTER_FILTER_WAVELENGTH = 955.5
RADIANCE_OFFSET = 0.544945
RADIANCE_SCALING_FACTOR = 0.00313432
REFLECTANCE_SCALING_FACTOR = 0.000351041
MEX:REFLECTANCE_OFFSET = 0.0610332
/* IMAGE OBJECT DEFINITIONS */
OBJECT = IMAGE
  INTERCHANGE_FORMAT = BINARY
  LINES = 22828
  LINE_SAMPLES = 4562
  SAMPLE_TYPE = UNSIGNED_INTEGER
  SAMPLE_BITS = 8
  BANDS = 1
  BAND_STORAGE_TYPE = BAND_SEQUENTIAL
  MAXIMUM = 255
  MEAN = 122.144
  MINIMUM = 1
  STANDARD_DEVIATION = 34.3447
END_OBJECT = IMAGE
/* MAP OBJECT DEFINITIONS */
OBJECT = IMAGE_MAP_PROJECTION
  ^DATA_SET_MAP_PROJECTION_CATALOG= "DSMAP.CAT"
  A_AXIS_RADIUS = 3396.0
  B_AXIS_RADIUS = 3396.0
  C_AXIS_RADIUS = 3396.0
  CENTER_LATITUDE = 0.0
  CENTER_LONGITUDE = 27.0
  COORDINATE_SYSTEM_NAME = PLANETOGRAPHIC
  COORDINATE_SYSTEM_TYPE = "BODY-FIXED ROTATING"
  EASTERNMOST_LONGITUDE = 30.8396
  FIRST_STANDARD_PARALLEL = "N/A"
  LINE_FIRST_PIXEL = 1
  LINE_LAST_PIXEL = 22828
  LINE_PROJECTION_OFFSET = -65004.125
  MAP_PROJECTION_ROTATION = 0.0
  MAP_PROJECTION_TYPE = SINUSOIDAL
  MAP_RESOLUTION = 1185.42760773333
  MAP_SCALE = 0.05
  MAXIMUM_LATITUDE = -54.831
  MINIMUM_LATITUDE = -74.17959999999999
  POSITIVE_LONGITUDE_DIRECTION = EAST
  REFERENCE_LATITUDE = "N/A"
  REFERENCE_LONGITUDE = "N/A"
  SAMPLE_FIRST_PIXEL = 1
  SAMPLE_LAST_PIXEL = 4562
  SAMPLE_PROJECTION_OFFSET = 1897.625
  SECOND_STANDARD_PARALLEL = "N/A"
  WESTERNMOST_LONGITUDE = 21.3066
END_OBJECT = IMAGE_MAP_PROJECTION
END
