PDS_VERSION_ID = PDS3
/* FILE DATA ELEMENTS */
RECORD_TYPE = UNDEFINED
/* POINTERS TO DATA OBJECTS */
^IMAGE = ("H2507_0000_P24.TIF")
/* IDENTIFICATION DATA ELEMENTS */
DATA_SET_ID = "MEX-M-HRSC-4-REFDR-MAPPROJECT-EXT1-V4.0"
DATA_SET_NAME = "MARS EXPRESS HRSC MAP PROJECTED REFDR EXTENSION1 V4.0"
DETECTOR_ID = MEX_HRSC_P2
EVENT_TYPE = "MARS-REGIONAL-MAPPING-Vo-Te-Gl"
INSTRUMENT_HOST_ID = MEX
INSTRUMENT_HOST_NAME = "MARS EXPRESS"
INSTRUMENT_ID = HRSC
INSTRUMENT_NAME = "HIGH RESOLUTION STEREO CAMERA"
MISSION_NAME = "MARS EXPRESS"
MISSION_PHASE_NAME = ME_Phase_1
PROCESSING_LEVEL_ID = 4
PRODUCT_CREATION_TIME = 2023-02-08T07:05:14.000Z
PRODUCT_ID = "H2507_0000_P24.TIF"
RELEASE_ID = 0001
REVISION_ID = 0000
/* QUALITY DATA ELEMENTS */
DATA_QUALITY_ID = 1
DATA_QUALITY_DESC = "Data calculated based on original SPICE kernels"
/* TIME DATA ELEMENTS */
SPACECRAFT_CLOCK_START_COUNT = "1/0083607600.57938"
SPACECRAFT_CLOCK_STOP_COUNT = "1/0083607970.63113"
START_TIME = 2005-12-25T16:20:49.655Z
STOP_TIME = 2005-12-25T16:25:59.566Z
/* ORBITAL DATA ELEMENTS */
ASCENDING_NODE_LONGITUDE = 175.65
MAXIMUM_RESOLUTION = 0.0477
FOOTPRINT_POINT_LATITUDE = (-73.8112,-73.8924,-73.9994,-74.0009, -74.0646,-73.4183,-72.7483,-72.413, -71.7429,-71.0739,-70.5564,-70.2097, -69.865,-69.5201,-69.1757,-68.6441, -68.2885,-67.9335,-67.5775,-67.2141, -66.847,-66.4831,-65.9373,-65.5624, -65.1875,-64.8144,-64.4418,-64.0706, -63.6989,-63.3274,-62.9573,-62.404, -61.7876,-61.3503,-60.9146,-60.4847, -60.0473,-59.6155,-59.1848,-58.7551, -58.3267,-57.8915,-57.4539,-57.0109, -56.5659,-56.1131,-55.6587,-55.1954, -54.9634,-54.9289,-54.9024,-54.8819, -54.8399,-54.8389,-54.8396,-55.3005, -55.9837,-56.4352,-56.8798,-57.3224, -57.7578,-58.4061,-59.0484,-59.4774, -59.9074,-60.3395,-60.7728,-61.2069, -61.6429,-62.0778,-62.6283,-62.9959, -63.3645,-63.7337,-64.2886,-64.6587, -65.2179,-65.5907,-65.9587,-66.5022, -66.8643,-67.2276,-67.5839,-67.9369, -68.2903,-68.6443,-68.996,-69.3379, -69.6798,-70.0224,-70.3639,-70.7074, -71.2103,-71.7075,-72.3705,-72.7023, -73.1995,-73.6786,-73.8383,-73.8112)
FOOTPRINT_POINT_LONGITUDE = (21.449,22.7909,24.8223,24.854,24.845, 25.3001,25.7337,25.9379,26.3222,26.6774 ,26.9349,27.0989,27.2568,27.4089, 27.5556,27.7721,27.9107,28.0443,28.1732 ,28.2999,28.424,28.5441,28.7164,28.8301 ,28.9399,29.0461,29.1488,29.2483, 29.3444,29.4372,29.5272,29.6571,29.7948 ,29.8889,29.9798,30.0687,30.1524, 30.2343,30.3133,30.3897,30.4636,30.5364 ,30.6072,30.6773,30.7456,30.8129, 30.8782,30.943,30.9743,30.979,30.0267, 29.3959,28.3037,28.278,28.2694,28.2098, 28.1182,28.0543,27.987,27.9182,27.8477, 27.7357,27.6182,27.537,27.4526,27.3631, 27.2697,27.173,27.0705,26.9644,26.8243, 26.727,26.6259,26.5211,26.3569,26.2437, 26.0592,25.932,25.8017,25.5997,25.4607, 25.3145,25.1588,25.0035,24.8421,24.6736 ,24.5023,24.3283,24.1485,23.9601, 23.7685,23.5632,23.2471,22.9163,22.4433 ,22.1909,21.7914,21.3815,21.2391, 21.449)
ORBIT_NUMBER = 2507
ORBITAL_ECCENTRICITY = 0.572
ORBITAL_INCLINATION = 86.61
ORBITAL_SEMIMAJOR_AXIS = 8529.25
PERIAPSIS_ALTITUDE = 276.8
PERIAPSIS_ARGUMENT_ANGLE = 277.67
PERIAPSIS_TIME = 2005-12-25T16:18:34.000Z
SPACECRAFT_ORIENTATION = (0.0,-1.0,0.0)
^MEX_ORIENTATION_DESC = "MEX_ORIENTATION_DESC.TXT"
SPACECRAFT_POINTING_MODE = ACROSSTRACK
^MEX_POINTING_DESC = "MEX_POINTING_DESC.TXT"
RIGHT_ASCENSION = -1e+32
DECLINATION = -1e+32
OFFSET_ANGLE = 0.35
SPACECRAFT_SOLAR_DISTANCE = 2.27846e+08
TARGET_NAME = MARS
/* CAMERA DATA ELEMENTS */
DETECTOR_TEMPERATURE = 18.5744
FOCAL_PLANE_TEMPERATURE = 8.7872
INST_CMPRS_NAME = "DISCRETE COSINE TRANSFORMATION (DCT)"
INST_CMPRS_RATIO = 10.1812
INST_CMPRS_QUALITY = 0
INST_CMPRS_QUANTZ_TBL_ID = 0
INSTRUMENT_TEMPERATURE = 11.4379
LENS_TEMPERATURE = 9.3989
MACROPIXEL_SIZE = 4
MISSING_FRAMES = 0
PIXEL_SUBSAMPLING_FLAG = N
SIGNAL_CHAIN_ID = 3
/* RADIOMETRIC DATA ELEMENTS */
BANDWIDTH = 177.0
CENTER_FILTER_WAVELENGTH = 676.5
RADIANCE_OFFSET = 2.28866
RADIANCE_SCALING_FACTOR = 0.0130024
REFLECTANCE_SCALING_FACTOR = 0.000357903
MEX:REFLECTANCE_OFFSET = 0.0629973
/* IMAGE OBJECT DEFINITIONS */
OBJECT = IMAGE
  INTERCHANGE_FORMAT = BINARY
  LINES = 22828
  LINE_SAMPLES = 4562
  SAMPLE_TYPE = UNSIGNED_INTEGER
  SAMPLE_BITS = 8
  BANDS = 1
  BAND_STORAGE_TYPE = BAND_SEQUENTIAL
  MAXIMUM = 255
  MEAN = 119.153
  MINIMUM = 1
  STANDARD_DEVIATION = 35.0632
END_OBJECT = IMAGE
/* MAP OBJECT DEFINITIONS */
OBJECT = IMAGE_MAP_PROJECTION
  ^DATA_SET_MAP_PROJECTION_CATALOG= "DSMAP.CAT"
  A_AXIS_RADIUS = 3396.0
  B_AXIS_RADIUS = 3396.0
  C_AXIS_RADIUS = 3396.0
  CENTER_LATITUDE = 0.0
  CENTER_LONGITUDE = 27.0
  COORDINATE_SYSTEM_NAME = PLANETOGRAPHIC
  COORDINATE_SYSTEM_TYPE = "BODY-FIXED ROTATING"
  EASTERNMOST_LONGITUDE = 30.979
  FIRST_STANDARD_PARALLEL = "N/A"
  LINE_FIRST_PIXEL = 1
  LINE_LAST_PIXEL = 22828
  LINE_PROJECTION_OFFSET = -65004.125
  MAP_PROJECTION_ROTATION = 0.0
  MAP_PROJECTION_TYPE = SINUSOIDAL
  MAP_RESOLUTION = 1185.42760773333
  MAP_SCALE = 0.05
  MAXIMUM_LATITUDE = -54.8389
  MINIMUM_LATITUDE = -74.0646
  POSITIVE_LONGITUDE_DIRECTION = EAST
  REFERENCE_LATITUDE = "N/A"
  REFERENCE_LONGITUDE = "N/A"
  SAMPLE_FIRST_PIXEL = 1
  SAMPLE_LAST_PIXEL = 4562
  SAMPLE_PROJECTION_OFFSET = 1897.625
  SECOND_STANDARD_PARALLEL = "N/A"
  WESTERNMOST_LONGITUDE = 21.2391
END_OBJECT = IMAGE_MAP_PROJECTION
END
