PDS_VERSION_ID = PDS3
/* FILE DATA ELEMENTS */
RECORD_TYPE = UNDEFINED
/* POINTERS TO DATA OBJECTS */
^IMAGE = ("H2508_0000_S14.TIF")
/* IDENTIFICATION DATA ELEMENTS */
DATA_SET_ID = "MEX-M-HRSC-4-REFDR-MAPPROJECT-EXT1-V4.0"
DATA_SET_NAME = "MARS EXPRESS HRSC MAP PROJECTED REFDR EXTENSION1 V4.0"
DETECTOR_ID = MEX_HRSC_S1
EVENT_TYPE = "MARS-REGIONAL-MAPPING-Te-Im-Fl"
INSTRUMENT_HOST_ID = MEX
INSTRUMENT_HOST_NAME = "MARS EXPRESS"
INSTRUMENT_ID = HRSC
INSTRUMENT_NAME = "HIGH RESOLUTION STEREO CAMERA"
MISSION_NAME = "MARS EXPRESS"
MISSION_PHASE_NAME = ME_Phase_1
PROCESSING_LEVEL_ID = 4
PRODUCT_CREATION_TIME = 2023-02-08T07:05:14.000Z
PRODUCT_ID = "H2508_0000_S14.TIF"
RELEASE_ID = 0001
REVISION_ID = 0000
/* QUALITY DATA ELEMENTS */
DATA_QUALITY_ID = 1
DATA_QUALITY_DESC = "Data calculated based on original SPICE kernels"
/* TIME DATA ELEMENTS */
SPACECRAFT_CLOCK_START_COUNT = "1/0083631899.56192"
SPACECRAFT_CLOCK_STOP_COUNT = "1/0083632424.31968"
START_TIME = 2005-12-25T23:05:06.693Z
STOP_TIME = 2005-12-25T23:11:33.531Z
/* ORBITAL DATA ELEMENTS */
ASCENDING_NODE_LONGITUDE = 175.63
MAXIMUM_RESOLUTION = 0.0263
FOOTPRINT_POINT_LATITUDE = (-66.8099,-66.8691,-66.943,-66.9441, -66.8587,-66.0833,-65.4826,-64.8838, -64.0753,-63.6629,-63.2491,-62.8371, -62.4037,-61.9767,-61.55,-61.1237, -60.6989,-60.2749,-59.6369,-59.2104, -58.7882,-58.2827,-57.7781,-57.2696, -56.5107,-55.7604,-55.2585,-54.5073, -53.9982,-53.478,-52.9478,-52.4161, -51.8785,-51.3323,-50.7829,-50.2224, -49.6562,-49.0883,-48.5101,-47.922, -47.3242,-46.714,-46.0928,-45.4621, -44.8244,-44.1832,-43.5211,-42.8486, -41.8255,-41.4783,-41.4449,-41.4232, -41.4063,-41.385,-41.384,-41.3844, -42.0705,-42.7511,-43.4188,-44.0766, -44.7269,-45.364,-45.9894,-46.9135, -47.5171,-48.1101,-48.6944,-49.5553, -50.1163,-50.6701,-51.2181,-51.7669, -52.3022,-52.8289,-53.3562,-53.8717, -54.3864,-54.8874,-55.3886,-55.8911, -56.3769,-56.8828,-57.6449,-58.1482, -58.8698,-59.2924,-59.7141,-60.1383, -60.5625,-61.1984,-61.6248,-62.0555, -62.481,-63.106,-63.7227,-64.3367, -65.3312,-66.5083,-66.7007,-66.8099)
FOOTPRINT_POINT_LONGITUDE = (288.333,289.366,290.913,290.939,291.04 ,291.257,291.415,291.562,291.75,291.84, 291.929,292.014,292.105,292.188,292.268 ,292.345,292.419,292.49,292.593,292.661 ,292.723,292.797,292.867,292.936, 293.036,293.126,293.184,293.268,293.322 ,293.38,293.436,293.489,293.54,293.59, 293.638,293.686,293.732,293.774,293.815 ,293.857,293.898,293.94,293.981,294.022 ,294.06,294.093,294.131,294.168,294.218 ,294.235,294.236,292.849,292.258, 291.617,291.591,291.582,291.567,291.552 ,291.534,291.514,291.494,291.47,291.444 ,291.404,291.373,291.341,291.307, 291.252,291.212,291.169,291.127,291.085 ,291.039,290.991,290.942,290.891, 290.838,290.783,290.725,290.664,290.593 ,290.527,290.419,290.343,290.228, 290.156,290.081,290.004,289.923,289.795 ,289.707,289.616,289.52,289.37,289.213, 289.046,288.755,288.372,288.305, 288.333)
ORBIT_NUMBER = 2508
ORBITAL_ECCENTRICITY = 0.572
ORBITAL_INCLINATION = 86.62
ORBITAL_SEMIMAJOR_AXIS = 8528.48
PERIAPSIS_ALTITUDE = 276.76
PERIAPSIS_ARGUMENT_ANGLE = 277.52
PERIAPSIS_TIME = 2005-12-25T23:01:42.000Z
SPACECRAFT_ORIENTATION = (0.0,-1.0,0.0)
^MEX_ORIENTATION_DESC = "MEX_ORIENTATION_DESC.TXT"
SPACECRAFT_POINTING_MODE = NADIR
^MEX_POINTING_DESC = "MEX_POINTING_DESC.TXT"
RIGHT_ASCENSION = -1e+32
DECLINATION = -1e+32
OFFSET_ANGLE = -1e+32
SPACECRAFT_SOLAR_DISTANCE = 2.27901e+08
TARGET_NAME = MARS
/* CAMERA DATA ELEMENTS */
DETECTOR_TEMPERATURE = 15.9237
FOCAL_PLANE_TEMPERATURE = 8.9911
INST_CMPRS_NAME = "DISCRETE COSINE TRANSFORMATION (DCT)"
INST_CMPRS_RATIO = 10.0096
INST_CMPRS_QUALITY = 0
INST_CMPRS_QUANTZ_TBL_ID = 0
INSTRUMENT_TEMPERATURE = 11.234
LENS_TEMPERATURE = 9.195
MACROPIXEL_SIZE = 2
MISSING_FRAMES = 1
PIXEL_SUBSAMPLING_FLAG = N
SIGNAL_CHAIN_ID = 1
/* RADIOMETRIC DATA ELEMENTS */
BANDWIDTH = 180.0
CENTER_FILTER_WAVELENGTH = 677.0
RADIANCE_OFFSET = 3.13937
RADIANCE_SCALING_FACTOR = 0.0113361
REFLECTANCE_SCALING_FACTOR = 0.000307185
MEX:REFLECTANCE_OFFSET = 0.0850704
/* IMAGE OBJECT DEFINITIONS */
OBJECT = IMAGE
  INTERCHANGE_FORMAT = BINARY
  LINES = 60406
  LINE_SAMPLES = 7698
  SAMPLE_TYPE = UNSIGNED_INTEGER
  SAMPLE_BITS = 8
  BANDS = 1
  BAND_STORAGE_TYPE = BAND_SEQUENTIAL
  MAXIMUM = 255
  MEAN = 130.449
  MINIMUM = 1
  STANDARD_DEVIATION = 28.1871
END_OBJECT = IMAGE
/* MAP OBJECT DEFINITIONS */
OBJECT = IMAGE_MAP_PROJECTION
  ^DATA_SET_MAP_PROJECTION_CATALOG= "DSMAP.CAT"
  A_AXIS_RADIUS = 3396.0
  B_AXIS_RADIUS = 3396.0
  C_AXIS_RADIUS = 3396.0
  CENTER_LATITUDE = 0.0
  CENTER_LONGITUDE = 292.0
  COORDINATE_SYSTEM_NAME = PLANETOGRAPHIC
  COORDINATE_SYSTEM_TYPE = "BODY-FIXED ROTATING"
  EASTERNMOST_LONGITUDE = 294.236
  FIRST_STANDARD_PARALLEL = "N/A"
  LINE_FIRST_PIXEL = 1
  LINE_LAST_PIXEL = 60406
  LINE_PROJECTION_OFFSET = -98091.75
  MAP_PROJECTION_ROTATION = 0.0
  MAP_PROJECTION_TYPE = SINUSOIDAL
  MAP_RESOLUTION = 2370.85521546667
  MAP_SCALE = 0.025
  MAXIMUM_LATITUDE = -41.384
  MINIMUM_LATITUDE = -66.94410000000001
  POSITIVE_LONGITUDE_DIRECTION = EAST
  REFERENCE_LATITUDE = "N/A"
  REFERENCE_LONGITUDE = "N/A"
  SAMPLE_FIRST_PIXEL = 1
  SAMPLE_LAST_PIXEL = 7698
  SAMPLE_PROJECTION_OFFSET = 3515.75
  SECOND_STANDARD_PARALLEL = "N/A"
  WESTERNMOST_LONGITUDE = 288.305
END_OBJECT = IMAGE_MAP_PROJECTION
END
