PDS_VERSION_ID = PDS3
/* FILE DATA ELEMENTS */
RECORD_TYPE = UNDEFINED
/* POINTERS TO DATA OBJECTS */
^IMAGE = ("H2510_0000_RE4.TIF")
/* IDENTIFICATION DATA ELEMENTS */
DATA_SET_ID = "MEX-M-HRSC-4-REFDR-MAPPROJECT-EXT1-V4.0"
DATA_SET_NAME = "MARS EXPRESS HRSC MAP PROJECTED REFDR EXTENSION1 V4.0"
DETECTOR_ID = MEX_HRSC_RED
EVENT_TYPE = "MARS-REGIONAL-MAPPING-Im-Pf"
INSTRUMENT_HOST_ID = MEX
INSTRUMENT_HOST_NAME = "MARS EXPRESS"
INSTRUMENT_ID = HRSC
INSTRUMENT_NAME = "HIGH RESOLUTION STEREO CAMERA"
MISSION_NAME = "MARS EXPRESS"
MISSION_PHASE_NAME = ME_Phase_1
PROCESSING_LEVEL_ID = 4
PRODUCT_CREATION_TIME = 2023-02-08T07:05:14.000Z
PRODUCT_ID = "H2510_0000_RE4.TIF"
RELEASE_ID = 0001
REVISION_ID = 0000
/* QUALITY DATA ELEMENTS */
DATA_QUALITY_ID = 1
DATA_QUALITY_DESC = "Data calculated based on original SPICE kernels"
/* TIME DATA ELEMENTS */
SPACECRAFT_CLOCK_START_COUNT = "1/0083680198.57155"
SPACECRAFT_CLOCK_STOP_COUNT = "1/0083680455.54241"
START_TIME = 2005-12-26T12:30:53.753Z
STOP_TIME = 2005-12-26T12:34:13.550Z
/* ORBITAL DATA ELEMENTS */
ASCENDING_NODE_LONGITUDE = 175.58
MAXIMUM_RESOLUTION = 0.0507
FOOTPRINT_POINT_LATITUDE = (-71.4913,-71.5373,-71.5956,-71.6551, -71.6564,-71.7376,-71.4008,-71.175, -70.7249,-70.3847,-69.9446,-69.5962, -69.3647,-69.0208,-68.7877,-68.5575, -68.3297,-68.0956,-67.7402,-67.5029, -67.2665,-67.0307,-66.7949,-66.5551, -66.3123,-65.948,-65.7054,-65.463, -65.2222,-64.9842,-64.7439,-64.5015, -64.2609,-64.0215,-63.6626,-63.3043, -63.0662,-62.792,-62.5082,-62.2297, -61.9429,-61.6632,-61.3837,-61.1026, -60.8227,-60.5435,-60.2646,-59.8468, -59.5683,-59.4294,-59.4163,-59.3934, -59.3727,-59.3565,-59.3052,-59.3043, -59.3048,-59.5821,-59.996,-60.2808, -60.5594,-60.8307,-61.1094,-61.3898, -61.6764,-62.0987,-62.3737,-62.6551, -62.9301,-63.1676,-63.4045,-63.6486, -63.8908,-64.1282,-64.3575,-64.5993, -64.8386,-65.0786,-65.3246,-65.5653, -65.9229,-66.2854,-66.6454,-66.8794, -67.1143,-67.3489,-67.5834,-67.8252, -68.2823,-68.5195,-68.748,-69.1985, -69.4285,-69.6574,-70.3246,-70.7718, -71.2178,-71.4488,-71.5613,-71.4913)
FOOTPRINT_POINT_LONGITUDE = (89.6415,90.4289,91.5131,92.7518, 92.7814,92.8421,92.9999,93.1024,93.3002 ,93.44,93.6266,93.7554,93.8425,93.9711, 94.0517,94.1319,94.2116,94.2873,94.4028 ,94.4771,94.5501,94.6215,94.6912, 94.7607,94.8295,94.9294,94.9939,95.057, 95.1193,95.1819,95.2414,95.2982,95.3545 ,95.4102,95.4913,95.5697,95.6207,95.678 ,95.7359,95.7951,95.8477,95.9029, 95.9566,96.0078,96.0582,96.1075,96.1555 ,96.2252,96.27,96.292,96.2942,95.6259, 95.0867,94.6241,93.5751,93.5492,93.5406 ,93.4929,93.4217,93.3647,93.3127, 93.2669,93.2129,93.1561,93.092,93.0012, 92.946,92.883,92.8189,92.762,92.7047, 92.6382,92.5727,92.5116,92.4585,92.3899 ,92.3228,92.2536,92.1757,92.1026, 91.9947,91.8769,91.7558,91.6751,91.5914 ,91.5064,91.4195,91.3203,91.1437, 91.0361,90.9393,90.7489,90.6427,90.5346 ,90.2027,89.9634,89.7138,89.5694, 89.4989,89.6415)
ORBIT_NUMBER = 2510
ORBITAL_ECCENTRICITY = 0.572
ORBITAL_INCLINATION = 86.63
ORBITAL_SEMIMAJOR_AXIS = 8528.79
PERIAPSIS_ALTITUDE = 276.01
PERIAPSIS_ARGUMENT_ANGLE = 277.15
PERIAPSIS_TIME = 2005-12-26T12:27:49.000Z
SPACECRAFT_ORIENTATION = (0.0,-1.0,0.0)
^MEX_ORIENTATION_DESC = "MEX_ORIENTATION_DESC.TXT"
SPACECRAFT_POINTING_MODE = NADIR
^MEX_POINTING_DESC = "MEX_POINTING_DESC.TXT"
RIGHT_ASCENSION = -1e+32
DECLINATION = -1e+32
OFFSET_ANGLE = -1e+32
SPACECRAFT_SOLAR_DISTANCE = 2.2801e+08
TARGET_NAME = MARS
/* CAMERA DATA ELEMENTS */
DETECTOR_TEMPERATURE = 18.1666
FOCAL_PLANE_TEMPERATURE = 8.3794
INST_CMPRS_NAME = "DISCRETE COSINE TRANSFORMATION (DCT)"
INST_CMPRS_RATIO = 15.4938
INST_CMPRS_QUALITY = 0
INST_CMPRS_QUANTZ_TBL_ID = 0
INSTRUMENT_TEMPERATURE = 11.0301
LENS_TEMPERATURE = 8.3794
MACROPIXEL_SIZE = 4
MISSING_FRAMES = 0
PIXEL_SUBSAMPLING_FLAG = N
SIGNAL_CHAIN_ID = 2
/* RADIOMETRIC DATA ELEMENTS */
BANDWIDTH = 48.0
CENTER_FILTER_WAVELENGTH = 748.0
RADIANCE_OFFSET = 0.543235
RADIANCE_SCALING_FACTOR = 0.00403642
REFLECTANCE_SCALING_FACTOR = 0.000478885
MEX:REFLECTANCE_OFFSET = 0.0644499
/* IMAGE OBJECT DEFINITIONS */
OBJECT = IMAGE
  INTERCHANGE_FORMAT = BINARY
  LINES = 14734
  LINE_SAMPLES = 3238
  SAMPLE_TYPE = UNSIGNED_INTEGER
  SAMPLE_BITS = 8
  BANDS = 1
  BAND_STORAGE_TYPE = BAND_SEQUENTIAL
  MAXIMUM = 255
  MEAN = 117.333
  MINIMUM = 1
  STANDARD_DEVIATION = 36.9324
END_OBJECT = IMAGE
/* MAP OBJECT DEFINITIONS */
OBJECT = IMAGE_MAP_PROJECTION
  ^DATA_SET_MAP_PROJECTION_CATALOG= "DSMAP.CAT"
  A_AXIS_RADIUS = 3396.0
  B_AXIS_RADIUS = 3396.0
  C_AXIS_RADIUS = 3396.0
  CENTER_LATITUDE = 0.0
  CENTER_LONGITUDE = 93.0
  COORDINATE_SYSTEM_NAME = PLANETOGRAPHIC
  COORDINATE_SYSTEM_TYPE = "BODY-FIXED ROTATING"
  EASTERNMOST_LONGITUDE = 96.2942
  FIRST_STANDARD_PARALLEL = "N/A"
  LINE_FIRST_PIXEL = 1
  LINE_LAST_PIXEL = 14734
  LINE_PROJECTION_OFFSET = -70322.625
  MAP_PROJECTION_ROTATION = 0.0
  MAP_PROJECTION_TYPE = SINUSOIDAL
  MAP_RESOLUTION = 1185.42760773333
  MAP_SCALE = 0.05
  MAXIMUM_LATITUDE = -59.3043
  MINIMUM_LATITUDE = -71.7376
  POSITIVE_LONGITUDE_DIRECTION = EAST
  REFERENCE_LATITUDE = "N/A"
  REFERENCE_LONGITUDE = "N/A"
  SAMPLE_FIRST_PIXEL = 1
  SAMPLE_LAST_PIXEL = 3238
  SAMPLE_PROJECTION_OFFSET = 1301.625
  SECOND_STANDARD_PARALLEL = "N/A"
  WESTERNMOST_LONGITUDE = 89.49890000000001
END_OBJECT = IMAGE_MAP_PROJECTION
END
