PDS_VERSION_ID = PDS3
/* FILE DATA ELEMENTS */
RECORD_TYPE = UNDEFINED
/* POINTERS TO DATA OBJECTS */
^IMAGE = ("H2510_0001_IR4.TIF")
/* IDENTIFICATION DATA ELEMENTS */
DATA_SET_ID = "MEX-M-HRSC-4-REFDR-MAPPROJECT-EXT1-V4.0"
DATA_SET_NAME = "MARS EXPRESS HRSC MAP PROJECTED REFDR EXTENSION1 V4.0"
DETECTOR_ID = MEX_HRSC_IR
EVENT_TYPE = "MARS-REGIONAL-MAPPING-Fl-Gl-Mw"
INSTRUMENT_HOST_ID = MEX
INSTRUMENT_HOST_NAME = "MARS EXPRESS"
INSTRUMENT_ID = HRSC
INSTRUMENT_NAME = "HIGH RESOLUTION STEREO CAMERA"
MISSION_NAME = "MARS EXPRESS"
MISSION_PHASE_NAME = ME_Phase_1
PROCESSING_LEVEL_ID = 4
PRODUCT_CREATION_TIME = 2023-02-08T07:05:14.000Z
PRODUCT_ID = "H2510_0001_IR4.TIF"
RELEASE_ID = 0001
REVISION_ID = 0000
/* QUALITY DATA ELEMENTS */
DATA_QUALITY_ID = 1
DATA_QUALITY_DESC = "Data calculated based on original SPICE kernels"
/* TIME DATA ELEMENTS */
SPACECRAFT_CLOCK_START_COUNT = "1/0083680590.57131"
SPACECRAFT_CLOCK_STOP_COUNT = "1/0083680947.44339"
START_TIME = 2005-12-26T12:36:45.968Z
STOP_TIME = 2005-12-26T12:39:43.393Z
/* ORBITAL DATA ELEMENTS */
ASCENDING_NODE_LONGITUDE = 175.58
MAXIMUM_RESOLUTION = 0.0871
FOOTPRINT_POINT_LATITUDE = (-45.6999,-45.7162,-45.7355,-45.7496, -45.7589,-45.772,-45.7724,-45.7174, -45.2433,-44.8633,-44.4751,-44.0856, -43.7916,-43.3964,-42.9963,-42.6927, -42.2868,-41.978,-41.7716,-41.5627, -41.3538,-41.0391,-40.8271,-40.6162, -40.4019,-40.1872,-39.9721,-39.7489, -39.427,-39.2088,-38.9882,-38.7715, -38.5544,-38.3275,-37.9874,-37.7563, -37.5228,-37.2907,-36.9366,-36.5846, -36.3488,-36.1106,-35.8728,-35.6328, -35.3922,-35.0266,-34.9047,-34.872, -34.8732,-34.8728,-34.87,-34.8675, -34.865,-34.8592,-34.8513,-34.844, -34.8358,-34.835,-34.8363,-35.0784, -35.3218,-35.5619,-35.8016,-36.0384, -36.2801,-36.6332,-36.8604,-37.0919, -37.3223,-37.548,-37.8862,-38.104, -38.4404,-38.6702,-38.8955,-39.1155, -39.4449,-39.6607,-39.8783,-40.094, -40.3079,-40.5225,-40.8396,-41.0518, -41.2603,-41.468,-41.6752,-41.8808, -42.0857,-42.2901,-42.5932,-42.9952, -43.4925,-43.8844,-44.2733,-44.7574, -45.1377,-45.5147,-45.607,-45.6999)
FOOTPRINT_POINT_LONGITUDE = (94.96,95.3641,95.9108,96.3865,96.767, 97.482,97.5059,97.5425,97.5724,97.5949, 97.6182,97.6409,97.6568,97.6782,97.6999 ,97.7159,97.7365,97.7518,97.7623, 97.7726,97.7826,97.7974,97.8072,97.8164 ,97.8261,97.8355,97.8448,97.8568, 97.8682,97.8761,97.8851,97.8913,97.897, 97.9071,97.9203,97.9306,97.941,97.9506, 97.9657,97.9784,97.9868,97.9951,98.003, 98.0107,98.0184,98.0303,98.0341,98.0352 ,97.5368,97.259,96.9264,96.6767,96.3993 ,96.094,95.6779,95.4004,95.095,95.0672, 95.058,95.0604,95.0633,95.0656,95.0675, 95.0692,95.0726,95.0751,95.0736,95.0744 ,95.0747,95.0738,95.0724,95.0689, 95.0679,95.0701,95.0704,95.0693,95.0672 ,95.065,95.0633,95.0615,95.0592,95.057, 95.0531,95.0505,95.0475,95.0439,95.04, 95.0366,95.0326,95.0283,95.0219,95.0125 ,94.9998,94.989,94.977,94.9622,94.9494, 94.9349,94.9309,94.96)
ORBIT_NUMBER = 2510
ORBITAL_ECCENTRICITY = 0.572
ORBITAL_INCLINATION = 86.63
ORBITAL_SEMIMAJOR_AXIS = 8528.79
PERIAPSIS_ALTITUDE = 276.01
PERIAPSIS_ARGUMENT_ANGLE = 277.15
PERIAPSIS_TIME = 2005-12-26T12:27:49.000Z
SPACECRAFT_ORIENTATION = (0.0,-1.0,0.0)
^MEX_ORIENTATION_DESC = "MEX_ORIENTATION_DESC.TXT"
SPACECRAFT_POINTING_MODE = NADIR
^MEX_POINTING_DESC = "MEX_POINTING_DESC.TXT"
RIGHT_ASCENSION = -1e+32
DECLINATION = -1e+32
OFFSET_ANGLE = -1e+32
SPACECRAFT_SOLAR_DISTANCE = 2.2801e+08
TARGET_NAME = MARS
/* CAMERA DATA ELEMENTS */
DETECTOR_TEMPERATURE = 18.3705
FOCAL_PLANE_TEMPERATURE = 8.3794
INST_CMPRS_NAME = "DISCRETE COSINE TRANSFORMATION (DCT)"
INST_CMPRS_RATIO = 13.5635
INST_CMPRS_QUALITY = 0
INST_CMPRS_QUANTZ_TBL_ID = 0
INSTRUMENT_TEMPERATURE = 12.4574
LENS_TEMPERATURE = 8.7872
MACROPIXEL_SIZE = 4
MISSING_FRAMES = 0
PIXEL_SUBSAMPLING_FLAG = N
SIGNAL_CHAIN_ID = 2
/* RADIOMETRIC DATA ELEMENTS */
BANDWIDTH = 81.0
CENTER_FILTER_WAVELENGTH = 955.5
RADIANCE_OFFSET = 0.878957
RADIANCE_SCALING_FACTOR = 0.0059782
REFLECTANCE_SCALING_FACTOR = 0.000670514
MEX:REFLECTANCE_OFFSET = 0.0985837
/* IMAGE OBJECT DEFINITIONS */
OBJECT = IMAGE
  INTERCHANGE_FORMAT = BINARY
  LINES = 6441
  LINE_SAMPLES = 1596
  SAMPLE_TYPE = UNSIGNED_INTEGER
  SAMPLE_BITS = 8
  BANDS = 1
  BAND_STORAGE_TYPE = BAND_SEQUENTIAL
  MAXIMUM = 255
  MEAN = 102.856
  MINIMUM = 1
  STANDARD_DEVIATION = 30.4648
END_OBJECT = IMAGE
/* MAP OBJECT DEFINITIONS */
OBJECT = IMAGE_MAP_PROJECTION
  ^DATA_SET_MAP_PROJECTION_CATALOG= "DSMAP.CAT"
  A_AXIS_RADIUS = 3396.0
  B_AXIS_RADIUS = 3396.0
  C_AXIS_RADIUS = 3396.0
  CENTER_LATITUDE = 0.0
  CENTER_LONGITUDE = 96.0
  COORDINATE_SYSTEM_NAME = PLANETOGRAPHIC
  COORDINATE_SYSTEM_TYPE = "BODY-FIXED ROTATING"
  EASTERNMOST_LONGITUDE = 98.0352
  FIRST_STANDARD_PARALLEL = "N/A"
  LINE_FIRST_PIXEL = 1
  LINE_LAST_PIXEL = 6441
  LINE_PROJECTION_OFFSET = -20656.125
  MAP_PROJECTION_ROTATION = 0.0
  MAP_PROJECTION_TYPE = SINUSOIDAL
  MAP_RESOLUTION = 592.713803866667
  MAP_SCALE = 0.1
  MAXIMUM_LATITUDE = -34.835
  MINIMUM_LATITUDE = -45.7724
  POSITIVE_LONGITUDE_DIRECTION = EAST
  REFERENCE_LATITUDE = "N/A"
  REFERENCE_LONGITUDE = "N/A"
  SAMPLE_FIRST_PIXEL = 1
  SAMPLE_LAST_PIXEL = 1596
  SAMPLE_PROJECTION_OFFSET = 535.875
  SECOND_STANDARD_PARALLEL = "N/A"
  WESTERNMOST_LONGITUDE = 94.93089999999999
END_OBJECT = IMAGE_MAP_PROJECTION
END
