PDS_VERSION_ID = PDS3
/* FILE DATA ELEMENTS */
RECORD_TYPE = UNDEFINED
/* POINTERS TO DATA OBJECTS */
^IMAGE = ("H2510_0001_S14.TIF")
/* IDENTIFICATION DATA ELEMENTS */
DATA_SET_ID = "MEX-M-HRSC-4-REFDR-MAPPROJECT-EXT1-V4.0"
DATA_SET_NAME = "MARS EXPRESS HRSC MAP PROJECTED REFDR EXTENSION1 V4.0"
DETECTOR_ID = MEX_HRSC_S1
EVENT_TYPE = "MARS-REGIONAL-MAPPING-Fl-Gl-Mw"
INSTRUMENT_HOST_ID = MEX
INSTRUMENT_HOST_NAME = "MARS EXPRESS"
INSTRUMENT_ID = HRSC
INSTRUMENT_NAME = "HIGH RESOLUTION STEREO CAMERA"
MISSION_NAME = "MARS EXPRESS"
MISSION_PHASE_NAME = ME_Phase_1
PROCESSING_LEVEL_ID = 4
PRODUCT_CREATION_TIME = 2023-02-08T07:05:14.000Z
PRODUCT_ID = "H2510_0001_S14.TIF"
RELEASE_ID = 0001
REVISION_ID = 0000
/* QUALITY DATA ELEMENTS */
DATA_QUALITY_ID = 1
DATA_QUALITY_DESC = "Data calculated based on original SPICE kernels"
/* TIME DATA ELEMENTS */
SPACECRAFT_CLOCK_START_COUNT = "1/0083680590.57131"
SPACECRAFT_CLOCK_STOP_COUNT = "1/0083680947.44339"
START_TIME = 2005-12-26T12:36:37.710Z
STOP_TIME = 2005-12-26T12:39:31.979Z
/* ORBITAL DATA ELEMENTS */
ASCENDING_NODE_LONGITUDE = 175.58
MAXIMUM_RESOLUTION = 0.0437
FOOTPRINT_POINT_LATITUDE = (-45.72,-45.7438,-45.7575,-45.7763, -45.7861,-45.7932,-45.7935,-45.7265, -45.2485,-44.8645,-44.4743,-44.08, -43.6859,-43.2846,-43.0833,-42.88, -42.6756,-42.4722,-42.2661,-42.0588, -41.8508,-41.6409,-41.4301,-41.2194, -41.0067,-40.7931,-40.5805,-40.364, -40.0396,-39.7039,-39.3795,-39.1605, -38.9373,-38.7194,-38.5036,-38.2706, -37.9273,-37.5748,-37.3391,-37.1027, -36.8631,-36.6272,-36.3881,-36.1493, -35.9079,-35.6674,-35.4239,-35.0562, -34.9319,-34.8613,-34.8621,-34.8615, -34.8583,-34.8537,-34.8436,-34.838, -34.8224,-34.8215,-34.8221,-35.068, -35.3121,-35.6762,-35.9161,-36.2804, -36.522,-36.7482,-36.982,-37.2157, -37.4434,-37.7858,-38.0034,-38.2282, -38.4608,-38.8051,-39.0274,-39.2499, -39.4703,-39.7986,-40.0167,-40.2325, -40.4496,-40.663,-40.8772,-41.1959, -41.405,-41.6148,-41.822,-42.1321, -42.3372,-42.541,-42.7443,-42.9478, -43.3483,-43.7458,-44.1401,-44.5306, -45.1098,-45.4898,-45.5838,-45.72)
FOOTPRINT_POINT_LONGITUDE = (94.9782,95.5647,95.9558,96.616,97.0566 ,97.4734,97.4979,97.5377,97.5672, 97.5899,97.6131,97.636,97.6573,97.6787, 97.6896,97.7003,97.7109,97.721,97.7315, 97.7417,97.7521,97.7625,97.7726,97.7826 ,97.7925,97.8022,97.8114,97.821,97.8349 ,97.8517,97.8632,97.8706,97.8797, 97.8859,97.8907,97.9022,97.9151,97.9306 ,97.9405,97.9501,97.9601,97.9685, 97.9769,97.9852,97.9932,98.0009,98.0085 ,98.0202,98.0242,98.0263,97.6284, 97.1728,96.8603,96.434,95.9221,95.6663, 95.1257,95.0973,95.087,95.0894,95.0918, 95.0948,95.0963,95.1003,95.1028,95.1005 ,95.101,95.1015,95.1005,95.0992,95.0952 ,95.0936,95.0953,95.096,95.0947,95.0933 ,95.0916,95.0884,95.0864,95.0839, 95.0815,95.0788,95.0762,95.0716,95.0679 ,95.0641,95.0601,95.0539,95.0492, 95.0449,95.0401,95.0352,95.0249,95.0137 ,95.0019,94.9899,94.9702,94.9555, 94.9513,94.9782)
ORBIT_NUMBER = 2510
ORBITAL_ECCENTRICITY = 0.572
ORBITAL_INCLINATION = 86.63
ORBITAL_SEMIMAJOR_AXIS = 8528.79
PERIAPSIS_ALTITUDE = 276.01
PERIAPSIS_ARGUMENT_ANGLE = 277.15
PERIAPSIS_TIME = 2005-12-26T12:27:49.000Z
SPACECRAFT_ORIENTATION = (0.0,-1.0,0.0)
^MEX_ORIENTATION_DESC = "MEX_ORIENTATION_DESC.TXT"
SPACECRAFT_POINTING_MODE = NADIR
^MEX_POINTING_DESC = "MEX_POINTING_DESC.TXT"
RIGHT_ASCENSION = -1e+32
DECLINATION = -1e+32
OFFSET_ANGLE = -1e+32
SPACECRAFT_SOLAR_DISTANCE = 2.2801e+08
TARGET_NAME = MARS
/* CAMERA DATA ELEMENTS */
DETECTOR_TEMPERATURE = 18.3705
FOCAL_PLANE_TEMPERATURE = 8.3794
INST_CMPRS_NAME = "DISCRETE COSINE TRANSFORMATION (DCT)"
INST_CMPRS_RATIO = 10.2277
INST_CMPRS_QUALITY = 0
INST_CMPRS_QUANTZ_TBL_ID = 0
INSTRUMENT_TEMPERATURE = 12.4574
LENS_TEMPERATURE = 8.7872
MACROPIXEL_SIZE = 2
MISSING_FRAMES = 0
PIXEL_SUBSAMPLING_FLAG = N
SIGNAL_CHAIN_ID = 1
/* RADIOMETRIC DATA ELEMENTS */
BANDWIDTH = 180.0
CENTER_FILTER_WAVELENGTH = 677.0
RADIANCE_OFFSET = 3.65067
RADIANCE_SCALING_FACTOR = 0.0225835
REFLECTANCE_SCALING_FACTOR = 0.000612556
MEX:REFLECTANCE_OFFSET = 0.0990209
/* IMAGE OBJECT DEFINITIONS */
OBJECT = IMAGE
  INTERCHANGE_FORMAT = BINARY
  LINES = 12882
  LINE_SAMPLES = 3191
  SAMPLE_TYPE = UNSIGNED_INTEGER
  SAMPLE_BITS = 8
  BANDS = 1
  BAND_STORAGE_TYPE = BAND_SEQUENTIAL
  MAXIMUM = 255
  MEAN = 125.268
  MINIMUM = 1
  STANDARD_DEVIATION = 25.6394
END_OBJECT = IMAGE
/* MAP OBJECT DEFINITIONS */
OBJECT = IMAGE_MAP_PROJECTION
  ^DATA_SET_MAP_PROJECTION_CATALOG= "DSMAP.CAT"
  A_AXIS_RADIUS = 3396.0
  B_AXIS_RADIUS = 3396.0
  C_AXIS_RADIUS = 3396.0
  CENTER_LATITUDE = 0.0
  CENTER_LONGITUDE = 96.0
  COORDINATE_SYSTEM_NAME = PLANETOGRAPHIC
  COORDINATE_SYSTEM_TYPE = "BODY-FIXED ROTATING"
  EASTERNMOST_LONGITUDE = 98.02630000000001
  FIRST_STANDARD_PARALLEL = "N/A"
  LINE_FIRST_PIXEL = 1
  LINE_LAST_PIXEL = 12882
  LINE_PROJECTION_OFFSET = -41311.75
  MAP_PROJECTION_ROTATION = 0.0
  MAP_PROJECTION_TYPE = SINUSOIDAL
  MAP_RESOLUTION = 1185.42760773333
  MAP_SCALE = 0.05
  MAXIMUM_LATITUDE = -34.8215
  MINIMUM_LATITUDE = -45.7935
  POSITIVE_LONGITUDE_DIRECTION = EAST
  REFERENCE_LATITUDE = "N/A"
  REFERENCE_LONGITUDE = "N/A"
  SAMPLE_FIRST_PIXEL = 1
  SAMPLE_LAST_PIXEL = 3191
  SAMPLE_PROJECTION_OFFSET = 1072.25
  SECOND_STANDARD_PARALLEL = "N/A"
  WESTERNMOST_LONGITUDE = 94.9513
END_OBJECT = IMAGE_MAP_PROJECTION
END
