PDS_VERSION_ID = PDS3
/* FILE DATA ELEMENTS */
RECORD_TYPE = UNDEFINED
/* POINTERS TO DATA OBJECTS */
^IMAGE = ("H2511_0000_BL4.TIF")
/* IDENTIFICATION DATA ELEMENTS */
DATA_SET_ID = "MEX-M-HRSC-4-REFDR-MAPPROJECT-EXT1-V4.0"
DATA_SET_NAME = "MARS EXPRESS HRSC MAP PROJECTED REFDR EXTENSION1 V4.0"
DETECTOR_ID = MEX_HRSC_BLUE
EVENT_TYPE = "MARS-REGIONAL-MAPPING-Im"
INSTRUMENT_HOST_ID = MEX
INSTRUMENT_HOST_NAME = "MARS EXPRESS"
INSTRUMENT_ID = HRSC
INSTRUMENT_NAME = "HIGH RESOLUTION STEREO CAMERA"
MISSION_NAME = "MARS EXPRESS"
MISSION_PHASE_NAME = ME_Phase_1
PROCESSING_LEVEL_ID = 4
PRODUCT_CREATION_TIME = 2023-02-08T07:05:14.000Z
PRODUCT_ID = "H2511_0000_BL4.TIF"
RELEASE_ID = 0001
REVISION_ID = 0000
/* QUALITY DATA ELEMENTS */
DATA_QUALITY_ID = 1
DATA_QUALITY_DESC = "Data calculated based on original SPICE kernels"
/* TIME DATA ELEMENTS */
SPACECRAFT_CLOCK_START_COUNT = "1/0083704426.57135"
SPACECRAFT_CLOCK_STOP_COUNT = "1/0083704827.57663"
START_TIME = 2005-12-26T19:14:25.571Z
STOP_TIME = 2005-12-26T19:19:44.613Z
/* ORBITAL DATA ELEMENTS */
ASCENDING_NODE_LONGITUDE = 175.57
MAXIMUM_RESOLUTION = 0.0503
FOOTPRINT_POINT_LATITUDE = (-68.6326,-68.721,-68.7704,-68.7715, -68.7915,-68.2075,-67.819,-67.4305, -66.8355,-66.4333,-66.0354,-65.633, -65.2212,-64.8099,-64.3994,-63.9901, -63.5814,-63.1736,-62.7662,-62.3596, -61.954,-61.549,-61.145,-60.7418, -60.3393,-59.9375,-59.5361,-59.1362, -58.7372,-58.3394,-57.9432,-57.35, -56.9545,-56.5609,-56.1684,-55.7767, -55.386,-54.9961,-54.6074,-54.22, -53.8336,-53.4483,-53.0638,-52.6805, -52.2981,-51.5367,-50.7799,-50.0273, -49.2789,-49.0928,-49.0912,-49.067, -49.039,-49.0179,-49.0176,-49.0181, -49.9494,-50.6989,-51.4534,-52.2127, -52.976,-53.3592,-53.7436,-54.1291, -54.7097,-55.097,-55.6811,-56.0711, -56.4628,-56.8551,-57.2485,-57.8408, -58.2361,-58.6335,-59.0313,-59.4297, -59.8289,-60.2291,-60.6301,-61.0319, -61.4346,-61.8383,-62.2426,-62.6477, -63.0534,-63.4599,-63.8671,-64.4798, -64.8881,-65.2978,-65.7046,-66.1021, -66.5,-66.8986,-67.2919,-67.6781, -68.0646,-68.4514,-68.6449,-68.6326)
FOOTPRINT_POINT_LONGITUDE = (353.408,355.099,356.226,356.253, 356.354,356.537,356.654,356.766,356.932 ,357.029,357.137,357.235,357.332, 357.424,357.513,357.601,357.685,357.767 ,357.845,357.92,357.993,358.063,358.132 ,358.198,358.261,358.322,358.379, 358.436,358.492,358.546,358.602,358.68, 358.726,358.774,358.82,358.865,358.909, 358.95,358.991,359.031,359.071,359.109, 359.146,359.182,359.217,359.284,359.348 ,359.409,359.465,359.48,359.48,358.323, 357.35,356.764,356.737,356.728,356.68, 356.637,356.589,356.534,356.476,356.444 ,356.411,356.376,356.32,356.283,356.222 ,356.18,356.134,356.088,356.039,355.961 ,355.908,355.85,355.79,355.729,355.666, 355.599,355.53,355.458,355.382,355.303, 355.221,355.136,355.047,354.954,354.857 ,354.702,354.596,354.483,354.366, 354.247,354.124,353.994,353.861,353.725 ,353.583,353.434,353.358,353.408)
ORBIT_NUMBER = 2511
ORBITAL_ECCENTRICITY = 0.572
ORBITAL_INCLINATION = 86.62
ORBITAL_SEMIMAJOR_AXIS = 8528.01
PERIAPSIS_ALTITUDE = 276.98
PERIAPSIS_ARGUMENT_ANGLE = 276.97
PERIAPSIS_TIME = 2005-12-26T19:10:50.000Z
SPACECRAFT_ORIENTATION = (0.0,-1.0,0.0)
^MEX_ORIENTATION_DESC = "MEX_ORIENTATION_DESC.TXT"
SPACECRAFT_POINTING_MODE = ACROSSTRACK
^MEX_POINTING_DESC = "MEX_POINTING_DESC.TXT"
RIGHT_ASCENSION = -1e+32
DECLINATION = -1e+32
OFFSET_ANGLE = -0.2
SPACECRAFT_SOLAR_DISTANCE = 2.28064e+08
TARGET_NAME = MARS
/* CAMERA DATA ELEMENTS */
DETECTOR_TEMPERATURE = 18.1666
FOCAL_PLANE_TEMPERATURE = 8.9911
INST_CMPRS_NAME = "DISCRETE COSINE TRANSFORMATION (DCT)"
INST_CMPRS_RATIO = 12.7276
INST_CMPRS_QUALITY = 0
INST_CMPRS_QUANTZ_TBL_ID = 0
INSTRUMENT_TEMPERATURE = 11.234
LENS_TEMPERATURE = 9.3989
MACROPIXEL_SIZE = 4
MISSING_FRAMES = 0
PIXEL_SUBSAMPLING_FLAG = N
SIGNAL_CHAIN_ID = 2
/* RADIOMETRIC DATA ELEMENTS */
BANDWIDTH = 76.0
CENTER_FILTER_WAVELENGTH = 444.0
RADIANCE_OFFSET = 0.395468
RADIANCE_SCALING_FACTOR = 0.00184625
REFLECTANCE_SCALING_FACTOR = 9.86651e-05
MEX:REFLECTANCE_OFFSET = 0.0211341
/* IMAGE OBJECT DEFINITIONS */
OBJECT = IMAGE
  INTERCHANGE_FORMAT = BINARY
  LINES = 23434
  LINE_SAMPLES = 3490
  SAMPLE_TYPE = UNSIGNED_INTEGER
  SAMPLE_BITS = 8
  BANDS = 1
  BAND_STORAGE_TYPE = BAND_SEQUENTIAL
  MAXIMUM = 255
  MEAN = 116.147
  MINIMUM = 1
  STANDARD_DEVIATION = 42.0071
END_OBJECT = IMAGE
/* MAP OBJECT DEFINITIONS */
OBJECT = IMAGE_MAP_PROJECTION
  ^DATA_SET_MAP_PROJECTION_CATALOG= "DSMAP.CAT"
  A_AXIS_RADIUS = 3396.0
  B_AXIS_RADIUS = 3396.0
  C_AXIS_RADIUS = 3396.0
  CENTER_LATITUDE = 0.0
  CENTER_LONGITUDE = 357.0
  COORDINATE_SYSTEM_NAME = PLANETOGRAPHIC
  COORDINATE_SYSTEM_TYPE = "BODY-FIXED ROTATING"
  EASTERNMOST_LONGITUDE = 359.48
  FIRST_STANDARD_PARALLEL = "N/A"
  LINE_FIRST_PIXEL = 1
  LINE_LAST_PIXEL = 23434
  LINE_PROJECTION_OFFSET = -58123.875
  MAP_PROJECTION_ROTATION = 0.0
  MAP_PROJECTION_TYPE = SINUSOIDAL
  MAP_RESOLUTION = 1185.42760773333
  MAP_SCALE = 0.05
  MAXIMUM_LATITUDE = -49.0176
  MINIMUM_LATITUDE = -68.7915
  POSITIVE_LONGITUDE_DIRECTION = EAST
  REFERENCE_LATITUDE = "N/A"
  REFERENCE_LONGITUDE = "N/A"
  SAMPLE_FIRST_PIXEL = 1
  SAMPLE_LAST_PIXEL = 3490
  SAMPLE_PROJECTION_OFFSET = 1568.625
  SECOND_STANDARD_PARALLEL = "N/A"
  WESTERNMOST_LONGITUDE = 353.358
END_OBJECT = IMAGE_MAP_PROJECTION
END
