PDS_VERSION_ID = PDS3
/* FILE DATA ELEMENTS */
RECORD_TYPE = UNDEFINED
/* POINTERS TO DATA OBJECTS */
^IMAGE = ("H2511_0000_GR4.TIF")
/* IDENTIFICATION DATA ELEMENTS */
DATA_SET_ID = "MEX-M-HRSC-4-REFDR-MAPPROJECT-EXT1-V4.0"
DATA_SET_NAME = "MARS EXPRESS HRSC MAP PROJECTED REFDR EXTENSION1 V4.0"
DETECTOR_ID = MEX_HRSC_GREEN
EVENT_TYPE = "MARS-REGIONAL-MAPPING-Im"
INSTRUMENT_HOST_ID = MEX
INSTRUMENT_HOST_NAME = "MARS EXPRESS"
INSTRUMENT_ID = HRSC
INSTRUMENT_NAME = "HIGH RESOLUTION STEREO CAMERA"
MISSION_NAME = "MARS EXPRESS"
MISSION_PHASE_NAME = ME_Phase_1
PROCESSING_LEVEL_ID = 4
PRODUCT_CREATION_TIME = 2023-02-08T07:05:14.000Z
PRODUCT_ID = "H2511_0000_GR4.TIF"
RELEASE_ID = 0001
REVISION_ID = 0000
/* QUALITY DATA ELEMENTS */
DATA_QUALITY_ID = 1
DATA_QUALITY_DESC = "Data calculated based on original SPICE kernels"
/* TIME DATA ELEMENTS */
SPACECRAFT_CLOCK_START_COUNT = "1/0083704426.57135"
SPACECRAFT_CLOCK_STOP_COUNT = "1/0083704827.57663"
START_TIME = 2005-12-26T19:14:15.927Z
STOP_TIME = 2005-12-26T19:19:27.259Z
/* ORBITAL DATA ELEMENTS */
ASCENDING_NODE_LONGITUDE = 175.57
MAXIMUM_RESOLUTION = 0.0497
FOOTPRINT_POINT_LATITUDE = (-68.6783,-68.7629,-68.8117,-68.8127, -68.8032,-67.8582,-67.4741,-67.0901, -66.7073,-66.3135,-65.9175,-65.5222, -65.1274,-64.5182,-64.1112,-63.7048, -63.299,-62.8938,-62.4893,-62.0853, -61.682,-61.2793,-60.8772,-60.4759, -60.0753,-59.6756,-59.2764,-58.878, -58.4801,-58.0831,-57.4882,-56.8959, -56.305,-55.9121,-55.5201,-55.129, -54.7387,-54.3491,-53.9603,-53.5723, -53.1853,-52.7992,-52.414,-52.0297, -51.6462,-51.2638,-50.8821,-50.1217, -49.3655,-49.1768,-49.1052,-49.081, -49.0342,-49.0332,-49.0337,-49.7863, -50.5436,-51.3043,-51.6861,-52.0686, -52.452,-52.8366,-53.222,-53.6081, -53.995,-54.3829,-54.7716,-55.1614, -55.5515,-55.9431,-56.3352,-56.7278, -57.1215,-57.5157,-57.9107,-58.3069, -58.7026,-59.0997,-59.4977,-59.8965, -60.4958,-61.0966,-61.4977,-61.8992, -62.3017,-62.7046,-63.1081,-63.5123, -64.1195,-64.524,-65.1276,-65.5209, -65.9148,-66.3087,-66.8869,-67.2687, -67.6507,-68.4081,-68.5929,-68.6783)
FOOTPRINT_POINT_LONGITUDE = (353.407,355.055,356.198,356.225, 356.335,356.627,356.737,356.846,356.943 ,357.049,357.149,357.243,357.334, 357.468,357.556,357.641,357.722,357.8, 357.875,357.949,358.019,358.087,358.153 ,358.217,358.278,358.336,358.393, 358.448,358.503,358.555,358.635,358.706 ,358.777,358.822,358.865,358.907, 358.948,358.988,359.028,359.066,359.103 ,359.139,359.174,359.208,359.241, 359.273,359.305,359.366,359.421,359.436 ,359.441,358.243,356.803,356.779,356.77 ,356.729,356.685,356.636,356.609, 356.581,356.552,356.522,356.49,356.457, 356.422,356.386,356.348,356.309,356.267 ,356.225,356.18,356.133,356.084,356.034 ,355.981,355.926,355.867,355.807, 355.745,355.681,355.579,355.471,355.395 ,355.315,355.233,355.147,355.058, 354.965,354.818,354.712,354.552,354.441 ,354.326,354.204,354.018,353.889, 353.754,353.47,353.397,353.407)
ORBIT_NUMBER = 2511
ORBITAL_ECCENTRICITY = 0.572
ORBITAL_INCLINATION = 86.62
ORBITAL_SEMIMAJOR_AXIS = 8528.01
PERIAPSIS_ALTITUDE = 276.98
PERIAPSIS_ARGUMENT_ANGLE = 276.97
PERIAPSIS_TIME = 2005-12-26T19:10:50.000Z
SPACECRAFT_ORIENTATION = (0.0,-1.0,0.0)
^MEX_ORIENTATION_DESC = "MEX_ORIENTATION_DESC.TXT"
SPACECRAFT_POINTING_MODE = ACROSSTRACK
^MEX_POINTING_DESC = "MEX_POINTING_DESC.TXT"
RIGHT_ASCENSION = -1e+32
DECLINATION = -1e+32
OFFSET_ANGLE = -0.2
SPACECRAFT_SOLAR_DISTANCE = 2.28064e+08
TARGET_NAME = MARS
/* CAMERA DATA ELEMENTS */
DETECTOR_TEMPERATURE = 18.1666
FOCAL_PLANE_TEMPERATURE = 8.9911
INST_CMPRS_NAME = "DISCRETE COSINE TRANSFORMATION (DCT)"
INST_CMPRS_RATIO = 22.9528
INST_CMPRS_QUALITY = 0
INST_CMPRS_QUANTZ_TBL_ID = 0
INSTRUMENT_TEMPERATURE = 11.234
LENS_TEMPERATURE = 9.3989
MACROPIXEL_SIZE = 4
MISSING_FRAMES = 0
PIXEL_SUBSAMPLING_FLAG = N
SIGNAL_CHAIN_ID = 2
/* RADIOMETRIC DATA ELEMENTS */
BANDWIDTH = 88.0
CENTER_FILTER_WAVELENGTH = 538.0
RADIANCE_OFFSET = 0.874024
RADIANCE_SCALING_FACTOR = 0.00448845
REFLECTANCE_SCALING_FACTOR = 0.000201003
MEX:REFLECTANCE_OFFSET = 0.0391407
/* IMAGE OBJECT DEFINITIONS */
OBJECT = IMAGE
  INTERCHANGE_FORMAT = BINARY
  LINES = 23434
  LINE_SAMPLES = 3490
  SAMPLE_TYPE = UNSIGNED_INTEGER
  SAMPLE_BITS = 8
  BANDS = 1
  BAND_STORAGE_TYPE = BAND_SEQUENTIAL
  MAXIMUM = 255
  MEAN = 115.984
  MINIMUM = 1
  STANDARD_DEVIATION = 40.3867
END_OBJECT = IMAGE
/* MAP OBJECT DEFINITIONS */
OBJECT = IMAGE_MAP_PROJECTION
  ^DATA_SET_MAP_PROJECTION_CATALOG= "DSMAP.CAT"
  A_AXIS_RADIUS = 3396.0
  B_AXIS_RADIUS = 3396.0
  C_AXIS_RADIUS = 3396.0
  CENTER_LATITUDE = 0.0
  CENTER_LONGITUDE = 357.0
  COORDINATE_SYSTEM_NAME = PLANETOGRAPHIC
  COORDINATE_SYSTEM_TYPE = "BODY-FIXED ROTATING"
  EASTERNMOST_LONGITUDE = 359.441
  FIRST_STANDARD_PARALLEL = "N/A"
  LINE_FIRST_PIXEL = 1
  LINE_LAST_PIXEL = 23434
  LINE_PROJECTION_OFFSET = -58123.875
  MAP_PROJECTION_ROTATION = 0.0
  MAP_PROJECTION_TYPE = SINUSOIDAL
  MAP_RESOLUTION = 1185.42760773333
  MAP_SCALE = 0.05
  MAXIMUM_LATITUDE = -49.0332
  MINIMUM_LATITUDE = -68.81270000000001
  POSITIVE_LONGITUDE_DIRECTION = EAST
  REFERENCE_LATITUDE = "N/A"
  REFERENCE_LONGITUDE = "N/A"
  SAMPLE_FIRST_PIXEL = 1
  SAMPLE_LAST_PIXEL = 3490
  SAMPLE_PROJECTION_OFFSET = 1568.625
  SECOND_STANDARD_PARALLEL = "N/A"
  WESTERNMOST_LONGITUDE = 353.397
END_OBJECT = IMAGE_MAP_PROJECTION
END
