PDS_VERSION_ID = PDS3
/* FILE DATA ELEMENTS */
RECORD_TYPE = UNDEFINED
/* POINTERS TO DATA OBJECTS */
^IMAGE = ("H2511_0000_IR4.TIF")
/* IDENTIFICATION DATA ELEMENTS */
DATA_SET_ID = "MEX-M-HRSC-4-REFDR-MAPPROJECT-EXT1-V4.0"
DATA_SET_NAME = "MARS EXPRESS HRSC MAP PROJECTED REFDR EXTENSION1 V4.0"
DETECTOR_ID = MEX_HRSC_IR
EVENT_TYPE = "MARS-REGIONAL-MAPPING-Im"
INSTRUMENT_HOST_ID = MEX
INSTRUMENT_HOST_NAME = "MARS EXPRESS"
INSTRUMENT_ID = HRSC
INSTRUMENT_NAME = "HIGH RESOLUTION STEREO CAMERA"
MISSION_NAME = "MARS EXPRESS"
MISSION_PHASE_NAME = ME_Phase_1
PROCESSING_LEVEL_ID = 4
PRODUCT_CREATION_TIME = 2023-02-08T07:05:14.000Z
PRODUCT_ID = "H2511_0000_IR4.TIF"
RELEASE_ID = 0001
REVISION_ID = 0000
/* QUALITY DATA ELEMENTS */
DATA_QUALITY_ID = 1
DATA_QUALITY_DESC = "Data calculated based on original SPICE kernels"
/* TIME DATA ELEMENTS */
SPACECRAFT_CLOCK_START_COUNT = "1/0083704426.57135"
SPACECRAFT_CLOCK_STOP_COUNT = "1/0083704827.57663"
START_TIME = 2005-12-26T19:13:58.245Z
STOP_TIME = 2005-12-26T19:18:56.783Z
/* ORBITAL DATA ELEMENTS */
ASCENDING_NODE_LONGITUDE = 175.57
MAXIMUM_RESOLUTION = 0.0508
FOOTPRINT_POINT_LATITUDE = (-68.7391,-68.8099,-68.862,-68.8629, -68.7957,-68.4286,-67.8772,-67.5102, -66.9522,-66.5787,-66.1923,-65.8129, -65.4342,-64.8483,-64.2599,-63.867, -63.2615,-62.8571,-62.4534,-62.0489, -61.6454,-61.2419,-60.8387,-60.4366, -59.8345,-59.2341,-58.8346,-58.4335, -58.0329,-57.6326,-57.2295,-56.6332, -56.2355,-55.6394,-55.2428,-54.8472, -54.4515,-53.8573,-53.4618,-52.8708, -52.2814,-51.6928,-51.1063,-50.7153, -50.3256,-49.9367,-49.3561,-49.1609, -49.1048,-49.0877,-49.0599,-49.0433, -49.0415,-49.0421,-49.6213,-50.0082, -50.3986,-50.9828,-51.5684,-51.9587, -52.3497,-52.7424,-53.1355,-53.529, -53.9221,-54.5143,-54.9084,-55.3055, -55.6988,-56.0994,-56.4951,-56.8935, -57.2913,-57.6891,-58.0877,-58.6847, -59.0836,-59.4839,-59.8851,-60.2861, -60.8871,-61.2908,-61.8928,-62.2954, -62.8991,-63.3025,-63.7053,-64.0966, -64.4828,-64.8773,-65.2674,-65.6452, -66.0241,-66.4017,-66.7798,-67.5175, -68.0655,-68.4315,-68.6143,-68.7391)
FOOTPRINT_POINT_LONGITUDE = (353.416,354.859,356.167,356.193, 356.323,356.439,356.605,356.711,356.866 ,356.955,357.062,357.155,357.244, 357.375,357.502,357.585,357.706,357.783 ,357.857,357.93,357.999,358.067,358.132 ,358.195,358.284,358.369,358.423, 358.478,358.53,358.582,358.635,358.704, 358.75,358.816,358.858,358.899,358.939, 358.998,359.037,359.091,359.143,359.194 ,359.242,359.273,359.303,359.332, 359.373,359.388,359.392,358.295,357.465 ,356.874,356.851,356.843,356.81,356.787 ,356.763,356.725,356.684,356.655, 356.624,356.593,356.56,356.525,356.489, 356.433,356.392,356.351,356.307,356.263 ,356.216,356.167,356.116,356.063, 356.008,355.921,355.86,355.797,355.732, 355.663,355.556,355.481,355.362,355.279 ,355.148,355.056,354.961,354.865, 354.764,354.661,354.553,354.444,354.331 ,354.214,354.092,353.839,353.638, 353.497,353.424,353.416)
ORBIT_NUMBER = 2511
ORBITAL_ECCENTRICITY = 0.572
ORBITAL_INCLINATION = 86.62
ORBITAL_SEMIMAJOR_AXIS = 8528.01
PERIAPSIS_ALTITUDE = 276.98
PERIAPSIS_ARGUMENT_ANGLE = 276.97
PERIAPSIS_TIME = 2005-12-26T19:10:50.000Z
SPACECRAFT_ORIENTATION = (0.0,-1.0,0.0)
^MEX_ORIENTATION_DESC = "MEX_ORIENTATION_DESC.TXT"
SPACECRAFT_POINTING_MODE = ACROSSTRACK
^MEX_POINTING_DESC = "MEX_POINTING_DESC.TXT"
RIGHT_ASCENSION = -1e+32
DECLINATION = -1e+32
OFFSET_ANGLE = -0.2
SPACECRAFT_SOLAR_DISTANCE = 2.28064e+08
TARGET_NAME = MARS
/* CAMERA DATA ELEMENTS */
DETECTOR_TEMPERATURE = 17.7588
FOCAL_PLANE_TEMPERATURE = 8.9911
INST_CMPRS_NAME = "DISCRETE COSINE TRANSFORMATION (DCT)"
INST_CMPRS_RATIO = 20.3159
INST_CMPRS_QUALITY = 0
INST_CMPRS_QUANTZ_TBL_ID = 0
INSTRUMENT_TEMPERATURE = 11.234
LENS_TEMPERATURE = 9.3989
MACROPIXEL_SIZE = 4
MISSING_FRAMES = 0
PIXEL_SUBSAMPLING_FLAG = N
SIGNAL_CHAIN_ID = 2
/* RADIOMETRIC DATA ELEMENTS */
BANDWIDTH = 81.0
CENTER_FILTER_WAVELENGTH = 955.5
RADIANCE_OFFSET = 0.461133
RADIANCE_SCALING_FACTOR = 0.00417315
REFLECTANCE_SCALING_FACTOR = 0.000468282
MEX:REFLECTANCE_OFFSET = 0.0517452
/* IMAGE OBJECT DEFINITIONS */
OBJECT = IMAGE
  INTERCHANGE_FORMAT = BINARY
  LINES = 23434
  LINE_SAMPLES = 3490
  SAMPLE_TYPE = UNSIGNED_INTEGER
  SAMPLE_BITS = 8
  BANDS = 1
  BAND_STORAGE_TYPE = BAND_SEQUENTIAL
  MAXIMUM = 255
  MEAN = 112.798
  MINIMUM = 1
  STANDARD_DEVIATION = 32.297
END_OBJECT = IMAGE
/* MAP OBJECT DEFINITIONS */
OBJECT = IMAGE_MAP_PROJECTION
  ^DATA_SET_MAP_PROJECTION_CATALOG= "DSMAP.CAT"
  A_AXIS_RADIUS = 3396.0
  B_AXIS_RADIUS = 3396.0
  C_AXIS_RADIUS = 3396.0
  CENTER_LATITUDE = 0.0
  CENTER_LONGITUDE = 357.0
  COORDINATE_SYSTEM_NAME = PLANETOGRAPHIC
  COORDINATE_SYSTEM_TYPE = "BODY-FIXED ROTATING"
  EASTERNMOST_LONGITUDE = 359.392
  FIRST_STANDARD_PARALLEL = "N/A"
  LINE_FIRST_PIXEL = 1
  LINE_LAST_PIXEL = 23434
  LINE_PROJECTION_OFFSET = -58123.875
  MAP_PROJECTION_ROTATION = 0.0
  MAP_PROJECTION_TYPE = SINUSOIDAL
  MAP_RESOLUTION = 1185.42760773333
  MAP_SCALE = 0.05
  MAXIMUM_LATITUDE = -49.0415
  MINIMUM_LATITUDE = -68.8629
  POSITIVE_LONGITUDE_DIRECTION = EAST
  REFERENCE_LATITUDE = "N/A"
  REFERENCE_LONGITUDE = "N/A"
  SAMPLE_FIRST_PIXEL = 1
  SAMPLE_LAST_PIXEL = 3490
  SAMPLE_PROJECTION_OFFSET = 1568.625
  SECOND_STANDARD_PARALLEL = "N/A"
  WESTERNMOST_LONGITUDE = 353.416
END_OBJECT = IMAGE_MAP_PROJECTION
END
