PDS_VERSION_ID = PDS3
/* FILE DATA ELEMENTS */
RECORD_TYPE = UNDEFINED
/* POINTERS TO DATA OBJECTS */
^IMAGE = ("H2511_0000_RE4.TIF")
/* IDENTIFICATION DATA ELEMENTS */
DATA_SET_ID = "MEX-M-HRSC-4-REFDR-MAPPROJECT-EXT1-V4.0"
DATA_SET_NAME = "MARS EXPRESS HRSC MAP PROJECTED REFDR EXTENSION1 V4.0"
DETECTOR_ID = MEX_HRSC_RED
EVENT_TYPE = "MARS-REGIONAL-MAPPING-Im"
INSTRUMENT_HOST_ID = MEX
INSTRUMENT_HOST_NAME = "MARS EXPRESS"
INSTRUMENT_ID = HRSC
INSTRUMENT_NAME = "HIGH RESOLUTION STEREO CAMERA"
MISSION_NAME = "MARS EXPRESS"
MISSION_PHASE_NAME = ME_Phase_1
PROCESSING_LEVEL_ID = 4
PRODUCT_CREATION_TIME = 2023-02-08T07:05:14.000Z
PRODUCT_ID = "H2511_0000_RE4.TIF"
RELEASE_ID = 0001
REVISION_ID = 0000
/* QUALITY DATA ELEMENTS */
DATA_QUALITY_ID = 1
DATA_QUALITY_DESC = "Data calculated based on original SPICE kernels"
/* TIME DATA ELEMENTS */
SPACECRAFT_CLOCK_START_COUNT = "1/0083704426.57135"
SPACECRAFT_CLOCK_STOP_COUNT = "1/0083704827.57663"
START_TIME = 2005-12-26T19:14:44.973Z
STOP_TIME = 2005-12-26T19:20:21.756Z
/* ORBITAL DATA ELEMENTS */
ASCENDING_NODE_LONGITUDE = 175.57
MAXIMUM_RESOLUTION = 0.054
FOOTPRINT_POINT_LATITUDE = (-68.5544,-68.6326,-68.7035,-68.7047, -68.7831,-68.1768,-67.769,-67.1585, -66.5259,-65.9058,-65.4882,-65.0717, -64.6567,-64.2426,-63.8312,-63.2155, -62.8057,-62.3971,-61.9906,-61.5846, -61.1802,-60.7771,-60.3746,-59.9724, -59.5703,-59.1714,-58.7735,-58.3783, -57.9865,-57.4012,-57.0083,-56.6175, -56.2295,-55.8433,-55.4578,-55.0729, -54.6898,-54.3095,-53.9311,-53.5543, -53.1779,-52.8031,-52.4293,-52.0565, -51.6864,-51.3168,-50.5833,-49.8546, -49.312,-49.133,-49.1035,-49.0831, -49.0659,-49.0271,-49.0261,-49.0269, -49.7456,-50.4665,-51.1969,-51.5639, -51.9345,-52.3054,-52.6773,-53.0507, -53.4253,-53.8021,-54.1806,-54.561, -55.1313,-55.7077,-56.0913,-56.478, -57.0611,-57.4504,-57.8434,-58.2344, -58.6316,-59.2261,-59.6234,-60.0208, -60.421,-60.8228,-61.2243,-61.6282, -62.0337,-62.6436,-63.0513,-63.4601, -63.87,-64.2808,-64.9,-65.3146,-65.936, -66.5619,-66.9768,-67.5853,-67.9915, -68.3967,-68.5935,-68.5544)
FOOTPRINT_POINT_LONGITUDE = (353.41,354.823,356.313,356.341,356.427 ,356.617,356.74,356.916,357.077,357.244 ,357.344,357.441,357.535,357.625, 357.712,357.838,357.917,357.994,358.068 ,358.14,358.21,358.277,358.341,358.403, 358.462,358.52,358.577,358.633,358.688, 358.768,358.817,358.864,358.911,358.958 ,359.002,359.045,359.086,359.128, 359.168,359.208,359.246,359.283,359.319 ,359.354,359.389,359.422,359.487, 359.548,359.592,359.607,359.609,358.694 ,357.866,356.681,356.653,356.644, 356.609,356.573,356.53,356.507,356.482, 356.456,356.429,356.4,356.371,356.339, 356.306,356.271,356.217,356.158,356.117 ,356.074,356.005,355.957,355.906, 355.854,355.797,355.709,355.648,355.585 ,355.518,355.447,355.375,355.299, 355.219,355.093,355.004,354.912,354.815 ,354.714,354.554,354.44,354.261,354.068 ,353.933,353.724,353.577,353.424, 353.347,353.41)
ORBIT_NUMBER = 2511
ORBITAL_ECCENTRICITY = 0.572
ORBITAL_INCLINATION = 86.62
ORBITAL_SEMIMAJOR_AXIS = 8528.01
PERIAPSIS_ALTITUDE = 276.98
PERIAPSIS_ARGUMENT_ANGLE = 276.97
PERIAPSIS_TIME = 2005-12-26T19:10:50.000Z
SPACECRAFT_ORIENTATION = (0.0,-1.0,0.0)
^MEX_ORIENTATION_DESC = "MEX_ORIENTATION_DESC.TXT"
SPACECRAFT_POINTING_MODE = ACROSSTRACK
^MEX_POINTING_DESC = "MEX_POINTING_DESC.TXT"
RIGHT_ASCENSION = -1e+32
DECLINATION = -1e+32
OFFSET_ANGLE = -0.2
SPACECRAFT_SOLAR_DISTANCE = 2.28064e+08
TARGET_NAME = MARS
/* CAMERA DATA ELEMENTS */
DETECTOR_TEMPERATURE = 18.5744
FOCAL_PLANE_TEMPERATURE = 8.9911
INST_CMPRS_NAME = "DISCRETE COSINE TRANSFORMATION (DCT)"
INST_CMPRS_RATIO = 27.15
INST_CMPRS_QUALITY = 0
INST_CMPRS_QUANTZ_TBL_ID = 0
INSTRUMENT_TEMPERATURE = 11.234
LENS_TEMPERATURE = 9.3989
MACROPIXEL_SIZE = 4
MISSING_FRAMES = 0
PIXEL_SUBSAMPLING_FLAG = N
SIGNAL_CHAIN_ID = 2
/* RADIOMETRIC DATA ELEMENTS */
BANDWIDTH = 48.0
CENTER_FILTER_WAVELENGTH = 748.0
RADIANCE_OFFSET = 0.580482
RADIANCE_SCALING_FACTOR = 0.0045528
REFLECTANCE_SCALING_FACTOR = 0.000540407
MEX:REFLECTANCE_OFFSET = 0.0689019
/* IMAGE OBJECT DEFINITIONS */
OBJECT = IMAGE
  INTERCHANGE_FORMAT = BINARY
  LINES = 23434
  LINE_SAMPLES = 3490
  SAMPLE_TYPE = UNSIGNED_INTEGER
  SAMPLE_BITS = 8
  BANDS = 1
  BAND_STORAGE_TYPE = BAND_SEQUENTIAL
  MAXIMUM = 255
  MEAN = 117.547
  MINIMUM = 1
  STANDARD_DEVIATION = 38.5055
END_OBJECT = IMAGE
/* MAP OBJECT DEFINITIONS */
OBJECT = IMAGE_MAP_PROJECTION
  ^DATA_SET_MAP_PROJECTION_CATALOG= "DSMAP.CAT"
  A_AXIS_RADIUS = 3396.0
  B_AXIS_RADIUS = 3396.0
  C_AXIS_RADIUS = 3396.0
  CENTER_LATITUDE = 0.0
  CENTER_LONGITUDE = 357.0
  COORDINATE_SYSTEM_NAME = PLANETOGRAPHIC
  COORDINATE_SYSTEM_TYPE = "BODY-FIXED ROTATING"
  EASTERNMOST_LONGITUDE = 359.609
  FIRST_STANDARD_PARALLEL = "N/A"
  LINE_FIRST_PIXEL = 1
  LINE_LAST_PIXEL = 23434
  LINE_PROJECTION_OFFSET = -58123.875
  MAP_PROJECTION_ROTATION = 0.0
  MAP_PROJECTION_TYPE = SINUSOIDAL
  MAP_RESOLUTION = 1185.42760773333
  MAP_SCALE = 0.05
  MAXIMUM_LATITUDE = -49.0261
  MINIMUM_LATITUDE = -68.7831
  POSITIVE_LONGITUDE_DIRECTION = EAST
  REFERENCE_LATITUDE = "N/A"
  REFERENCE_LONGITUDE = "N/A"
  SAMPLE_FIRST_PIXEL = 1
  SAMPLE_LAST_PIXEL = 3490
  SAMPLE_PROJECTION_OFFSET = 1568.625
  SECOND_STANDARD_PARALLEL = "N/A"
  WESTERNMOST_LONGITUDE = 353.347
END_OBJECT = IMAGE_MAP_PROJECTION
END
