PDS_VERSION_ID = PDS3
/* FILE DATA ELEMENTS */
RECORD_TYPE = UNDEFINED
/* POINTERS TO DATA OBJECTS */
^IMAGE = ("H2511_0000_S24.TIF")
/* IDENTIFICATION DATA ELEMENTS */
DATA_SET_ID = "MEX-M-HRSC-4-REFDR-MAPPROJECT-EXT1-V4.0"
DATA_SET_NAME = "MARS EXPRESS HRSC MAP PROJECTED REFDR EXTENSION1 V4.0"
DETECTOR_ID = MEX_HRSC_S2
EVENT_TYPE = "MARS-REGIONAL-MAPPING-Im"
INSTRUMENT_HOST_ID = MEX
INSTRUMENT_HOST_NAME = "MARS EXPRESS"
INSTRUMENT_ID = HRSC
INSTRUMENT_NAME = "HIGH RESOLUTION STEREO CAMERA"
MISSION_NAME = "MARS EXPRESS"
MISSION_PHASE_NAME = ME_Phase_1
PROCESSING_LEVEL_ID = 4
PRODUCT_CREATION_TIME = 2023-02-08T07:05:14.000Z
PRODUCT_ID = "H2511_0000_S24.TIF"
RELEASE_ID = 0001
REVISION_ID = 0000
/* QUALITY DATA ELEMENTS */
DATA_QUALITY_ID = 1
DATA_QUALITY_DESC = "Data calculated based on original SPICE kernels"
/* TIME DATA ELEMENTS */
SPACECRAFT_CLOCK_START_COUNT = "1/0083704426.57135"
SPACECRAFT_CLOCK_STOP_COUNT = "1/0083704827.57663"
START_TIME = 2005-12-26T19:14:50.052Z
STOP_TIME = 2005-12-26T19:20:32.665Z
/* ORBITAL DATA ELEMENTS */
ASCENDING_NODE_LONGITUDE = 175.57
MAXIMUM_RESOLUTION = 0.0277
FOOTPRINT_POINT_LATITUDE = (-68.5446,-68.645,-68.6972,-68.6985, -68.7928,-68.3793,-67.7603,-67.3489, -66.9274,-66.4954,-66.0831,-65.662, -65.2429,-64.6156,-64.1993,-63.7858, -63.1673,-62.7554,-62.3456,-61.9374, -61.53,-61.1244,-60.7204,-60.1151, -59.7122,-59.3101,-58.9111,-58.5141, -58.1187,-57.7275,-57.3405,-56.9471, -56.3628,-55.976,-55.5907,-55.2063, -54.8222,-54.4421,-54.0648,-53.5009, -53.1264,-52.7532,-52.3812,-52.0103, -51.6423,-51.2751,-50.5459,-49.8221, -49.2845,-49.1071,-49.1009,-49.0799, -49.0571,-49.0233,-49.0227,-49.0227, -49.9152,-50.4507,-51.1758,-51.5406, -51.9087,-52.278,-52.6486,-53.0205, -53.3932,-53.7685,-54.1457,-54.5244, -55.0939,-55.6691,-56.0518,-56.4382, -57.0213,-57.6065,-57.9995,-58.5906, -58.9901,-59.3872,-59.7852,-60.1849, -60.5865,-60.9898,-61.3931,-61.7998, -62.2076,-62.6162,-63.0256,-63.4364, -63.8483,-64.4714,-65.093,-65.5101, -66.138,-66.5576,-66.9787,-67.3947, -67.8044,-68.4189,-68.6242,-68.5446)
FOOTPRINT_POINT_LONGITUDE = (353.402,355.232,356.337,356.366, 356.451,356.582,356.769,356.888,357.007 ,357.113,357.228,357.331,357.431, 357.573,357.663,357.751,357.877,357.957 ,358.034,358.109,358.181,358.25,358.318 ,358.414,358.475,358.533,358.591, 358.647,358.702,358.757,358.812,358.86, 358.932,358.979,359.024,359.068,359.11, 359.152,359.194,359.254,359.292,359.33, 359.366,359.401,359.436,359.47,359.535, 359.597,359.642,359.657,359.658,358.741 ,357.742,356.656,356.627,356.616, 356.574,356.548,356.506,356.484,356.46, 356.434,356.408,356.38,356.351,356.32, 356.287,356.253,356.2,356.142,356.102, 356.059,355.991,355.918,355.867,355.786 ,355.727,355.667,355.605,355.541, 355.473,355.401,355.328,355.25,355.168, 355.083,354.995,354.902,354.806,354.65, 354.487,354.371,354.187,354.056,353.92, 353.778,353.633,353.403,353.322, 353.402)
ORBIT_NUMBER = 2511
ORBITAL_ECCENTRICITY = 0.572
ORBITAL_INCLINATION = 86.62
ORBITAL_SEMIMAJOR_AXIS = 8528.01
PERIAPSIS_ALTITUDE = 276.98
PERIAPSIS_ARGUMENT_ANGLE = 276.97
PERIAPSIS_TIME = 2005-12-26T19:10:50.000Z
SPACECRAFT_ORIENTATION = (0.0,-1.0,0.0)
^MEX_ORIENTATION_DESC = "MEX_ORIENTATION_DESC.TXT"
SPACECRAFT_POINTING_MODE = ACROSSTRACK
^MEX_POINTING_DESC = "MEX_POINTING_DESC.TXT"
RIGHT_ASCENSION = -1e+32
DECLINATION = -1e+32
OFFSET_ANGLE = -0.2
SPACECRAFT_SOLAR_DISTANCE = 2.28064e+08
TARGET_NAME = MARS
/* CAMERA DATA ELEMENTS */
DETECTOR_TEMPERATURE = 18.5744
FOCAL_PLANE_TEMPERATURE = 8.9911
INST_CMPRS_NAME = "DISCRETE COSINE TRANSFORMATION (DCT)"
INST_CMPRS_RATIO = 12.0258
INST_CMPRS_QUALITY = 0
INST_CMPRS_QUANTZ_TBL_ID = 0
INSTRUMENT_TEMPERATURE = 11.234
LENS_TEMPERATURE = 9.3989
MACROPIXEL_SIZE = 2
MISSING_FRAMES = 0
PIXEL_SUBSAMPLING_FLAG = N
SIGNAL_CHAIN_ID = 1
/* RADIOMETRIC DATA ELEMENTS */
BANDWIDTH = 178.0
CENTER_FILTER_WAVELENGTH = 679.0
RADIANCE_OFFSET = 2.33706
RADIANCE_SCALING_FACTOR = 0.016443
REFLECTANCE_SCALING_FACTOR = 0.000452926
MEX:REFLECTANCE_OFFSET = 0.0643749
/* IMAGE OBJECT DEFINITIONS */
OBJECT = IMAGE
  INTERCHANGE_FORMAT = BINARY
  LINES = 46867
  LINE_SAMPLES = 6980
  SAMPLE_TYPE = UNSIGNED_INTEGER
  SAMPLE_BITS = 8
  BANDS = 1
  BAND_STORAGE_TYPE = BAND_SEQUENTIAL
  MAXIMUM = 255
  MEAN = 116.978
  MINIMUM = 1
  STANDARD_DEVIATION = 38.8846
END_OBJECT = IMAGE
/* MAP OBJECT DEFINITIONS */
OBJECT = IMAGE_MAP_PROJECTION
  ^DATA_SET_MAP_PROJECTION_CATALOG= "DSMAP.CAT"
  A_AXIS_RADIUS = 3396.0
  B_AXIS_RADIUS = 3396.0
  C_AXIS_RADIUS = 3396.0
  CENTER_LATITUDE = 0.0
  CENTER_LONGITUDE = 357.0
  COORDINATE_SYSTEM_NAME = PLANETOGRAPHIC
  COORDINATE_SYSTEM_TYPE = "BODY-FIXED ROTATING"
  EASTERNMOST_LONGITUDE = 359.658
  FIRST_STANDARD_PARALLEL = "N/A"
  LINE_FIRST_PIXEL = 1
  LINE_LAST_PIXEL = 46867
  LINE_PROJECTION_OFFSET = -116247.25
  MAP_PROJECTION_ROTATION = 0.0
  MAP_PROJECTION_TYPE = SINUSOIDAL
  MAP_RESOLUTION = 2370.85521546667
  MAP_SCALE = 0.025
  MAXIMUM_LATITUDE = -49.0227
  MINIMUM_LATITUDE = -68.7928
  POSITIVE_LONGITUDE_DIRECTION = EAST
  REFERENCE_LATITUDE = "N/A"
  REFERENCE_LONGITUDE = "N/A"
  SAMPLE_FIRST_PIXEL = 1
  SAMPLE_LAST_PIXEL = 6980
  SAMPLE_PROJECTION_OFFSET = 3137.75
  SECOND_STANDARD_PARALLEL = "N/A"
  WESTERNMOST_LONGITUDE = 353.322
END_OBJECT = IMAGE_MAP_PROJECTION
END
