PDS_VERSION_ID = PDS3
/* FILE DATA ELEMENTS */
RECORD_TYPE = UNDEFINED
/* POINTERS TO DATA OBJECTS */
^IMAGE = ("H2514_0001_S14.TIF")
/* IDENTIFICATION DATA ELEMENTS */
DATA_SET_ID = "MEX-M-HRSC-4-REFDR-MAPPROJECT-EXT1-V4.0"
DATA_SET_NAME = "MARS EXPRESS HRSC MAP PROJECTED REFDR EXTENSION1 V4.0"
DETECTOR_ID = MEX_HRSC_S1
EVENT_TYPE = "MARS-REGIONAL-MAPPING-Im-Gl-Pf"
INSTRUMENT_HOST_ID = MEX
INSTRUMENT_HOST_NAME = "MARS EXPRESS"
INSTRUMENT_ID = HRSC
INSTRUMENT_NAME = "HIGH RESOLUTION STEREO CAMERA"
MISSION_NAME = "MARS EXPRESS"
MISSION_PHASE_NAME = ME_Phase_1
PROCESSING_LEVEL_ID = 4
PRODUCT_CREATION_TIME = 2023-02-08T07:05:14.000Z
PRODUCT_ID = "H2514_0001_S14.TIF"
RELEASE_ID = 0001
REVISION_ID = 0000
/* QUALITY DATA ELEMENTS */
DATA_QUALITY_ID = 1
DATA_QUALITY_DESC = "Data calculated based on original SPICE kernels"
/* TIME DATA ELEMENTS */
SPACECRAFT_CLOCK_START_COUNT = "1/0083776818.57152"
SPACECRAFT_CLOCK_STOP_COUNT = "1/0083777050.57151"
START_TIME = 2005-12-27T15:20:25.708Z
STOP_TIME = 2005-12-27T15:23:18.339Z
/* ORBITAL DATA ELEMENTS */
ASCENDING_NODE_LONGITUDE = 175.5
MAXIMUM_RESOLUTION = 0.0231
FOOTPRINT_POINT_LATITUDE = (-79.6584,-79.7837,-79.8599,-79.9486, -79.9511,-79.8663,-79.5429,-79.3261, -79.1132,-78.8943,-78.5677,-78.1336, -77.9155,-77.6965,-77.3675,-77.1472, -76.8175,-76.5972,-76.3769,-76.1562, -75.936,-75.7145,-75.4931,-75.272, -74.9408,-74.5966,-74.364,-74.1326, -73.9029,-73.673,-73.4415,-73.2082, -72.8585,-72.6253,-72.3924,-72.1597, -71.9272,-71.5782,-71.3386,-71.0961, -70.8535,-70.6121,-70.3721,-70.0064, -69.642,-69.3987,-69.031,-68.7802, -68.5302,-68.4041,-68.3689,-68.3243, -68.2829,-68.2195,-68.2178,-68.2175, -68.467,-68.7168,-69.0892,-69.4526, -69.8152,-70.0574,-70.4131,-70.653, -71.0128,-71.2522,-71.4886,-71.7208, -71.9506,-72.2948,-72.5251,-72.7554, -73.1008,-73.3308,-73.6765,-73.9063, -74.1341,-74.3623,-74.5898,-74.8087, -75.1348,-75.353,-75.5708,-75.8972, -76.2227,-76.4365,-76.7605,-76.9758, -77.302,-77.5197,-77.8386,-78.0528, -78.266,-78.5845,-78.7966,-79.0069, -79.2172,-79.4274,-79.532,-79.6584)
FOOTPRINT_POINT_LONGITUDE = (47.4245,49.3009,50.561,52.1755,52.2235 ,52.5612,53.076,53.4037,53.7043,54.011, 54.4419,54.971,55.2232,55.4677,55.8183, 56.0435,56.3642,56.5694,56.7673,56.9593 ,57.1437,57.3245,57.4993,57.6677, 57.9092,58.1555,58.3143,58.4655,58.609, 58.7484,58.8864,59.0232,59.2207,59.3477 ,59.4704,59.5894,59.7048,59.8724, 59.9818,60.092,60.1995,60.3021,60.4003, 60.5503,60.6927,60.7852,60.9186,61.0066 ,61.0915,61.1345,61.1468,60.1628, 59.3791,58.2919,58.2641,58.2539,58.1499 ,58.0432,57.879,57.7136,57.5411,57.4223 ,57.2354,57.1075,56.9088,56.7715, 56.6327,56.4934,56.3496,56.1259,55.9718 ,55.8132,55.5665,55.3958,55.1304, 54.9465,54.7564,54.5606,54.3591,54.1588 ,53.8461,53.6297,53.4064,53.0577, 52.6916,52.4371,52.0395,51.7629,51.3297 ,51.0278,50.5545,50.2242,49.8815, 49.3429,48.9662,48.575,48.1679,47.7441, 47.5257,47.4245)
ORBIT_NUMBER = 2514
ORBITAL_ECCENTRICITY = 0.572
ORBITAL_INCLINATION = 86.63
ORBITAL_SEMIMAJOR_AXIS = 8528.36
PERIAPSIS_ALTITUDE = 276.34
PERIAPSIS_ARGUMENT_ANGLE = 276.47
PERIAPSIS_TIME = 2005-12-27T15:20:01.000Z
SPACECRAFT_ORIENTATION = (0.0,-1.0,0.0)
^MEX_ORIENTATION_DESC = "MEX_ORIENTATION_DESC.TXT"
SPACECRAFT_POINTING_MODE = NADIR
^MEX_POINTING_DESC = "MEX_POINTING_DESC.TXT"
RIGHT_ASCENSION = -1e+32
DECLINATION = -1e+32
OFFSET_ANGLE = -1e+32
SPACECRAFT_SOLAR_DISTANCE = 2.28228e+08
TARGET_NAME = MARS
/* CAMERA DATA ELEMENTS */
DETECTOR_TEMPERATURE = 18.1666
FOCAL_PLANE_TEMPERATURE = 8.5833
INST_CMPRS_NAME = "DISCRETE COSINE TRANSFORMATION (DCT)"
INST_CMPRS_RATIO = 9.99225
INST_CMPRS_QUALITY = 0
INST_CMPRS_QUANTZ_TBL_ID = 0
INSTRUMENT_TEMPERATURE = 11.234
LENS_TEMPERATURE = 9.195
MACROPIXEL_SIZE = 2
MISSING_FRAMES = 0
PIXEL_SUBSAMPLING_FLAG = N
SIGNAL_CHAIN_ID = 1
/* RADIOMETRIC DATA ELEMENTS */
BANDWIDTH = 180.0
CENTER_FILTER_WAVELENGTH = 677.0
RADIANCE_OFFSET = 1.87187
RADIANCE_SCALING_FACTOR = 0.0100754
REFLECTANCE_SCALING_FACTOR = 0.000273806
MEX:REFLECTANCE_OFFSET = 0.0508693
/* IMAGE OBJECT DEFINITIONS */
OBJECT = IMAGE
  INTERCHANGE_FORMAT = BINARY
  LINES = 27589
  LINE_SAMPLES = 7756
  SAMPLE_TYPE = UNSIGNED_INTEGER
  SAMPLE_BITS = 8
  BANDS = 1
  BAND_STORAGE_TYPE = BAND_SEQUENTIAL
  MAXIMUM = 255
  MEAN = 115.3
  MINIMUM = 1
  STANDARD_DEVIATION = 53.7141
END_OBJECT = IMAGE
/* MAP OBJECT DEFINITIONS */
OBJECT = IMAGE_MAP_PROJECTION
  ^DATA_SET_MAP_PROJECTION_CATALOG= "DSMAP.CAT"
  A_AXIS_RADIUS = 3396.0
  B_AXIS_RADIUS = 3396.0
  C_AXIS_RADIUS = 3396.0
  CENTER_LATITUDE = 0.0
  CENTER_LONGITUDE = 57.0
  COORDINATE_SYSTEM_NAME = PLANETOGRAPHIC
  COORDINATE_SYSTEM_TYPE = "BODY-FIXED ROTATING"
  EASTERNMOST_LONGITUDE = 61.1468
  FIRST_STANDARD_PARALLEL = "N/A"
  LINE_FIRST_PIXEL = 1
  LINE_LAST_PIXEL = 27589
  LINE_PROJECTION_OFFSET = -161710.25
  MAP_PROJECTION_ROTATION = 0.0
  MAP_PROJECTION_TYPE = SINUSOIDAL
  MAP_RESOLUTION = 2370.85521546667
  MAP_SCALE = 0.025
  MAXIMUM_LATITUDE = -68.2175
  MINIMUM_LATITUDE = -79.9511
  POSITIVE_LONGITUDE_DIRECTION = EAST
  REFERENCE_LATITUDE = "N/A"
  REFERENCE_LONGITUDE = "N/A"
  SAMPLE_FIRST_PIXEL = 1
  SAMPLE_LAST_PIXEL = 7756
  SAMPLE_PROJECTION_OFFSET = 4092.75
  SECOND_STANDARD_PARALLEL = "N/A"
  WESTERNMOST_LONGITUDE = 47.4245
END_OBJECT = IMAGE_MAP_PROJECTION
END
