PDS_VERSION_ID = PDS3
/* FILE DATA ELEMENTS */
RECORD_TYPE = UNDEFINED
/* POINTERS TO DATA OBJECTS */
^IMAGE = ("H2521_0000_RE4.TIF")
/* IDENTIFICATION DATA ELEMENTS */
DATA_SET_ID = "MEX-M-HRSC-4-REFDR-MAPPROJECT-EXT1-V4.0"
DATA_SET_NAME = "MARS EXPRESS HRSC MAP PROJECTED REFDR EXTENSION1 V4.0"
DETECTOR_ID = MEX_HRSC_RED
EVENT_TYPE = "MARS-REGIONAL-MAPPING-Im-Gl-La"
INSTRUMENT_HOST_ID = MEX
INSTRUMENT_HOST_NAME = "MARS EXPRESS"
INSTRUMENT_ID = HRSC
INSTRUMENT_NAME = "HIGH RESOLUTION STEREO CAMERA"
MISSION_NAME = "MARS EXPRESS"
MISSION_PHASE_NAME = ME_Phase_1
PROCESSING_LEVEL_ID = 4
PRODUCT_CREATION_TIME = 2023-02-08T07:05:14.000Z
PRODUCT_ID = "H2521_0000_RE4.TIF"
RELEASE_ID = 0001
REVISION_ID = 0000
/* QUALITY DATA ELEMENTS */
DATA_QUALITY_ID = 1
DATA_QUALITY_DESC = "Data calculated based on original SPICE kernels"
/* TIME DATA ELEMENTS */
SPACECRAFT_CLOCK_START_COUNT = "1/0083946115.56204"
SPACECRAFT_CLOCK_STOP_COUNT = "1/0083946367.23137"
START_TIME = 2005-12-29T14:22:47.226Z
STOP_TIME = 2005-12-29T14:26:06.565Z
/* ORBITAL DATA ELEMENTS */
ASCENDING_NODE_LONGITUDE = 175.36
MAXIMUM_RESOLUTION = 0.0466
FOOTPRINT_POINT_LATITUDE = (-80.0318,-80.2227,-80.3343,-80.3368, -80.4279,-80.1983,-79.9684,-79.7384, -79.5072,-79.0457,-78.8068,-78.5661, -78.3255,-77.9647,-77.6027,-77.361, -76.998,-76.7565,-76.5165,-76.2758, -76.0352,-75.789,-75.5347,-75.2851, -75.0365,-74.7888,-74.5396,-74.2906, -74.0417,-73.793,-73.4106,-73.1526, -72.8959,-72.6384,-72.381,-72.1247, -71.8685,-71.6053,-71.3405,-71.0746, -70.8102,-70.5426,-70.1522,-69.88, -69.4652,-69.0582,-68.7869,-68.5109, -68.2322,-67.9543,-67.8154,-67.8106, -67.7796,-67.7501,-67.6594,-67.658, -67.6582,-67.9368,-68.2111,-68.4931, -68.7657,-69.0288,-69.3058,-69.5766, -69.8395,-70.2356,-70.4984,-70.8928, -71.2897,-71.5524,-71.9389,-72.3207, -72.5719,-72.8271,-73.0818,-73.3367, -73.5883,-73.8344,-74.2038,-74.5729, -74.8188,-75.0639,-75.4316,-75.677, -75.9157,-76.1605,-76.3992,-76.7543, -76.9889,-77.3373,-77.6946,-77.931, -78.2848,-78.5202,-78.7531,-79.3149, -79.6511,-79.985,-80.096,-80.0318)
FOOTPRINT_POINT_LONGITUDE = (78.7946,81.7892,83.8138,83.8627, 83.9005,84.3196,84.719,85.1,85.4635, 86.1437,86.472,86.7884,87.0914,87.5225, 87.9269,88.1829,88.5481,88.7803,89.0046 ,89.2202,89.4282,89.6338,89.8315, 90.0249,90.2121,90.3932,90.5672,90.7353 ,90.8978,91.0551,91.2869,91.4366, 91.5822,91.7224,91.8582,91.9903,92.1183 ,92.2452,92.3697,92.4896,92.6065, 92.7178,92.8854,92.9946,93.1476,93.2985 ,93.3952,93.4918,93.5866,93.679,93.7241 ,93.7258,92.9952,92.2943,90.6385, 90.6091,90.5992,90.4894,90.383,90.2622, 90.1442,90.0359,89.9028,89.7759,89.6583 ,89.4625,89.3255,89.1121,88.8845, 88.7305,88.4901,88.2446,88.0814,87.9044 ,87.723,87.5348,87.3416,87.1471,86.8423 ,86.5221,86.2995,86.0709,85.7117, 85.4602,85.2046,84.9189,84.6395,84.2088 ,83.9138,83.4595,82.9445,82.5886, 82.0267,81.6315,81.2238,80.1591,79.4588 ,78.7137,78.4536,78.7946)
ORBIT_NUMBER = 2521
ORBITAL_ECCENTRICITY = 0.572
ORBITAL_INCLINATION = 86.63
ORBITAL_SEMIMAJOR_AXIS = 8528.12
PERIAPSIS_ALTITUDE = 276.31
PERIAPSIS_ARGUMENT_ANGLE = 275.23
PERIAPSIS_TIME = 2005-12-29T14:21:29.000Z
SPACECRAFT_ORIENTATION = (0.0,-1.0,0.0)
^MEX_ORIENTATION_DESC = "MEX_ORIENTATION_DESC.TXT"
SPACECRAFT_POINTING_MODE = NADIR
^MEX_POINTING_DESC = "MEX_POINTING_DESC.TXT"
RIGHT_ASCENSION = -1e+32
DECLINATION = -1e+32
OFFSET_ANGLE = -1e+32
SPACECRAFT_SOLAR_DISTANCE = 2.28608e+08
TARGET_NAME = MARS
/* CAMERA DATA ELEMENTS */
DETECTOR_TEMPERATURE = 18.9822
FOCAL_PLANE_TEMPERATURE = 8.1755
INST_CMPRS_NAME = "DISCRETE COSINE TRANSFORMATION (DCT)"
INST_CMPRS_RATIO = 32.9118
INST_CMPRS_QUALITY = 0
INST_CMPRS_QUANTZ_TBL_ID = 0
INSTRUMENT_TEMPERATURE = 9.6028
LENS_TEMPERATURE = 8.7872
MACROPIXEL_SIZE = 4
MISSING_FRAMES = 0
PIXEL_SUBSAMPLING_FLAG = N
SIGNAL_CHAIN_ID = 2
/* RADIOMETRIC DATA ELEMENTS */
BANDWIDTH = 48.0
CENTER_FILTER_WAVELENGTH = 748.0
RADIANCE_OFFSET = 0.378678
RADIANCE_SCALING_FACTOR = 0.00302502
REFLECTANCE_SCALING_FACTOR = 0.000360776
MEX:REFLECTANCE_OFFSET = 0.0451626
/* IMAGE OBJECT DEFINITIONS */
OBJECT = IMAGE
  INTERCHANGE_FORMAT = BINARY
  LINES = 15131
  LINE_SAMPLES = 4232
  SAMPLE_TYPE = UNSIGNED_INTEGER
  SAMPLE_BITS = 8
  BANDS = 1
  BAND_STORAGE_TYPE = BAND_SEQUENTIAL
  MAXIMUM = 255
  MEAN = 103.723
  MINIMUM = 1
  STANDARD_DEVIATION = 41.3796
END_OBJECT = IMAGE
/* MAP OBJECT DEFINITIONS */
OBJECT = IMAGE_MAP_PROJECTION
  ^DATA_SET_MAP_PROJECTION_CATALOG= "DSMAP.CAT"
  A_AXIS_RADIUS = 3396.0
  B_AXIS_RADIUS = 3396.0
  C_AXIS_RADIUS = 3396.0
  CENTER_LATITUDE = 0.0
  CENTER_LONGITUDE = 89.0
  COORDINATE_SYSTEM_NAME = PLANETOGRAPHIC
  COORDINATE_SYSTEM_TYPE = "BODY-FIXED ROTATING"
  EASTERNMOST_LONGITUDE = 93.72580000000001
  FIRST_STANDARD_PARALLEL = "N/A"
  LINE_FIRST_PIXEL = 1
  LINE_LAST_PIXEL = 15131
  LINE_PROJECTION_OFFSET = -80229.625
  MAP_PROJECTION_ROTATION = 0.0
  MAP_PROJECTION_TYPE = SINUSOIDAL
  MAP_RESOLUTION = 1185.42760773333
  MAP_SCALE = 0.05
  MAXIMUM_LATITUDE = -67.658
  MINIMUM_LATITUDE = -80.42789999999999
  POSITIVE_LONGITUDE_DIRECTION = EAST
  REFERENCE_LATITUDE = "N/A"
  REFERENCE_LONGITUDE = "N/A"
  SAMPLE_FIRST_PIXEL = 1
  SAMPLE_LAST_PIXEL = 4232
  SAMPLE_PROJECTION_OFFSET = 2150.375
  SECOND_STANDARD_PARALLEL = "N/A"
  WESTERNMOST_LONGITUDE = 78.45359999999999
END_OBJECT = IMAGE_MAP_PROJECTION
END
