PDS_VERSION_ID = PDS3
/* FILE DATA ELEMENTS */
RECORD_TYPE = UNDEFINED
/* POINTERS TO DATA OBJECTS */
^IMAGE = ("H2527_0000_RE4.TIF")
/* IDENTIFICATION DATA ELEMENTS */
DATA_SET_ID = "MEX-M-HRSC-4-REFDR-MAPPROJECT-EXT1-V4.0"
DATA_SET_NAME = "MARS EXPRESS HRSC MAP PROJECTED REFDR EXTENSION1 V4.0"
DETECTOR_ID = MEX_HRSC_RED
EVENT_TYPE = "MARS-REGIONAL-MAPPING-Te-Im-Fl"
INSTRUMENT_HOST_ID = MEX
INSTRUMENT_HOST_NAME = "MARS EXPRESS"
INSTRUMENT_ID = HRSC
INSTRUMENT_NAME = "HIGH RESOLUTION STEREO CAMERA"
MISSION_NAME = "MARS EXPRESS"
MISSION_PHASE_NAME = ME_Phase_1
PROCESSING_LEVEL_ID = 4
PRODUCT_CREATION_TIME = 2023-02-08T07:05:14.000Z
PRODUCT_ID = "H2527_0000_RE4.TIF"
RELEASE_ID = 0001
REVISION_ID = 0000
/* QUALITY DATA ELEMENTS */
DATA_QUALITY_ID = 1
DATA_QUALITY_DESC = "Data calculated based on original SPICE kernels"
/* TIME DATA ELEMENTS */
SPACECRAFT_CLOCK_START_COUNT = "1/0084091542.57150"
SPACECRAFT_CLOCK_STOP_COUNT = "1/0084092021.16568"
START_TIME = 2005-12-31T06:49:17.336Z
STOP_TIME = 2005-12-31T06:53:26.602Z
/* ORBITAL DATA ELEMENTS */
ASCENDING_NODE_LONGITUDE = 175.24
MAXIMUM_RESOLUTION = 0.0919
FOOTPRINT_POINT_LATITUDE = (-51.8999,-51.9158,-51.9315,-51.9501, -51.9651,-51.9764,-51.988,-51.9886, -52.0385,-51.6099,-51.1749,-50.7412, -50.2998,-49.732,-49.2892,-49.0627, -48.8321,-48.6019,-48.3651,-48.1346, -47.9016,-47.668,-47.4314,-47.1946, -46.9553,-46.7143,-46.4726,-46.229, -45.8609,-45.4893,-45.2404,-44.9895, -44.7377,-44.484,-44.2332,-43.845, -43.5871,-43.1956,-42.9334,-42.669, -42.4019,-42.0009,-41.7306,-41.4588, -41.1853,-40.9088,-40.4943,-39.9387, -39.7984,-39.7953,-39.7944,-39.7947, -39.7942,-39.7903,-39.7865,-39.7833, -39.773,-39.7721,-39.7734,-40.0532, -40.3311,-40.6065,-40.8797,-41.1518, -41.4217,-41.825,-42.0924,-42.4927, -42.7588,-43.017,-43.279,-43.5372, -43.7941,-44.1775,-44.4306,-44.6822, -44.9311,-45.3045,-45.551,-45.919, -46.1616,-46.5247,-46.7651,-47.0022, -47.3576,-47.592,-47.9418,-48.1772, -48.409,-48.6394,-48.8684,-49.3187, -49.6545,-50.2134,-50.7646,-51.1972, -51.521,-51.8407,-51.9476,-51.8999)
FOOTPRINT_POINT_LONGITUDE = (224.079,224.508,224.964,225.564, 226.107,226.564,227.108,227.137,227.171 ,227.214,227.256,227.3,227.341,227.388, 227.433,227.453,227.472,227.492,227.509 ,227.529,227.55,227.569,227.589,227.608 ,227.627,227.646,227.665,227.683, 227.711,227.738,227.756,227.774,227.792 ,227.81,227.83,227.855,227.873,227.899, 227.916,227.934,227.95,227.977,227.993, 228.01,228.027,228.043,228.068,228.104, 228.112,228.112,227.521,226.895,226.477 ,225.851,225.364,224.98,224.423,224.389 ,224.377,224.379,224.381,224.384, 224.386,224.387,224.388,224.388,224.388 ,224.385,224.382,224.382,224.378, 224.376,224.373,224.368,224.364,224.36, 224.356,224.348,224.343,224.334,224.327 ,224.317,224.31,224.303,224.29,224.283, 224.27,224.258,224.248,224.238,224.227, 224.207,224.19,224.158,224.123,224.096, 224.074,224.052,224.044,224.079)
ORBIT_NUMBER = 2527
ORBITAL_ECCENTRICITY = 0.572
ORBITAL_INCLINATION = 86.63
ORBITAL_SEMIMAJOR_AXIS = 8527.3
PERIAPSIS_ALTITUDE = 276.42
PERIAPSIS_ARGUMENT_ANGLE = 274.2
PERIAPSIS_TIME = 2005-12-31T06:39:49.000Z
SPACECRAFT_ORIENTATION = (0.0,-1.0,0.0)
^MEX_ORIENTATION_DESC = "MEX_ORIENTATION_DESC.TXT"
SPACECRAFT_POINTING_MODE = NADIR
^MEX_POINTING_DESC = "MEX_POINTING_DESC.TXT"
RIGHT_ASCENSION = -1e+32
DECLINATION = -1e+32
OFFSET_ANGLE = -1e+32
SPACECRAFT_SOLAR_DISTANCE = 2.28934e+08
TARGET_NAME = MARS
/* CAMERA DATA ELEMENTS */
DETECTOR_TEMPERATURE = 18.7783
FOCAL_PLANE_TEMPERATURE = 9.195
INST_CMPRS_NAME = "DISCRETE COSINE TRANSFORMATION (DCT)"
INST_CMPRS_RATIO = 10.2624
INST_CMPRS_QUALITY = 0
INST_CMPRS_QUANTZ_TBL_ID = 0
INSTRUMENT_TEMPERATURE = 11.4379
LENS_TEMPERATURE = 9.6028
MACROPIXEL_SIZE = 4
MISSING_FRAMES = 0
PIXEL_SUBSAMPLING_FLAG = N
SIGNAL_CHAIN_ID = 2
/* RADIOMETRIC DATA ELEMENTS */
BANDWIDTH = 48.0
CENTER_FILTER_WAVELENGTH = 748.0
RADIANCE_OFFSET = 0.866479
RADIANCE_SCALING_FACTOR = 0.00407008
REFLECTANCE_SCALING_FACTOR = 0.000486802
MEX:REFLECTANCE_OFFSET = 0.103635
/* IMAGE OBJECT DEFINITIONS */
OBJECT = IMAGE
  INTERCHANGE_FORMAT = BINARY
  LINES = 5654
  LINE_SAMPLES = 1499
  SAMPLE_TYPE = UNSIGNED_INTEGER
  SAMPLE_BITS = 8
  BANDS = 1
  BAND_STORAGE_TYPE = BAND_SEQUENTIAL
  MAXIMUM = 255
  MEAN = 149.894
  MINIMUM = 1
  STANDARD_DEVIATION = 23.5521
END_OBJECT = IMAGE
/* MAP OBJECT DEFINITIONS */
OBJECT = IMAGE_MAP_PROJECTION
  ^DATA_SET_MAP_PROJECTION_CATALOG= "DSMAP.CAT"
  A_AXIS_RADIUS = 3396.0
  B_AXIS_RADIUS = 3396.0
  C_AXIS_RADIUS = 3396.0
  CENTER_LATITUDE = 0.0
  CENTER_LONGITUDE = 226.0
  COORDINATE_SYSTEM_NAME = PLANETOGRAPHIC
  COORDINATE_SYSTEM_TYPE = "BODY-FIXED ROTATING"
  EASTERNMOST_LONGITUDE = 228.112
  FIRST_STANDARD_PARALLEL = "N/A"
  LINE_FIRST_PIXEL = 1
  LINE_LAST_PIXEL = 5654
  LINE_PROJECTION_OFFSET = -23589.125
  MAP_PROJECTION_ROTATION = 0.0
  MAP_PROJECTION_TYPE = SINUSOIDAL
  MAP_RESOLUTION = 592.713803866667
  MAP_SCALE = 0.1
  MAXIMUM_LATITUDE = -39.7721
  MINIMUM_LATITUDE = -52.0385
  POSITIVE_LONGITUDE_DIRECTION = EAST
  REFERENCE_LATITUDE = "N/A"
  REFERENCE_LONGITUDE = "N/A"
  SAMPLE_FIRST_PIXEL = 1
  SAMPLE_LAST_PIXEL = 1499
  SAMPLE_PROJECTION_OFFSET = 649.375
  SECOND_STANDARD_PARALLEL = "N/A"
  WESTERNMOST_LONGITUDE = 224.044
END_OBJECT = IMAGE_MAP_PROJECTION
END
