PDS_VERSION_ID = PDS3
/* FILE DATA ELEMENTS */
RECORD_TYPE = UNDEFINED
/* POINTERS TO DATA OBJECTS */
^IMAGE = ("H2528_0000_IR4.TIF")
/* IDENTIFICATION DATA ELEMENTS */
DATA_SET_ID = "MEX-M-HRSC-4-REFDR-MAPPROJECT-EXT1-V4.0"
DATA_SET_NAME = "MARS EXPRESS HRSC MAP PROJECTED REFDR EXTENSION1 V4.0"
DETECTOR_ID = MEX_HRSC_IR
EVENT_TYPE = "MARS-REGIONAL-MAPPING-Gl-Pf-Eo"
INSTRUMENT_HOST_ID = MEX
INSTRUMENT_HOST_NAME = "MARS EXPRESS"
INSTRUMENT_ID = HRSC
INSTRUMENT_NAME = "HIGH RESOLUTION STEREO CAMERA"
MISSION_NAME = "MARS EXPRESS"
MISSION_PHASE_NAME = ME_Phase_1
PROCESSING_LEVEL_ID = 4
PRODUCT_CREATION_TIME = 2023-02-08T07:05:14.000Z
PRODUCT_ID = "H2528_0000_IR4.TIF"
RELEASE_ID = 0001
REVISION_ID = 0000
/* QUALITY DATA ELEMENTS */
DATA_QUALITY_ID = 1
DATA_QUALITY_DESC = "Data calculated based on original SPICE kernels"
/* TIME DATA ELEMENTS */
SPACECRAFT_CLOCK_START_COUNT = "1/0084115454.57158"
SPACECRAFT_CLOCK_STOP_COUNT = "1/0084115769.33521"
START_TIME = 2005-12-31T13:25:03.123Z
STOP_TIME = 2005-12-31T13:28:25.783Z
/* ORBITAL DATA ELEMENTS */
ASCENDING_NODE_LONGITUDE = 175.21
MAXIMUM_RESOLUTION = 0.0481
FOOTPRINT_POINT_LATITUDE = (-75.3935,-75.5193,-75.6067,-75.6871, -75.6895,-75.6105,-75.1327,-74.7701, -74.5305,-74.2864,-73.9207,-73.6771, -73.434,-73.1904,-72.9476,-72.6982, -72.3262,-72.0678,-71.6821,-71.3018, -71.0478,-70.7941,-70.5311,-70.1367, -69.7424,-69.3484,-69.0869,-68.6824, -68.2756,-68.0,-67.593,-67.3201, -67.0406,-66.7599,-66.4797,-66.1997, -65.7801,-65.3603,-65.079,-64.7993, -64.5192,-64.2389,-63.9596,-63.6812, -63.4019,-63.0946,-62.7617,-62.4286, -62.262,-62.2059,-62.1472,-62.104, -62.0098,-62.0076,-62.0079,-62.5049, -63.0003,-63.2833,-63.7025,-63.9827, -64.2628,-64.5402,-64.8184,-65.2361, -65.5143,-65.7928,-66.072,-66.49, -66.9081,-67.1857,-67.4545,-67.7306, -68.0037,-68.2726,-68.5396,-68.8035, -69.1931,-69.4539,-69.7141,-69.9757, -70.367,-70.7465,-71.0006,-71.2531, -71.6296,-71.8721,-72.1227,-72.3723, -72.6207,-72.8608,-73.2349,-73.5939, -73.8328,-74.0728,-74.3137,-74.6741, -74.9141,-75.1506,-75.2647,-75.3935)
FOOTPRINT_POINT_LONGITUDE = (115.528,116.987,118.092,119.189, 119.223,119.274,119.732,120.06,120.268, 120.472,120.766,120.954,121.136,121.313 ,121.484,121.655,121.902,122.064, 122.297,122.519,122.662,122.8,122.94, 123.142,123.336,123.522,123.642,123.82, 123.992,124.104,124.266,124.37,124.475, 124.577,124.676,124.773,124.913,125.048 ,125.136,125.221,125.305,125.386, 125.465,125.542,125.618,125.699,125.784 ,125.868,125.909,125.922,125.008, 124.392,123.197,123.171,123.162,123.025 ,122.88,122.787,122.66,122.574,122.484, 122.389,122.292,122.142,122.038,121.932 ,121.823,121.653,121.475,121.354, 121.231,121.114,120.989,120.856,120.715 ,120.571,120.357,120.212,120.061, 119.908,119.669,119.417,119.254,119.084 ,118.815,118.616,118.425,118.226, 118.022,117.817,117.522,117.189,116.958 ,116.721,116.479,116.1,115.837,115.559, 115.423,115.528)
ORBIT_NUMBER = 2528
ORBITAL_ECCENTRICITY = 0.572
ORBITAL_INCLINATION = 86.62
ORBITAL_SEMIMAJOR_AXIS = 8528.56
PERIAPSIS_ALTITUDE = 277.29
PERIAPSIS_ARGUMENT_ANGLE = 274.02
PERIAPSIS_TIME = 2005-12-31T13:22:55.000Z
SPACECRAFT_ORIENTATION = (0.0,-1.0,0.0)
^MEX_ORIENTATION_DESC = "MEX_ORIENTATION_DESC.TXT"
SPACECRAFT_POINTING_MODE = ACROSSTRACK
^MEX_POINTING_DESC = "MEX_POINTING_DESC.TXT"
RIGHT_ASCENSION = -1e+32
DECLINATION = -1e+32
OFFSET_ANGLE = 0.61
SPACECRAFT_SOLAR_DISTANCE = 2.28988e+08
TARGET_NAME = MARS
/* CAMERA DATA ELEMENTS */
DETECTOR_TEMPERATURE = 17.7588
FOCAL_PLANE_TEMPERATURE = 9.3989
INST_CMPRS_NAME = "DISCRETE COSINE TRANSFORMATION (DCT)"
INST_CMPRS_RATIO = 9.71114
INST_CMPRS_QUALITY = 0
INST_CMPRS_QUANTZ_TBL_ID = 0
INSTRUMENT_TEMPERATURE = 11.4379
LENS_TEMPERATURE = 48.5477
MACROPIXEL_SIZE = 4
MISSING_FRAMES = 0
PIXEL_SUBSAMPLING_FLAG = N
SIGNAL_CHAIN_ID = 2
/* RADIOMETRIC DATA ELEMENTS */
BANDWIDTH = 81.0
CENTER_FILTER_WAVELENGTH = 955.5
RADIANCE_OFFSET = 0.404315
RADIANCE_SCALING_FACTOR = 0.00282641
REFLECTANCE_SCALING_FACTOR = 0.000319736
MEX:REFLECTANCE_OFFSET = 0.0457379
/* IMAGE OBJECT DEFINITIONS */
OBJECT = IMAGE
  INTERCHANGE_FORMAT = BINARY
  LINES = 17696
  LINE_SAMPLES = 4529
  SAMPLE_TYPE = UNSIGNED_INTEGER
  SAMPLE_BITS = 8
  BANDS = 1
  BAND_STORAGE_TYPE = BAND_SEQUENTIAL
  MAXIMUM = 255
  MEAN = 112.377
  MINIMUM = 1
  STANDARD_DEVIATION = 41.3275
END_OBJECT = IMAGE
/* MAP OBJECT DEFINITIONS */
OBJECT = IMAGE_MAP_PROJECTION
  ^DATA_SET_MAP_PROJECTION_CATALOG= "DSMAP.CAT"
  A_AXIS_RADIUS = 3396.0
  B_AXIS_RADIUS = 3396.0
  C_AXIS_RADIUS = 3396.0
  CENTER_LATITUDE = 0.0
  CENTER_LONGITUDE = 122.0
  COORDINATE_SYSTEM_NAME = PLANETOGRAPHIC
  COORDINATE_SYSTEM_TYPE = "BODY-FIXED ROTATING"
  EASTERNMOST_LONGITUDE = 125.922
  FIRST_STANDARD_PARALLEL = "N/A"
  LINE_FIRST_PIXEL = 1
  LINE_LAST_PIXEL = 17696
  LINE_PROJECTION_OFFSET = -73484.125
  MAP_PROJECTION_ROTATION = 0.0
  MAP_PROJECTION_TYPE = SINUSOIDAL
  MAP_RESOLUTION = 1185.42760773333
  MAP_SCALE = 0.05
  MAXIMUM_LATITUDE = -62.0076
  MINIMUM_LATITUDE = -75.6895
  POSITIVE_LONGITUDE_DIRECTION = EAST
  REFERENCE_LATITUDE = "N/A"
  REFERENCE_LONGITUDE = "N/A"
  SAMPLE_FIRST_PIXEL = 1
  SAMPLE_LAST_PIXEL = 4529
  SAMPLE_PROJECTION_OFFSET = 2307.875
  SECOND_STANDARD_PARALLEL = "N/A"
  WESTERNMOST_LONGITUDE = 115.423
END_OBJECT = IMAGE_MAP_PROJECTION
END
