PDS_VERSION_ID = PDS3
/* FILE DATA ELEMENTS */
RECORD_TYPE = UNDEFINED
/* POINTERS TO DATA OBJECTS */
^IMAGE = ("H2528_0000_P24.TIF")
/* IDENTIFICATION DATA ELEMENTS */
DATA_SET_ID = "MEX-M-HRSC-4-REFDR-MAPPROJECT-EXT1-V4.0"
DATA_SET_NAME = "MARS EXPRESS HRSC MAP PROJECTED REFDR EXTENSION1 V4.0"
DETECTOR_ID = MEX_HRSC_P2
EVENT_TYPE = "MARS-REGIONAL-MAPPING-Gl-Pf-Eo"
INSTRUMENT_HOST_ID = MEX
INSTRUMENT_HOST_NAME = "MARS EXPRESS"
INSTRUMENT_ID = HRSC
INSTRUMENT_NAME = "HIGH RESOLUTION STEREO CAMERA"
MISSION_NAME = "MARS EXPRESS"
MISSION_PHASE_NAME = ME_Phase_1
PROCESSING_LEVEL_ID = 4
PRODUCT_CREATION_TIME = 2023-02-08T07:05:14.000Z
PRODUCT_ID = "H2528_0000_P24.TIF"
RELEASE_ID = 0001
REVISION_ID = 0000
/* QUALITY DATA ELEMENTS */
DATA_QUALITY_ID = 1
DATA_QUALITY_DESC = "Data calculated based on original SPICE kernels"
/* TIME DATA ELEMENTS */
SPACECRAFT_CLOCK_START_COUNT = "1/0084115454.57158"
SPACECRAFT_CLOCK_STOP_COUNT = "1/0084115769.33521"
START_TIME = 2005-12-31T13:25:03.922Z
STOP_TIME = 2005-12-31T13:29:20.056Z
/* ORBITAL DATA ELEMENTS */
ASCENDING_NODE_LONGITUDE = 175.21
MAXIMUM_RESOLUTION = 0.0476
FOOTPRINT_POINT_LATITUDE = (-77.634,-77.7516,-77.9062,-77.9084, -77.9698,-77.4122,-76.9897,-76.7059, -76.2874,-76.0053,-75.4418,-75.1502, -74.7104,-74.4162,-73.9794,-73.6877, -73.3945,-72.9407,-72.4852,-72.179, -71.8849,-71.5823,-71.2713,-70.961, -70.6509,-70.3417,-70.027,-69.7076, -69.3883,-68.9105,-68.5913,-68.1182, -67.7983,-67.3266,-67.0102,-66.6954, -66.3805,-65.8214,-65.4472,-65.0763, -64.7042,-64.3343,-63.7796,-63.4102, -63.0425,-62.6757,-62.3102,-62.1229, -62.1094,-62.0431,-61.9838,-61.9824, -61.9828,-62.533,-62.8978,-63.4475, -63.818,-64.1822,-64.5518,-64.9214, -65.2918,-65.6631,-66.2197,-66.532, -66.8451,-67.158,-67.4723,-67.7831, -68.0956,-68.4121,-68.7299,-69.0474, -69.3634,-69.68,-69.9965,-70.303, -70.6107,-71.0716,-71.3778,-71.6815, -71.9831,-72.4304,-72.7284,-73.0263, -73.4591,-73.7476,-74.0356,-74.4662, -74.7531,-75.041,-75.3246,-75.6041, -76.1529,-76.4294,-76.7069,-76.9829, -77.2575,-77.5319,-77.6652,-77.634)
FOOTPRINT_POINT_LONGITUDE = (112.242,113.98,116.604,116.645,116.528 ,117.299,117.838,118.18,118.654,118.958 ,119.528,119.806,120.203,120.456, 120.813,121.04,121.26,121.585,121.894, 122.093,122.275,122.457,122.638,122.812 ,122.98,123.143,123.302,123.459,123.611 ,123.829,123.969,124.168,124.298, 124.482,124.601,124.716,124.828,125.019 ,125.141,125.259,125.373,125.484, 125.642,125.744,125.843,125.938,126.03, 126.076,126.08,124.342,123.083,123.054, 123.044,122.897,122.794,122.629,122.507 ,122.398,122.273,122.145,122.013, 121.874,121.658,121.531,121.399,121.265 ,121.123,120.989,120.846,120.686, 120.516,120.342,120.17,119.989,119.804, 119.619,119.423,119.119,118.913,118.688 ,118.447,118.096,117.851,117.598, 117.237,116.963,116.681,116.245,115.94, 115.614,115.268,114.908,114.217,113.828 ,113.408,112.979,112.538,112.073,111.84 ,112.242)
ORBIT_NUMBER = 2528
ORBITAL_ECCENTRICITY = 0.572
ORBITAL_INCLINATION = 86.62
ORBITAL_SEMIMAJOR_AXIS = 8528.56
PERIAPSIS_ALTITUDE = 277.29
PERIAPSIS_ARGUMENT_ANGLE = 274.02
PERIAPSIS_TIME = 2005-12-31T13:22:55.000Z
SPACECRAFT_ORIENTATION = (0.0,-1.0,0.0)
^MEX_ORIENTATION_DESC = "MEX_ORIENTATION_DESC.TXT"
SPACECRAFT_POINTING_MODE = ACROSSTRACK
^MEX_POINTING_DESC = "MEX_POINTING_DESC.TXT"
RIGHT_ASCENSION = -1e+32
DECLINATION = -1e+32
OFFSET_ANGLE = 0.61
SPACECRAFT_SOLAR_DISTANCE = 2.28988e+08
TARGET_NAME = MARS
/* CAMERA DATA ELEMENTS */
DETECTOR_TEMPERATURE = 18.5744
FOCAL_PLANE_TEMPERATURE = 9.3989
INST_CMPRS_NAME = "DISCRETE COSINE TRANSFORMATION (DCT)"
INST_CMPRS_RATIO = 15.7602
INST_CMPRS_QUALITY = 0
INST_CMPRS_QUANTZ_TBL_ID = 0
INSTRUMENT_TEMPERATURE = 11.4379
LENS_TEMPERATURE = 48.5477
MACROPIXEL_SIZE = 4
MISSING_FRAMES = 0
PIXEL_SUBSAMPLING_FLAG = N
SIGNAL_CHAIN_ID = 3
/* RADIOMETRIC DATA ELEMENTS */
BANDWIDTH = 177.0
CENTER_FILTER_WAVELENGTH = 676.5
RADIANCE_OFFSET = 1.41977
RADIANCE_SCALING_FACTOR = 0.0116922
REFLECTANCE_SCALING_FACTOR = 0.000325074
MEX:REFLECTANCE_OFFSET = 0.0394733
/* IMAGE OBJECT DEFINITIONS */
OBJECT = IMAGE
  INTERCHANGE_FORMAT = BINARY
  LINES = 17696
  LINE_SAMPLES = 4529
  SAMPLE_TYPE = UNSIGNED_INTEGER
  SAMPLE_BITS = 8
  BANDS = 1
  BAND_STORAGE_TYPE = BAND_SEQUENTIAL
  MAXIMUM = 255
  MEAN = 129.443
  MINIMUM = 24
  STANDARD_DEVIATION = 40.3498
END_OBJECT = IMAGE
/* MAP OBJECT DEFINITIONS */
OBJECT = IMAGE_MAP_PROJECTION
  ^DATA_SET_MAP_PROJECTION_CATALOG= "DSMAP.CAT"
  A_AXIS_RADIUS = 3396.0
  B_AXIS_RADIUS = 3396.0
  C_AXIS_RADIUS = 3396.0
  CENTER_LATITUDE = 0.0
  CENTER_LONGITUDE = 122.0
  COORDINATE_SYSTEM_NAME = PLANETOGRAPHIC
  COORDINATE_SYSTEM_TYPE = "BODY-FIXED ROTATING"
  EASTERNMOST_LONGITUDE = 126.08
  FIRST_STANDARD_PARALLEL = "N/A"
  LINE_FIRST_PIXEL = 1
  LINE_LAST_PIXEL = 17696
  LINE_PROJECTION_OFFSET = -73484.125
  MAP_PROJECTION_ROTATION = 0.0
  MAP_PROJECTION_TYPE = SINUSOIDAL
  MAP_RESOLUTION = 1185.42760773333
  MAP_SCALE = 0.05
  MAXIMUM_LATITUDE = -61.9824
  MINIMUM_LATITUDE = -77.96980000000001
  POSITIVE_LONGITUDE_DIRECTION = EAST
  REFERENCE_LATITUDE = "N/A"
  REFERENCE_LONGITUDE = "N/A"
  SAMPLE_FIRST_PIXEL = 1
  SAMPLE_LAST_PIXEL = 4529
  SAMPLE_PROJECTION_OFFSET = 2307.875
  SECOND_STANDARD_PARALLEL = "N/A"
  WESTERNMOST_LONGITUDE = 111.84
END_OBJECT = IMAGE_MAP_PROJECTION
END
