PDS_VERSION_ID = PDS3
/* FILE DATA ELEMENTS */
RECORD_TYPE = UNDEFINED
/* POINTERS TO DATA OBJECTS */
^IMAGE = ("H2533_0020_SR4.TIF")
/* IDENTIFICATION DATA ELEMENTS */
DATA_SET_ID = "MEX-M-HRSC-4-REFDR-MAPPROJECT-EXT1-V4.0"
DATA_SET_NAME = "MARS EXPRESS HRSC MAP PROJECTED REFDR EXTENSION1 V4.0"
DETECTOR_ID = MEX_HRSC_SRC
EVENT_TYPE = "MARS-TERMINATOR-VARIABLE-At"
INSTRUMENT_HOST_ID = MEX
INSTRUMENT_HOST_NAME = "MARS EXPRESS"
INSTRUMENT_ID = HRSC
INSTRUMENT_NAME = "HIGH RESOLUTION STEREO CAMERA"
MISSION_NAME = "MARS EXPRESS"
MISSION_PHASE_NAME = ME_Phase_1
PROCESSING_LEVEL_ID = 4
PRODUCT_CREATION_TIME = 2023-02-08T07:05:14.000Z
PRODUCT_ID = "H2533_0020_SR4.TIF"
RELEASE_ID = 0001
REVISION_ID = 0000
/* QUALITY DATA ELEMENTS */
DATA_QUALITY_ID = 1
DATA_QUALITY_DESC = "Data calculated based on original SPICE kernels"
/* TIME DATA ELEMENTS */
SPACECRAFT_CLOCK_START_COUNT = "1/0084240625.57300"
SPACECRAFT_CLOCK_STOP_COUNT = "1/0084241980.17147"
IMAGE_TIME = 2006-01-02T00:20:34.752Z
START_TIME = 2006-01-02T00:20:34.749Z
STOP_TIME = 2006-01-02T00:20:34.756Z
/* ORBITAL DATA ELEMENTS */
ASCENDING_NODE_LONGITUDE = 175.11
MAXIMUM_RESOLUTION = 0.059716
FOOTPRINT_POINT_LATITUDE = (55.4564,55.4048,55.373,55.3413,55.3095 ,55.2778,55.2461,55.1932,55.1615, 55.1298,55.0981,55.0664,55.0347,55.003, 54.9713,54.9396,54.9079,54.8562,54.8245 ,54.7611,54.6978,54.6345,54.5711, 54.5224,54.4592,54.4582,54.4584,54.4761 ,54.4862,54.4962,54.5062,54.5161, 54.5261,54.536,54.5458,54.5556,54.5705, 54.5803,54.59,54.5996,54.6093,54.6236, 54.6332,54.6427,54.6522,54.6616,54.671, 54.6804,54.6898,54.7014,54.7037,54.7051 ,54.7688,54.8325,54.9086,54.9723, 55.0361,55.068,55.0999,55.1318,55.1637, 55.1956,55.2457,55.2776,55.3095,55.3695 ,55.4014,55.4333,55.4653,55.4972, 55.5292,55.5834,55.6153,55.6473,55.7093 ,55.7103,55.71,55.6933,55.6837,55.6668, 55.6571,55.6473,55.6376,55.6203,55.6105 ,55.6006,55.5831,55.5703,55.5603, 55.5502,55.5401,55.5223,55.5121,55.5018 ,55.4915,55.4812,55.4709,55.4605, 55.4579,55.4564)
FOOTPRINT_POINT_LONGITUDE = (347.102,347.078,347.064,347.049, 347.035,347.02,347.006,346.982,346.968, 346.953,346.939,346.925,346.91,346.896, 346.882,346.868,346.854,346.831,346.816 ,346.788,346.76,346.732,346.704,346.683 ,346.655,346.655,346.653,346.535, 346.467,346.4,346.332,346.264,346.197, 346.129,346.061,345.993,345.892,345.824 ,345.756,345.688,345.62,345.518,345.45, 345.381,345.313,345.245,345.177,345.108 ,345.04,344.955,344.938,344.927,344.952 ,344.978,345.008,345.033,345.058, 345.071,345.084,345.097,345.109,345.122 ,345.142,345.155,345.168,345.192, 345.205,345.218,345.231,345.244,345.257 ,345.279,345.292,345.306,345.331, 345.331,345.333,345.456,345.526,345.648 ,345.718,345.788,345.858,345.98,346.05, 346.12,346.242,346.329,346.398,346.468, 346.537,346.659,346.728,346.798,346.867 ,346.936,347.005,347.075,347.092, 347.102)
ORBIT_NUMBER = 2533
ORBITAL_ECCENTRICITY = 0.572
ORBITAL_INCLINATION = 86.62
ORBITAL_SEMIMAJOR_AXIS = 8527.27
PERIAPSIS_ALTITUDE = 277.58
PERIAPSIS_ARGUMENT_ANGLE = 273.14
PERIAPSIS_TIME = 2006-01-01T22:58:17.000Z
SPACECRAFT_ORIENTATION = (0.0,-1.0,0.0)
^MEX_ORIENTATION_DESC = "MEX_ORIENTATION_DESC.TXT"
SPACECRAFT_POINTING_MODE = INERT
^MEX_POINTING_DESC = "MEX_POINTING_DESC.TXT"
RIGHT_ASCENSION = 321.956
DECLINATION = 49.174
OFFSET_ANGLE = -1e+32
SPACECRAFT_SOLAR_DISTANCE = 2.29259e+08
TARGET_NAME = MARS
/* CAMERA DATA ELEMENTS */
BUFFER_MODE_ID = DIRECT
EXPOSURE_DURATION = 7.056
INST_CMPRS_NAME = NONE
INST_CMPRS_RATIO = 1.0
INST_CMPRS_QUALITY = -2147483648
INST_CMPRS_QUANTZ_TBL_ID = -2147483648
INSTRUMENT_TEMPERATURE = 17.8268
MISSING_FRAMES = 0
START_BIT = 0
/* RADIOMETRIC DATA ELEMENTS */
BANDWIDTH = 250.0
CENTER_FILTER_WAVELENGTH = 600.0
RADIANCE_OFFSET = -9.99e+31
RADIANCE_SCALING_FACTOR = -9.99e+31
REFLECTANCE_SCALING_FACTOR = -9.99e+31
MEX:REFLECTANCE_OFFSET = -9.99e+31
/* IMAGE OBJECT DEFINITIONS */
OBJECT = IMAGE
  INTERCHANGE_FORMAT = BINARY
  LINES = 1900
  LINE_SAMPLES = 1889
  SAMPLE_TYPE = UNSIGNED_INTEGER
  SAMPLE_BITS = 8
  BANDS = 1
  BAND_STORAGE_TYPE = BAND_SEQUENTIAL
  MAXIMUM = 255
  MEAN = 234.104
  MINIMUM = 1
  STANDARD_DEVIATION = 7.81724
END_OBJECT = IMAGE
/* MAP OBJECT DEFINITIONS */
OBJECT = IMAGE_MAP_PROJECTION
  ^DATA_SET_MAP_PROJECTION_CATALOG= "DSMAP.CAT"
  A_AXIS_RADIUS = 3396.19
  B_AXIS_RADIUS = 3396.19
  C_AXIS_RADIUS = 3396.19
  CENTER_LATITUDE = 0.0
  CENTER_LONGITUDE = 346.0
  COORDINATE_SYSTEM_NAME = PLANETOGRAPHIC
  COORDINATE_SYSTEM_TYPE = "BODY-FIXED ROTATING"
  EASTERNMOST_LONGITUDE = 347.102
  FIRST_STANDARD_PARALLEL = "N/A"
  LINE_FIRST_PIXEL = 1
  LINE_LAST_PIXEL = 1900
  LINE_PROJECTION_OFFSET = 82501.0
  MAP_PROJECTION_ROTATION = 0.0
  MAP_PROJECTION_TYPE = SINUSOIDAL
  MAP_RESOLUTION = 1481.86741280472
  MAP_SCALE = 0.04
  MAXIMUM_LATITUDE = 55.7103
  MINIMUM_LATITUDE = 54.4582
  POSITIVE_LONGITUDE_DIRECTION = EAST
  REFERENCE_LATITUDE = "N/A"
  REFERENCE_LONGITUDE = "N/A"
  SAMPLE_FIRST_PIXEL = 1
  SAMPLE_LAST_PIXEL = 1889
  SAMPLE_PROJECTION_OFFSET = 943.0
  SECOND_STANDARD_PARALLEL = "N/A"
  WESTERNMOST_LONGITUDE = 344.927
END_OBJECT = IMAGE_MAP_PROJECTION
END
