PDS_VERSION_ID = PDS3
/* FILE DATA ELEMENTS */
RECORD_TYPE = UNDEFINED
/* POINTERS TO DATA OBJECTS */
^IMAGE = ("H2533_0028_SR4.TIF")
/* IDENTIFICATION DATA ELEMENTS */
DATA_SET_ID = "MEX-M-HRSC-4-REFDR-MAPPROJECT-EXT1-V4.0"
DATA_SET_NAME = "MARS EXPRESS HRSC MAP PROJECTED REFDR EXTENSION1 V4.0"
DETECTOR_ID = MEX_HRSC_SRC
EVENT_TYPE = "MARS-TERMINATOR-VARIABLE-At"
INSTRUMENT_HOST_ID = MEX
INSTRUMENT_HOST_NAME = "MARS EXPRESS"
INSTRUMENT_ID = HRSC
INSTRUMENT_NAME = "HIGH RESOLUTION STEREO CAMERA"
MISSION_NAME = "MARS EXPRESS"
MISSION_PHASE_NAME = ME_Phase_1
PROCESSING_LEVEL_ID = 4
PRODUCT_CREATION_TIME = 2023-02-08T07:05:14.000Z
PRODUCT_ID = "H2533_0028_SR4.TIF"
RELEASE_ID = 0001
REVISION_ID = 0000
/* QUALITY DATA ELEMENTS */
DATA_QUALITY_ID = 1
DATA_QUALITY_DESC = "Data calculated based on original SPICE kernels"
/* TIME DATA ELEMENTS */
SPACECRAFT_CLOCK_START_COUNT = "1/0084240625.57300"
SPACECRAFT_CLOCK_STOP_COUNT = "1/0084241980.17147"
IMAGE_TIME = 2006-01-02T00:25:27.430Z
START_TIME = 2006-01-02T00:25:27.427Z
STOP_TIME = 2006-01-02T00:25:27.434Z
/* ORBITAL DATA ELEMENTS */
ASCENDING_NODE_LONGITUDE = 175.11
MAXIMUM_RESOLUTION = 0.063135
FOOTPRINT_POINT_LATITUDE = (63.7558,63.7158,63.6813,63.6292, 63.5947,63.5602,63.5257,63.4912,63.4567 ,63.4126,63.3781,63.3437,63.2811, 63.2467,63.2123,63.1779,63.1435,63.1091 ,63.0748,63.0404,63.0061,62.9091, 62.8105,62.7419,62.6733,62.6723,62.6726 ,62.6845,62.6993,62.7111,62.7228, 62.7434,62.755,62.7666,62.7867,62.7981, 62.8095,62.8292,62.8404,62.8516,62.8711 ,62.8822,62.8932,62.9125,62.9233, 62.9341,62.9449,62.9557,62.9584,62.96, 63.0068,63.0761,63.1303,63.1997,63.2691 ,63.3038,63.3444,63.3791,63.4139, 63.4486,63.4834,63.5182,63.553,63.5878, 63.6226,63.6817,63.7166,63.7689,63.8038 ,63.8386,63.8735,63.9084,63.9433, 63.9783,64.0191,64.0551,64.0562,64.0559 ,64.0364,64.0194,64.0077,63.9963,63.979 ,63.9675,63.956,63.9354,63.9237,63.912, 63.8942,63.8823,63.8704,63.8525,63.8404 ,63.8283,63.807,63.7947,63.7825,63.7607 ,63.7576,63.7558)
FOOTPRINT_POINT_LONGITUDE = (347.745,347.719,347.697,347.664, 347.642,347.62,347.598,347.576,347.555, 347.527,347.505,347.484,347.445,347.423 ,347.402,347.381,347.36,347.338,347.317 ,347.296,347.275,347.217,347.157, 347.116,347.075,347.074,347.072,346.982 ,346.87,346.78,346.69,346.532,346.441, 346.351,346.193,346.102,346.012,345.853 ,345.762,345.671,345.512,345.421, 345.329,345.17,345.078,344.987,344.895, 344.804,344.781,344.767,344.791,344.827 ,344.855,344.891,344.927,344.945, 344.966,344.984,345.003,345.021,345.04, 345.058,345.077,345.095,345.114,345.145 ,345.164,345.192,345.211,345.23,345.249 ,345.268,345.287,345.306,345.328, 345.348,345.349,345.351,345.518,345.66, 345.755,345.85,345.992,346.087,346.182, 346.347,346.441,346.536,346.677,346.771 ,346.865,347.006,347.1,347.193,347.357, 347.451,347.544,347.707,347.731, 347.745)
ORBIT_NUMBER = 2533
ORBITAL_ECCENTRICITY = 0.572
ORBITAL_INCLINATION = 86.62
ORBITAL_SEMIMAJOR_AXIS = 8527.27
PERIAPSIS_ALTITUDE = 277.58
PERIAPSIS_ARGUMENT_ANGLE = 273.14
PERIAPSIS_TIME = 2006-01-01T22:58:17.000Z
SPACECRAFT_ORIENTATION = (0.0,-1.0,0.0)
^MEX_ORIENTATION_DESC = "MEX_ORIENTATION_DESC.TXT"
SPACECRAFT_POINTING_MODE = INERT
^MEX_POINTING_DESC = "MEX_POINTING_DESC.TXT"
RIGHT_ASCENSION = 321.956
DECLINATION = 49.174
OFFSET_ANGLE = -1e+32
SPACECRAFT_SOLAR_DISTANCE = 2.29259e+08
TARGET_NAME = MARS
/* CAMERA DATA ELEMENTS */
BUFFER_MODE_ID = DIRECT
EXPOSURE_DURATION = 7.056
INST_CMPRS_NAME = NONE
INST_CMPRS_RATIO = 1.0
INST_CMPRS_QUALITY = -2147483648
INST_CMPRS_QUANTZ_TBL_ID = -2147483648
INSTRUMENT_TEMPERATURE = 22.8571
MISSING_FRAMES = 0
START_BIT = 0
/* RADIOMETRIC DATA ELEMENTS */
BANDWIDTH = 250.0
CENTER_FILTER_WAVELENGTH = 600.0
RADIANCE_OFFSET = -9.99e+31
RADIANCE_SCALING_FACTOR = -9.99e+31
REFLECTANCE_SCALING_FACTOR = -9.99e+31
MEX:REFLECTANCE_OFFSET = -9.99e+31
/* IMAGE OBJECT DEFINITIONS */
OBJECT = IMAGE
  INTERCHANGE_FORMAT = BINARY
  LINES = 1070
  LINE_SAMPLES = 1030
  SAMPLE_TYPE = UNSIGNED_INTEGER
  SAMPLE_BITS = 8
  BANDS = 1
  BAND_STORAGE_TYPE = BAND_SEQUENTIAL
  MAXIMUM = 254
  MEAN = 226.896
  MINIMUM = 2
  STANDARD_DEVIATION = 8.88759
END_OBJECT = IMAGE
/* MAP OBJECT DEFINITIONS */
OBJECT = IMAGE_MAP_PROJECTION
  ^DATA_SET_MAP_PROJECTION_CATALOG= "DSMAP.CAT"
  A_AXIS_RADIUS = 3396.19
  B_AXIS_RADIUS = 3396.19
  C_AXIS_RADIUS = 3396.19
  CENTER_LATITUDE = 0.0
  CENTER_LONGITUDE = 346.0
  COORDINATE_SYSTEM_NAME = PLANETOGRAPHIC
  COORDINATE_SYSTEM_TYPE = "BODY-FIXED ROTATING"
  EASTERNMOST_LONGITUDE = 347.745
  FIRST_STANDARD_PARALLEL = "N/A"
  LINE_FIRST_PIXEL = 1
  LINE_LAST_PIXEL = 1070
  LINE_PROJECTION_OFFSET = 47453.0
  MAP_PROJECTION_ROTATION = 0.0
  MAP_PROJECTION_TYPE = SINUSOIDAL
  MAP_RESOLUTION = 740.9337064023611
  MAP_SCALE = 0.08
  MAXIMUM_LATITUDE = 64.0562
  MINIMUM_LATITUDE = 62.6723
  POSITIVE_LONGITUDE_DIRECTION = EAST
  REFERENCE_LATITUDE = "N/A"
  REFERENCE_LONGITUDE = "N/A"
  SAMPLE_FIRST_PIXEL = 1
  SAMPLE_LAST_PIXEL = 1030
  SAMPLE_PROJECTION_OFFSET = 435.0
  SECOND_STANDARD_PARALLEL = "N/A"
  WESTERNMOST_LONGITUDE = 344.767
END_OBJECT = IMAGE_MAP_PROJECTION
END
