PDS_VERSION_ID = PDS3
/* FILE DATA ELEMENTS */
RECORD_TYPE = UNDEFINED
/* POINTERS TO DATA OBJECTS */
^IMAGE = ("H2533_0031_SR4.TIF")
/* IDENTIFICATION DATA ELEMENTS */
DATA_SET_ID = "MEX-M-HRSC-4-REFDR-MAPPROJECT-EXT1-V4.0"
DATA_SET_NAME = "MARS EXPRESS HRSC MAP PROJECTED REFDR EXTENSION1 V4.0"
DETECTOR_ID = MEX_HRSC_SRC
EVENT_TYPE = "MARS-TERMINATOR-VARIABLE-At"
INSTRUMENT_HOST_ID = MEX
INSTRUMENT_HOST_NAME = "MARS EXPRESS"
INSTRUMENT_ID = HRSC
INSTRUMENT_NAME = "HIGH RESOLUTION STEREO CAMERA"
MISSION_NAME = "MARS EXPRESS"
MISSION_PHASE_NAME = ME_Phase_1
PROCESSING_LEVEL_ID = 4
PRODUCT_CREATION_TIME = 2023-02-08T07:05:14.000Z
PRODUCT_ID = "H2533_0031_SR4.TIF"
RELEASE_ID = 0001
REVISION_ID = 0000
/* QUALITY DATA ELEMENTS */
DATA_QUALITY_ID = 1
DATA_QUALITY_DESC = "Data calculated based on original SPICE kernels"
/* TIME DATA ELEMENTS */
SPACECRAFT_CLOCK_START_COUNT = "1/0084240625.57300"
SPACECRAFT_CLOCK_STOP_COUNT = "1/0084241980.17147"
IMAGE_TIME = 2006-01-02T00:27:22.431Z
START_TIME = 2006-01-02T00:27:22.427Z
STOP_TIME = 2006-01-02T00:27:22.434Z
/* ORBITAL DATA ELEMENTS */
ASCENDING_NODE_LONGITUDE = 175.11
MAXIMUM_RESOLUTION = 0.06457
FOOTPRINT_POINT_LATITUDE = (67.089,67.0369,67.001,66.9651,66.9292, 66.8621,66.8263,66.7905,66.7546,66.7188 ,66.6546,66.6188,66.5831,66.5473, 66.5116,66.4759,66.4167,66.3281,66.2568 ,66.1855,66.1143,66.0431,66.0047, 65.9638,65.9627,65.963,65.9759,65.9887, 66.0017,66.0144,66.0271,66.0433,66.0558 ,66.0683,66.084,66.0963,66.1086,66.1239 ,66.1361,66.1482,66.1633,66.1752, 66.1871,66.2019,66.2137,66.2254,66.2401 ,66.2517,66.269,66.2718,66.2735,66.3809 ,66.453,66.5252,66.5974,66.6697,66.7177 ,66.7539,66.8092,66.8455,66.8817, 66.9179,66.9542,66.9904,67.0556,67.0919 ,67.1282,67.1645,67.2009,67.2372, 67.2736,67.31,67.3464,67.4142,67.4153, 67.415,67.3939,67.372,67.3597,67.3474, 67.3319,67.3194,67.3069,67.2943,67.2817 ,67.2689,67.2561,67.2432,67.2303,67.214 ,67.201,67.1879,67.1748,67.1615,67.1483 ,67.1315,67.1181,67.0944,67.0911, 67.089)
FOOTPRINT_POINT_LONGITUDE = (348.351,348.311,348.284,348.257, 348.229,348.178,348.152,348.125,348.098 ,348.071,348.024,347.997,347.971, 347.944,347.918,347.892,347.849,347.785 ,347.733,347.682,347.632,347.581, 347.554,347.525,347.525,347.522,347.419 ,347.316,347.212,347.109,347.006, 346.876,346.772,346.668,346.538,346.434 ,346.33,346.2,346.095,345.991,345.86, 345.755,345.65,345.519,345.414,345.308, 345.177,345.071,344.913,344.886,344.87, 344.934,344.977,345.02,345.064,345.108, 345.136,345.159,345.193,345.215,345.237 ,345.26,345.282,345.305,345.345,345.368 ,345.391,345.414,345.437,345.46,345.483 ,345.506,345.529,345.573,345.573, 345.576,345.77,345.963,346.073,346.184, 346.321,346.431,346.541,346.651,346.76, 346.87,346.979,347.088,347.197,347.333, 347.442,347.551,347.659,347.768,347.876 ,348.011,348.119,348.308,348.335, 348.351)
ORBIT_NUMBER = 2533
ORBITAL_ECCENTRICITY = 0.572
ORBITAL_INCLINATION = 86.62
ORBITAL_SEMIMAJOR_AXIS = 8527.27
PERIAPSIS_ALTITUDE = 277.58
PERIAPSIS_ARGUMENT_ANGLE = 273.14
PERIAPSIS_TIME = 2006-01-01T22:58:17.000Z
SPACECRAFT_ORIENTATION = (0.0,-1.0,0.0)
^MEX_ORIENTATION_DESC = "MEX_ORIENTATION_DESC.TXT"
SPACECRAFT_POINTING_MODE = INERT
^MEX_POINTING_DESC = "MEX_POINTING_DESC.TXT"
RIGHT_ASCENSION = 321.956
DECLINATION = 49.174
OFFSET_ANGLE = -1e+32
SPACECRAFT_SOLAR_DISTANCE = 2.29259e+08
TARGET_NAME = MARS
/* CAMERA DATA ELEMENTS */
BUFFER_MODE_ID = DIRECT
EXPOSURE_DURATION = 7.056
INST_CMPRS_NAME = NONE
INST_CMPRS_RATIO = 1.0
INST_CMPRS_QUALITY = -2147483648
INST_CMPRS_QUANTZ_TBL_ID = -2147483648
INSTRUMENT_TEMPERATURE = 22.8571
MISSING_FRAMES = 0
START_BIT = 0
/* RADIOMETRIC DATA ELEMENTS */
BANDWIDTH = 250.0
CENTER_FILTER_WAVELENGTH = 600.0
RADIANCE_OFFSET = -9.99e+31
RADIANCE_SCALING_FACTOR = -9.99e+31
REFLECTANCE_SCALING_FACTOR = -9.99e+31
MEX:REFLECTANCE_OFFSET = -9.99e+31
/* IMAGE OBJECT DEFINITIONS */
OBJECT = IMAGE
  INTERCHANGE_FORMAT = BINARY
  LINES = 1121
  LINE_SAMPLES = 1069
  SAMPLE_TYPE = UNSIGNED_INTEGER
  SAMPLE_BITS = 8
  BANDS = 1
  BAND_STORAGE_TYPE = BAND_SEQUENTIAL
  MAXIMUM = 254
  MEAN = 210.267
  MINIMUM = 2
  STANDARD_DEVIATION = 8.56409
END_OBJECT = IMAGE
/* MAP OBJECT DEFINITIONS */
OBJECT = IMAGE_MAP_PROJECTION
  ^DATA_SET_MAP_PROJECTION_CATALOG= "DSMAP.CAT"
  A_AXIS_RADIUS = 3396.19
  B_AXIS_RADIUS = 3396.19
  C_AXIS_RADIUS = 3396.19
  CENTER_LATITUDE = 0.0
  CENTER_LONGITUDE = 347.0
  COORDINATE_SYSTEM_NAME = PLANETOGRAPHIC
  COORDINATE_SYSTEM_TYPE = "BODY-FIXED ROTATING"
  EASTERNMOST_LONGITUDE = 348.351
  FIRST_STANDARD_PARALLEL = "N/A"
  LINE_FIRST_PIXEL = 1
  LINE_LAST_PIXEL = 1121
  LINE_PROJECTION_OFFSET = 49947.0
  MAP_PROJECTION_ROTATION = 0.0
  MAP_PROJECTION_TYPE = SINUSOIDAL
  MAP_RESOLUTION = 740.9337064023611
  MAP_SCALE = 0.08
  MAXIMUM_LATITUDE = 67.4153
  MINIMUM_LATITUDE = 65.9627
  POSITIVE_LONGITUDE_DIRECTION = EAST
  REFERENCE_LATITUDE = "N/A"
  REFERENCE_LONGITUDE = "N/A"
  SAMPLE_FIRST_PIXEL = 1
  SAMPLE_LAST_PIXEL = 1069
  SAMPLE_PROJECTION_OFFSET = 651.0
  SECOND_STANDARD_PARALLEL = "N/A"
  WESTERNMOST_LONGITUDE = 344.87
END_OBJECT = IMAGE_MAP_PROJECTION
END
