PDS_VERSION_ID = PDS3
/* FILE DATA ELEMENTS */
RECORD_TYPE = UNDEFINED
/* POINTERS TO DATA OBJECTS */
^IMAGE = ("H2536_0000_BL4.TIF")
/* IDENTIFICATION DATA ELEMENTS */
DATA_SET_ID = "MEX-M-HRSC-4-REFDR-MAPPROJECT-EXT1-V4.0"
DATA_SET_NAME = "MARS EXPRESS HRSC MAP PROJECTED REFDR EXTENSION1 V4.0"
DETECTOR_ID = MEX_HRSC_BLUE
EVENT_TYPE = "MARS-REGIONAL-MAPPING-Im-Gl-Pf"
INSTRUMENT_HOST_ID = MEX
INSTRUMENT_HOST_NAME = "MARS EXPRESS"
INSTRUMENT_ID = HRSC
INSTRUMENT_NAME = "HIGH RESOLUTION STEREO CAMERA"
MISSION_NAME = "MARS EXPRESS"
MISSION_PHASE_NAME = ME_Phase_1
PROCESSING_LEVEL_ID = 4
PRODUCT_CREATION_TIME = 2023-02-08T07:05:14.000Z
PRODUCT_ID = "H2536_0000_BL4.TIF"
RELEASE_ID = 0001
REVISION_ID = 0000
/* QUALITY DATA ELEMENTS */
DATA_QUALITY_ID = 1
DATA_QUALITY_DESC = "Data calculated based on original SPICE kernels"
/* TIME DATA ELEMENTS */
SPACECRAFT_CLOCK_START_COUNT = "1/0084308922.57440"
SPACECRAFT_CLOCK_STOP_COUNT = "1/0084309158.16550"
START_TIME = 2006-01-02T19:09:17.941Z
STOP_TIME = 2006-01-02T19:12:14.020Z
/* ORBITAL DATA ELEMENTS */
ASCENDING_NODE_LONGITUDE = 175.04
MAXIMUM_RESOLUTION = 0.0454
FOOTPRINT_POINT_LATITUDE = (-79.5813,-79.7672,-79.9182,-79.921, -79.9395,-79.7368,-79.5348,-79.3322, -78.8243,-78.4169,-78.1014,-77.8892, -77.6766,-77.4638,-77.2511,-77.038, -76.8253,-76.6116,-76.398,-76.1845, -75.971,-75.7505,-75.5289,-75.3073, -75.0851,-74.8635,-74.6418,-74.42, -74.1983,-73.9766,-73.6329,-73.4037, -73.0601,-72.8309,-72.6017,-72.3727, -72.1394,-71.9024,-71.6657,-71.4294, -71.1929,-70.9565,-70.7202,-70.3544, -70.11,-69.8668,-69.6238,-69.3809, -69.1382,-68.8955,-68.7742,-68.7324, -68.6587,-68.6044,-68.5468,-68.5447, -68.5448,-68.7857,-69.1471,-69.3882, -69.6293,-69.8711,-70.1129,-70.3548, -70.594,-70.8282,-71.0624,-71.2967, -71.531,-71.7654,-72.1145,-72.3411, -72.6812,-72.9078,-73.2479,-73.4744, -73.8113,-74.03,-74.3578,-74.5763, -74.7947,-75.1221,-75.3402,-75.5581, -75.7724,-76.0869,-76.2963,-76.61, -76.8188,-77.0273,-77.2355,-77.4435, -77.651,-77.8581,-78.1632,-78.6584, -79.1504,-79.4439,-79.5414,-79.5813)
FOOTPRINT_POINT_LONGITUDE = (43.0151,45.539,47.8978,47.9442,47.9129 ,48.3166,48.7021,49.073,49.9399,50.5768 ,51.0384,51.3346,51.6203,51.8962, 52.1623,52.4196,52.6677,52.9085,53.1413 ,53.3665,53.5844,53.8023,54.0141, 54.2194,54.4185,54.6112,54.7981,54.9795 ,55.1554,55.3262,55.5815,55.7457, 55.9831,56.1358,56.2843,56.4287,56.5715 ,56.7127,56.85,56.9835,57.1134,57.2399, 57.363,57.5475,57.6663,57.7821,57.8949, 58.0049,58.112,58.2164,58.2677,58.2852, 56.856,55.935,55.0393,55.0083,54.9975, 54.8785,54.6963,54.572,54.4472,54.3055, 54.1639,54.0191,53.8728,53.7262,53.5759 ,53.4208,53.2616,53.0978,52.8436, 52.6757,52.4095,52.2281,51.9417,51.7461 ,51.4417,51.2357,50.9186,50.697,50.4647 ,50.1064,49.8525,49.5967,49.3264, 48.9232,48.6471,48.2125,47.9114,47.6019 ,47.2818,46.9628,46.6125,46.2551, 45.7004,44.7317,43.6709,42.9867,42.7466 ,43.0151)
ORBIT_NUMBER = 2536
ORBITAL_ECCENTRICITY = 0.572
ORBITAL_INCLINATION = 86.62
ORBITAL_SEMIMAJOR_AXIS = 8527.5
PERIAPSIS_ALTITUDE = 276.9
PERIAPSIS_ARGUMENT_ANGLE = 272.64
PERIAPSIS_TIME = 2006-01-02T19:07:31.000Z
SPACECRAFT_ORIENTATION = (0.0,-1.0,0.0)
^MEX_ORIENTATION_DESC = "MEX_ORIENTATION_DESC.TXT"
SPACECRAFT_POINTING_MODE = ACROSSTRACK
^MEX_POINTING_DESC = "MEX_POINTING_DESC.TXT"
RIGHT_ASCENSION = -1e+32
DECLINATION = -1e+32
OFFSET_ANGLE = 0.48
SPACECRAFT_SOLAR_DISTANCE = 2.29422e+08
TARGET_NAME = MARS
/* CAMERA DATA ELEMENTS */
DETECTOR_TEMPERATURE = 18.3705
FOCAL_PLANE_TEMPERATURE = 8.9911
INST_CMPRS_NAME = "DISCRETE COSINE TRANSFORMATION (DCT)"
INST_CMPRS_RATIO = 5.32435
INST_CMPRS_QUALITY = 0
INST_CMPRS_QUANTZ_TBL_ID = 0
INSTRUMENT_TEMPERATURE = 11.6418
LENS_TEMPERATURE = 9.3989
MACROPIXEL_SIZE = 4
MISSING_FRAMES = 0
PIXEL_SUBSAMPLING_FLAG = N
SIGNAL_CHAIN_ID = 2
/* RADIOMETRIC DATA ELEMENTS */
BANDWIDTH = 76.0
CENTER_FILTER_WAVELENGTH = 444.0
RADIANCE_OFFSET = 0.280934
RADIANCE_SCALING_FACTOR = 0.0011207
REFLECTANCE_SCALING_FACTOR = 6.06057e-05
MEX:REFLECTANCE_OFFSET = 0.0151925
/* IMAGE OBJECT DEFINITIONS */
OBJECT = IMAGE
  INTERCHANGE_FORMAT = BINARY
  LINES = 13517
  LINE_SAMPLES = 4488
  SAMPLE_TYPE = UNSIGNED_INTEGER
  SAMPLE_BITS = 8
  BANDS = 1
  BAND_STORAGE_TYPE = BAND_SEQUENTIAL
  MAXIMUM = 255
  MEAN = 132.148
  MINIMUM = 1
  STANDARD_DEVIATION = 40.6988
END_OBJECT = IMAGE
/* MAP OBJECT DEFINITIONS */
OBJECT = IMAGE_MAP_PROJECTION
  ^DATA_SET_MAP_PROJECTION_CATALOG= "DSMAP.CAT"
  A_AXIS_RADIUS = 3396.0
  B_AXIS_RADIUS = 3396.0
  C_AXIS_RADIUS = 3396.0
  CENTER_LATITUDE = 0.0
  CENTER_LONGITUDE = 53.0
  COORDINATE_SYSTEM_NAME = PLANETOGRAPHIC
  COORDINATE_SYSTEM_TYPE = "BODY-FIXED ROTATING"
  EASTERNMOST_LONGITUDE = 58.2852
  FIRST_STANDARD_PARALLEL = "N/A"
  LINE_FIRST_PIXEL = 1
  LINE_LAST_PIXEL = 13517
  LINE_PROJECTION_OFFSET = -81264.375
  MAP_PROJECTION_ROTATION = 0.0
  MAP_PROJECTION_TYPE = SINUSOIDAL
  MAP_RESOLUTION = 1185.42760773333
  MAP_SCALE = 0.05
  MAXIMUM_LATITUDE = -68.54470000000001
  MINIMUM_LATITUDE = -79.9395
  POSITIVE_LONGITUDE_DIRECTION = EAST
  REFERENCE_LATITUDE = "N/A"
  REFERENCE_LONGITUDE = "N/A"
  SAMPLE_FIRST_PIXEL = 1
  SAMPLE_LAST_PIXEL = 4488
  SAMPLE_PROJECTION_OFFSET = 2215.875
  SECOND_STANDARD_PARALLEL = "N/A"
  WESTERNMOST_LONGITUDE = 42.7466
END_OBJECT = IMAGE_MAP_PROJECTION
END
