PDS_VERSION_ID = PDS3
/* FILE DATA ELEMENTS */
RECORD_TYPE = UNDEFINED
/* POINTERS TO DATA OBJECTS */
^IMAGE = ("H2540_0000_S14.TIF")
/* IDENTIFICATION DATA ELEMENTS */
DATA_SET_ID = "MEX-M-HRSC-4-REFDR-MAPPROJECT-EXT1-V4.0"
DATA_SET_NAME = "MARS EXPRESS HRSC MAP PROJECTED REFDR EXTENSION1 V4.0"
DETECTOR_ID = MEX_HRSC_S1
EVENT_TYPE = "MARS-REGIONAL-MAPPING-Im"
INSTRUMENT_HOST_ID = MEX
INSTRUMENT_HOST_NAME = "MARS EXPRESS"
INSTRUMENT_ID = HRSC
INSTRUMENT_NAME = "HIGH RESOLUTION STEREO CAMERA"
MISSION_NAME = "MARS EXPRESS"
MISSION_PHASE_NAME = ME_Phase_1
PROCESSING_LEVEL_ID = 4
PRODUCT_CREATION_TIME = 2023-02-08T07:05:14.000Z
PRODUCT_ID = "H2540_0000_S14.TIF"
RELEASE_ID = 0001
REVISION_ID = 0000
/* QUALITY DATA ELEMENTS */
DATA_QUALITY_ID = 1
DATA_QUALITY_DESC = "Data calculated based on original SPICE kernels"
/* TIME DATA ELEMENTS */
SPACECRAFT_CLOCK_START_COUNT = "1/0084406304.57951"
SPACECRAFT_CLOCK_STOP_COUNT = "1/0084406888.17655"
START_TIME = 2006-01-03T22:11:50.670Z
STOP_TIME = 2006-01-03T22:15:41.795Z
/* ORBITAL DATA ELEMENTS */
ASCENDING_NODE_LONGITUDE = 174.96
MAXIMUM_RESOLUTION = 0.06
FOOTPRINT_POINT_LATITUDE = (-38.9664,-38.9914,-39.0044,-39.0194, -39.0242,-39.026,-39.0259,-38.9935, -38.5055,-38.0124,-37.524,-36.8898, -36.3798,-35.9935,-35.6031,-35.078, -34.8132,-34.5462,-34.2778,-34.0083, -33.7368,-33.463,-33.1882,-32.7726, -32.4953,-32.2157,-31.9453,-31.6688, -31.394,-30.9833,-30.7095,-30.4378, -30.1639,-29.8922,-29.6212,-29.3506, -29.0813,-28.812,-28.5425,-28.2738, -28.0063,-27.6059,-27.3377,-27.0754, -26.8118,-26.5431,-25.8836,-25.7536, -25.7241,-25.7308,-25.7372,-25.7434, -25.7474,-25.7556,-25.7565,-25.757, -25.7545,-25.7521,-25.7449,-25.7439, -25.7446,-26.1351,-26.6577,-27.1826, -27.4515,-27.7154,-28.1134,-28.3786, -28.6453,-28.914,-29.1801,-29.4512, -29.848,-30.1165,-30.3869,-30.6654, -31.0733,-31.3457,-31.7564,-32.0311, -32.304,-32.5794,-32.8549,-33.1306, -33.398,-33.6707,-33.9416,-34.2103, -34.612,-34.8812,-35.4022,-35.9214, -36.4301,-36.9394,-37.4384,-37.934, -38.4148,-38.785,-38.9056,-38.9664)
FOOTPRINT_POINT_LONGITUDE = (27.3554,28.0893,28.5784,29.4036, 29.8931,30.4755,30.5062,30.5288,30.5487 ,30.568,30.5827,30.6066,30.6235,30.6359 ,30.6484,30.6641,30.6719,30.6796, 30.6871,30.6945,30.7016,30.7088,30.7159 ,30.7264,30.7334,30.7414,30.746,30.7529 ,30.7592,30.7682,30.7742,30.7796, 30.7857,30.7911,30.7963,30.8015,30.8062 ,30.811,30.8159,30.8206,30.8249,30.8312 ,30.8359,30.8388,30.8421,30.8471, 30.8559,30.8571,30.8575,30.4853,30.1859 ,29.8494,29.5506,29.1402,28.8418, 28.3566,27.9832,27.5729,27.0499,27.0125 ,26.999,27.0179,27.0424,27.0661,27.0794 ,27.0907,27.1077,27.1184,27.1292, 27.1403,27.1501,27.1611,27.1736,27.1827 ,27.1921,27.2037,27.217,27.2255,27.2381 ,27.2462,27.2533,27.2608,27.2679, 27.2746,27.2789,27.285,27.2907,27.2962, 27.3042,27.3102,27.3174,27.3249,27.3297 ,27.3355,27.3388,27.3418,27.3407, 27.3436,27.3439,27.3554)
ORBIT_NUMBER = 2540
ORBITAL_ECCENTRICITY = 0.572
ORBITAL_INCLINATION = 86.61
ORBITAL_SEMIMAJOR_AXIS = 8528.0
PERIAPSIS_ALTITUDE = 277.67
PERIAPSIS_ARGUMENT_ANGLE = 271.93
PERIAPSIS_TIME = 2006-01-03T21:59:48.000Z
SPACECRAFT_ORIENTATION = (0.0,-1.0,0.0)
^MEX_ORIENTATION_DESC = "MEX_ORIENTATION_DESC.TXT"
SPACECRAFT_POINTING_MODE = NADIR
^MEX_POINTING_DESC = "MEX_POINTING_DESC.TXT"
RIGHT_ASCENSION = -1e+32
DECLINATION = -1e+32
OFFSET_ANGLE = -1e+32
SPACECRAFT_SOLAR_DISTANCE = 2.29638e+08
TARGET_NAME = MARS
/* CAMERA DATA ELEMENTS */
DETECTOR_TEMPERATURE = 17.351
FOCAL_PLANE_TEMPERATURE = 7.156
INST_CMPRS_NAME = "DISCRETE COSINE TRANSFORMATION (DCT)"
INST_CMPRS_RATIO = 10.5674
INST_CMPRS_QUALITY = 0
INST_CMPRS_QUANTZ_TBL_ID = 0
INSTRUMENT_TEMPERATURE = 11.234
LENS_TEMPERATURE = 8.9911
MACROPIXEL_SIZE = 2
MISSING_FRAMES = 0
PIXEL_SUBSAMPLING_FLAG = N
SIGNAL_CHAIN_ID = 1
/* RADIOMETRIC DATA ELEMENTS */
BANDWIDTH = 180.0
CENTER_FILTER_WAVELENGTH = 677.0
RADIANCE_OFFSET = 3.5062
RADIANCE_SCALING_FACTOR = 0.0123942
REFLECTANCE_SCALING_FACTOR = 0.000341
MEX:REFLECTANCE_OFFSET = 0.0964656
/* IMAGE OBJECT DEFINITIONS */
OBJECT = IMAGE
  INTERCHANGE_FORMAT = BINARY
  LINES = 15752
  LINE_SAMPLES = 4795
  SAMPLE_TYPE = UNSIGNED_INTEGER
  SAMPLE_BITS = 8
  BANDS = 1
  BAND_STORAGE_TYPE = BAND_SEQUENTIAL
  MAXIMUM = 255
  MEAN = 135.969
  MINIMUM = 1
  STANDARD_DEVIATION = 19.018
END_OBJECT = IMAGE
/* MAP OBJECT DEFINITIONS */
OBJECT = IMAGE_MAP_PROJECTION
  ^DATA_SET_MAP_PROJECTION_CATALOG= "DSMAP.CAT"
  A_AXIS_RADIUS = 3396.0
  B_AXIS_RADIUS = 3396.0
  C_AXIS_RADIUS = 3396.0
  CENTER_LATITUDE = 0.0
  CENTER_LONGITUDE = 29.0
  COORDINATE_SYSTEM_NAME = PLANETOGRAPHIC
  COORDINATE_SYSTEM_TYPE = "BODY-FIXED ROTATING"
  EASTERNMOST_LONGITUDE = 30.8575
  FIRST_STANDARD_PARALLEL = "N/A"
  LINE_FIRST_PIXEL = 1
  LINE_LAST_PIXEL = 15752
  LINE_PROJECTION_OFFSET = -30388.25
  MAP_PROJECTION_ROTATION = 0.0
  MAP_PROJECTION_TYPE = SINUSOIDAL
  MAP_RESOLUTION = 1185.42760773333
  MAP_SCALE = 0.05
  MAXIMUM_LATITUDE = -25.7241
  MINIMUM_LATITUDE = -39.026
  POSITIVE_LONGITUDE_DIRECTION = EAST
  REFERENCE_LATITUDE = "N/A"
  REFERENCE_LONGITUDE = "N/A"
  SAMPLE_FIRST_PIXEL = 1
  SAMPLE_LAST_PIXEL = 4795
  SAMPLE_PROJECTION_OFFSET = 2520.25
  SECOND_STANDARD_PARALLEL = "N/A"
  WESTERNMOST_LONGITUDE = 26.999
END_OBJECT = IMAGE_MAP_PROJECTION
END
