PDS_VERSION_ID = PDS3
/* FILE DATA ELEMENTS */
RECORD_TYPE = UNDEFINED
/* POINTERS TO DATA OBJECTS */
^IMAGE = ("H2541_0000_S14.TIF")
/* IDENTIFICATION DATA ELEMENTS */
DATA_SET_ID = "MEX-M-HRSC-4-REFDR-MAPPROJECT-EXT1-V4.0"
DATA_SET_NAME = "MARS EXPRESS HRSC MAP PROJECTED REFDR EXTENSION1 V4.0"
DETECTOR_ID = MEX_HRSC_S1
EVENT_TYPE = "MARS-REGIONAL-MAPPING-Te-Im-Fl"
INSTRUMENT_HOST_ID = MEX
INSTRUMENT_HOST_NAME = "MARS EXPRESS"
INSTRUMENT_ID = HRSC
INSTRUMENT_NAME = "HIGH RESOLUTION STEREO CAMERA"
MISSION_NAME = "MARS EXPRESS"
MISSION_PHASE_NAME = ME_Phase_1
PROCESSING_LEVEL_ID = 4
PRODUCT_CREATION_TIME = 2023-02-08T07:05:14.000Z
PRODUCT_ID = "H2541_0000_S14.TIF"
RELEASE_ID = 0001
REVISION_ID = 0000
/* QUALITY DATA ELEMENTS */
DATA_QUALITY_ID = 1
DATA_QUALITY_DESC = "Data calculated based on original SPICE kernels"
/* TIME DATA ELEMENTS */
SPACECRAFT_CLOCK_START_COUNT = "1/0084430059.56496"
SPACECRAFT_CLOCK_STOP_COUNT = "1/0084430629.29409"
START_TIME = 2006-01-04T04:47:45.657Z
STOP_TIME = 2006-01-04T04:54:19.802Z
/* ORBITAL DATA ELEMENTS */
ASCENDING_NODE_LONGITUDE = 174.95
MAXIMUM_RESOLUTION = 0.0295
FOOTPRINT_POINT_LATITUDE = (-66.9675,-67.1192,-67.1204,-67.0353, -65.9344,-65.2023,-64.5724,-64.1369, -63.7021,-63.0499,-62.6139,-62.179, -61.7387,-61.305,-60.6543,-60.2096, -59.7658,-59.3155,-58.8616,-58.3983, -57.9343,-57.4636,-56.9923,-56.5004, -55.7735,-55.2772,-54.5124,-53.999, -53.4718,-52.6769,-52.1412,-51.5956, -50.7618,-50.2011,-49.632,-49.0538, -48.4654,-47.869,-47.2622,-46.646, -46.02,-45.3845,-44.7413,-44.0839, -43.4164,-42.7398,-42.0542,-41.7069, -41.6646,-41.6558,-41.6334,-41.5984, -41.5972,-41.5976,-42.291,-42.9718, -43.6413,-44.3012,-44.9529,-45.5925, -46.2187,-46.8396,-47.4498,-48.0493, -48.6391,-49.2207,-49.7962,-50.3648, -50.9242,-51.4629,-52.0156,-52.5482, -53.0791,-53.6028,-54.1086,-54.8699, -55.3779,-55.8717,-56.3576,-56.8402, -57.3103,-57.7809,-58.2443,-58.706, -59.1586,-59.6104,-60.0531,-60.717, -61.1496,-61.5827,-62.0161,-62.8725, -63.316,-63.9683,-64.4014,-65.214, -65.9409,-66.6722,-66.8547,-66.9675)
FOOTPRINT_POINT_LONGITUDE = (285.856,288.786,288.815,288.918, 289.228,289.417,289.57,289.67,289.767, 289.905,289.995,290.081,290.169,290.249 ,290.363,290.439,290.511,290.58,290.649 ,290.718,290.784,290.847,290.908, 290.974,291.059,291.117,291.207,291.261 ,291.319,291.399,291.449,291.499, 291.573,291.618,291.662,291.705,291.749 ,291.79,291.832,291.873,291.913,291.951 ,291.988,292.025,292.061,292.095, 292.128,292.143,292.145,291.154,290.135 ,289.086,289.056,289.045,289.035, 289.022,289.008,288.992,288.974,288.953 ,288.929,288.905,288.878,288.849, 288.817,288.783,288.749,288.712,288.673 ,288.627,288.588,288.542,288.496, 288.447,288.393,288.312,288.259,288.2, 288.14,288.076,288.01,287.942,287.873, 287.802,287.728,287.651,287.573,287.451 ,287.367,287.278,287.186,286.985, 286.883,286.717,286.599,286.365,286.137 ,285.894,285.83,285.856)
ORBIT_NUMBER = 2541
ORBITAL_ECCENTRICITY = 0.571
ORBITAL_INCLINATION = 86.61
ORBITAL_SEMIMAJOR_AXIS = 8528.37
PERIAPSIS_ALTITUDE = 278.45
PERIAPSIS_ARGUMENT_ANGLE = 271.77
PERIAPSIS_TIME = 2006-01-04T04:42:59.000Z
SPACECRAFT_ORIENTATION = (0.0,-1.0,0.0)
^MEX_ORIENTATION_DESC = "MEX_ORIENTATION_DESC.TXT"
SPACECRAFT_POINTING_MODE = NADIR
^MEX_POINTING_DESC = "MEX_POINTING_DESC.TXT"
RIGHT_ASCENSION = -1e+32
DECLINATION = -1e+32
OFFSET_ANGLE = -1e+32
SPACECRAFT_SOLAR_DISTANCE = 2.29692e+08
TARGET_NAME = MARS
/* CAMERA DATA ELEMENTS */
DETECTOR_TEMPERATURE = 17.5549
FOCAL_PLANE_TEMPERATURE = 9.6028
INST_CMPRS_NAME = "DISCRETE COSINE TRANSFORMATION (DCT)"
INST_CMPRS_RATIO = 12.1134
INST_CMPRS_QUALITY = 0
INST_CMPRS_QUANTZ_TBL_ID = 0
INSTRUMENT_TEMPERATURE = 11.4379
LENS_TEMPERATURE = 9.6028
MACROPIXEL_SIZE = 2
MISSING_FRAMES = 0
PIXEL_SUBSAMPLING_FLAG = N
SIGNAL_CHAIN_ID = 1
/* RADIOMETRIC DATA ELEMENTS */
BANDWIDTH = 180.0
CENTER_FILTER_WAVELENGTH = 677.0
RADIANCE_OFFSET = 2.25052
RADIANCE_SCALING_FACTOR = 0.0131609
REFLECTANCE_SCALING_FACTOR = 0.00036226
MEX:REFLECTANCE_OFFSET = 0.0619465
/* IMAGE OBJECT DEFINITIONS */
OBJECT = IMAGE
  INTERCHANGE_FORMAT = BINARY
  LINES = 60377
  LINE_SAMPLES = 8047
  SAMPLE_TYPE = UNSIGNED_INTEGER
  SAMPLE_BITS = 8
  BANDS = 1
  BAND_STORAGE_TYPE = BAND_SEQUENTIAL
  MAXIMUM = 255
  MEAN = 129.574
  MINIMUM = 1
  STANDARD_DEVIATION = 29.1797
END_OBJECT = IMAGE
/* MAP OBJECT DEFINITIONS */
OBJECT = IMAGE_MAP_PROJECTION
  ^DATA_SET_MAP_PROJECTION_CATALOG= "DSMAP.CAT"
  A_AXIS_RADIUS = 3396.0
  B_AXIS_RADIUS = 3396.0
  C_AXIS_RADIUS = 3396.0
  CENTER_LATITUDE = 0.0
  CENTER_LONGITUDE = 290.0
  COORDINATE_SYSTEM_NAME = PLANETOGRAPHIC
  COORDINATE_SYSTEM_TYPE = "BODY-FIXED ROTATING"
  EASTERNMOST_LONGITUDE = 292.145
  FIRST_STANDARD_PARALLEL = "N/A"
  LINE_FIRST_PIXEL = 1
  LINE_LAST_PIXEL = 60377
  LINE_PROJECTION_OFFSET = -98509.75
  MAP_PROJECTION_ROTATION = 0.0
  MAP_PROJECTION_TYPE = SINUSOIDAL
  MAP_RESOLUTION = 2370.85521546667
  MAP_SCALE = 0.025
  MAXIMUM_LATITUDE = -41.5972
  MINIMUM_LATITUDE = -67.1204
  POSITIVE_LONGITUDE_DIRECTION = EAST
  REFERENCE_LATITUDE = "N/A"
  REFERENCE_LONGITUDE = "N/A"
  SAMPLE_FIRST_PIXEL = 1
  SAMPLE_LAST_PIXEL = 8047
  SAMPLE_PROJECTION_OFFSET = 3962.25
  SECOND_STANDARD_PARALLEL = "N/A"
  WESTERNMOST_LONGITUDE = 285.83
END_OBJECT = IMAGE_MAP_PROJECTION
END
