PDS_VERSION_ID = PDS3
/* FILE DATA ELEMENTS */
RECORD_TYPE = UNDEFINED
/* POINTERS TO DATA OBJECTS */
^IMAGE = ("H2543_0000_GR4.TIF")
/* IDENTIFICATION DATA ELEMENTS */
DATA_SET_ID = "MEX-M-HRSC-4-REFDR-MAPPROJECT-EXT1-V4.0"
DATA_SET_NAME = "MARS EXPRESS HRSC MAP PROJECTED REFDR EXTENSION1 V4.0"
DETECTOR_ID = MEX_HRSC_GREEN
EVENT_TYPE = "MARS-REGIONAL-MAPPING-Vo-Fl-Mw"
INSTRUMENT_HOST_ID = MEX
INSTRUMENT_HOST_NAME = "MARS EXPRESS"
INSTRUMENT_ID = HRSC
INSTRUMENT_NAME = "HIGH RESOLUTION STEREO CAMERA"
MISSION_NAME = "MARS EXPRESS"
MISSION_PHASE_NAME = ME_Phase_1
PROCESSING_LEVEL_ID = 4
PRODUCT_CREATION_TIME = 2023-02-08T07:05:14.000Z
PRODUCT_ID = "H2543_0000_GR4.TIF"
RELEASE_ID = 0001
REVISION_ID = 0000
/* QUALITY DATA ELEMENTS */
DATA_QUALITY_ID = 1
DATA_QUALITY_DESC = "Data calculated based on original SPICE kernels"
/* TIME DATA ELEMENTS */
SPACECRAFT_CLOCK_START_COUNT = "1/0084478729.57300"
SPACECRAFT_CLOCK_STOP_COUNT = "1/0084479355.01526"
START_TIME = 2006-01-04T18:20:13.909Z
STOP_TIME = 2006-01-04T18:25:47.244Z
/* ORBITAL DATA ELEMENTS */
ASCENDING_NODE_LONGITUDE = 174.9
MAXIMUM_RESOLUTION = 0.1031
FOOTPRINT_POINT_LATITUDE = (-46.1933,-46.223,-46.2421,-46.2579, -46.2716,-46.2833,-46.2939,-46.2944, -46.2822,-45.6988,-45.1087,-44.358, -43.7484,-43.129,-42.5005,-41.8629, -41.2152,-40.8873,-40.5569,-40.2241, -39.8893,-39.5513,-39.2102,-38.8667, -38.3448,-37.9945,-37.6435,-37.2885, -36.9294,-36.5677,-36.2025,-35.8344, -35.4632,-35.0887,-34.7115,-34.334, -33.9579,-33.3964,-32.8393,-32.4697, -32.1011,-31.7345,-31.3694,-31.0056, -30.6438,-30.2836,-29.9247,-29.3887, -29.211,-29.0817,-29.0945,-29.1016, -29.104,-29.1032,-29.0982,-29.092, -29.0915,-29.0931,-29.4451,-29.7987, -30.1539,-30.5105,-30.8687,-31.2285, -31.5898,-31.9529,-32.3172,-32.6831, -33.051,-33.4202,-33.791,-34.3504, -34.911,-35.2844,-35.6546,-36.0206, -36.3847,-36.7451,-37.1027,-37.4572, -37.8089,-38.158,-38.5045,-38.848, -39.189,-39.5264,-39.8631,-40.1958, -40.5263,-41.1794,-41.8235,-42.4568, -43.0816,-43.6971,-44.3034,-44.7527, -45.197,-45.9279,-46.072,-46.1933)
FOOTPRINT_POINT_LONGITUDE = (91.7002,92.3863,92.8916,93.3658, 93.8385,94.3104,94.841,94.8705,94.8996, 94.9459,94.9884,95.0421,95.0831,95.1236 ,95.1629,95.2014,95.2388,95.2574, 95.2763,95.2946,95.3117,95.3296,95.3475 ,95.3651,95.3939,95.4106,95.4235, 95.4383,95.4544,95.4697,95.4855,95.5014 ,95.5166,95.532,95.5468,95.5614,95.5758 ,95.597,95.6158,95.6283,95.6413,95.653, 95.6647,95.6764,95.6869,95.6972,95.7074 ,95.7231,95.7279,95.7312,94.9256, 94.1559,93.5777,92.8817,92.1837,91.6397 ,91.6007,91.5878,91.6028,91.6178,91.632 ,91.6455,91.6588,91.6715,91.6834, 91.6953,91.7058,91.7158,91.7263,91.7355 ,91.7444,91.7568,91.762,91.7713,91.7791 ,91.7834,91.7895,91.793,91.7959,91.7983 ,91.8,91.8013,91.802,91.802,91.802, 91.7977,91.798,91.7953,91.7929,91.7848, 91.7748,91.763,91.7483,91.733,91.7144, 91.7001,91.6845,91.6557,91.6495, 91.7002)
ORBIT_NUMBER = 2543
ORBITAL_ECCENTRICITY = 0.572
ORBITAL_INCLINATION = 86.62
ORBITAL_SEMIMAJOR_AXIS = 8527.75
PERIAPSIS_ALTITUDE = 277.58
PERIAPSIS_ARGUMENT_ANGLE = 271.41
PERIAPSIS_TIME = 2006-01-04T18:09:12.000Z
SPACECRAFT_ORIENTATION = (0.0,-1.0,0.0)
^MEX_ORIENTATION_DESC = "MEX_ORIENTATION_DESC.TXT"
SPACECRAFT_POINTING_MODE = ACROSSTRACK
^MEX_POINTING_DESC = "MEX_POINTING_DESC.TXT"
RIGHT_ASCENSION = -1e+32
DECLINATION = -1e+32
OFFSET_ANGLE = 0.4
SPACECRAFT_SOLAR_DISTANCE = 2.29799e+08
TARGET_NAME = MARS
/* CAMERA DATA ELEMENTS */
DETECTOR_TEMPERATURE = 19.39
FOCAL_PLANE_TEMPERATURE = 8.5833
INST_CMPRS_NAME = "DISCRETE COSINE TRANSFORMATION (DCT)"
INST_CMPRS_RATIO = 12.5439
INST_CMPRS_QUALITY = 0
INST_CMPRS_QUANTZ_TBL_ID = 0
INSTRUMENT_TEMPERATURE = 12.8652
LENS_TEMPERATURE = 8.9911
MACROPIXEL_SIZE = 4
MISSING_FRAMES = 0
PIXEL_SUBSAMPLING_FLAG = N
SIGNAL_CHAIN_ID = 2
/* RADIOMETRIC DATA ELEMENTS */
BANDWIDTH = 88.0
CENTER_FILTER_WAVELENGTH = 538.0
RADIANCE_OFFSET = 1.39494
RADIANCE_SCALING_FACTOR = 0.00419946
REFLECTANCE_SCALING_FACTOR = 0.000190936
MEX:REFLECTANCE_OFFSET = 0.0634233
/* IMAGE OBJECT DEFINITIONS */
OBJECT = IMAGE
  INTERCHANGE_FORMAT = BINARY
  LINES = 10567
  LINE_SAMPLES = 2222
  SAMPLE_TYPE = UNSIGNED_INTEGER
  SAMPLE_BITS = 8
  BANDS = 1
  BAND_STORAGE_TYPE = BAND_SEQUENTIAL
  MAXIMUM = 255
  MEAN = 146.007
  MINIMUM = 1
  STANDARD_DEVIATION = 44.1491
END_OBJECT = IMAGE
/* MAP OBJECT DEFINITIONS */
OBJECT = IMAGE_MAP_PROJECTION
  ^DATA_SET_MAP_PROJECTION_CATALOG= "DSMAP.CAT"
  A_AXIS_RADIUS = 3396.0
  B_AXIS_RADIUS = 3396.0
  C_AXIS_RADIUS = 3396.0
  CENTER_LATITUDE = 0.0
  CENTER_LONGITUDE = 94.0
  COORDINATE_SYSTEM_NAME = PLANETOGRAPHIC
  COORDINATE_SYSTEM_TYPE = "BODY-FIXED ROTATING"
  EASTERNMOST_LONGITUDE = 95.7312
  FIRST_STANDARD_PARALLEL = "N/A"
  LINE_FIRST_PIXEL = 1
  LINE_LAST_PIXEL = 10567
  LINE_PROJECTION_OFFSET = -17234.875
  MAP_PROJECTION_ROTATION = 0.0
  MAP_PROJECTION_TYPE = SINUSOIDAL
  MAP_RESOLUTION = 592.713803866667
  MAP_SCALE = 0.1
  MAXIMUM_LATITUDE = -29.0817
  MINIMUM_LATITUDE = -46.2944
  POSITIVE_LONGITUDE_DIRECTION = EAST
  REFERENCE_LATITUDE = "N/A"
  REFERENCE_LONGITUDE = "N/A"
  SAMPLE_FIRST_PIXEL = 1
  SAMPLE_LAST_PIXEL = 2222
  SAMPLE_PROJECTION_OFFSET = 1281.125
  SECOND_STANDARD_PARALLEL = "N/A"
  WESTERNMOST_LONGITUDE = 91.5878
END_OBJECT = IMAGE_MAP_PROJECTION
END
