PDS_VERSION_ID = PDS3
/* FILE DATA ELEMENTS */
RECORD_TYPE = UNDEFINED
/* POINTERS TO DATA OBJECTS */
^IMAGE = ("H2543_0001_ND4.TIF")
/* IDENTIFICATION DATA ELEMENTS */
DATA_SET_ID = "MEX-M-HRSC-4-REFDR-MAPPROJECT-EXT1-V4.0"
DATA_SET_NAME = "MARS EXPRESS HRSC MAP PROJECTED REFDR EXTENSION1 V4.0"
DETECTOR_ID = MEX_HRSC_NADIR
EVENT_TYPE = "MARS-REGIONAL-MAPPING-Im-Gl-La"
INSTRUMENT_HOST_ID = MEX
INSTRUMENT_HOST_NAME = "MARS EXPRESS"
INSTRUMENT_ID = HRSC
INSTRUMENT_NAME = "HIGH RESOLUTION STEREO CAMERA"
MISSION_NAME = "MARS EXPRESS"
MISSION_PHASE_NAME = ME_Phase_1
PROCESSING_LEVEL_ID = 4
PRODUCT_CREATION_TIME = 2023-02-08T07:05:14.000Z
PRODUCT_ID = "H2543_0001_ND4.TIF"
RELEASE_ID = 0001
REVISION_ID = 0000
/* QUALITY DATA ELEMENTS */
DATA_QUALITY_ID = 1
DATA_QUALITY_DESC = "Data calculated based on original SPICE kernels"
/* TIME DATA ELEMENTS */
SPACECRAFT_CLOCK_START_COUNT = "1/0084478218.57163"
SPACECRAFT_CLOCK_STOP_COUNT = "1/0084478462.23664"
START_TIME = 2006-01-04T18:10:49.432Z
STOP_TIME = 2006-01-04T18:13:47.080Z
/* ORBITAL DATA ELEMENTS */
ASCENDING_NODE_LONGITUDE = 174.9
MAXIMUM_RESOLUTION = 0.0113
FOOTPRINT_POINT_LATITUDE = (-81.033,-81.2414,-81.4259,-81.4294, -81.4349,-81.1301,-80.926,-80.7213, -80.516,-80.3101,-80.1037,-79.8969, -79.4819,-79.0655,-78.7413,-78.5241, -78.3067,-78.0889,-77.8709,-77.6528, -77.4345,-77.2161,-76.9977,-76.6697, -76.4428,-76.2156,-75.9881,-75.7606, -75.5335,-75.1926,-74.9652,-74.7377, -74.3861,-74.1506,-73.915,-73.6795, -73.444,-73.2086,-72.9733,-72.7299, -72.4865,-72.1218,-71.7576,-71.5145, -71.1399,-70.8892,-70.6386,-70.2579, -70.1243,-70.1155,-70.0397,-69.98, -69.9138,-69.9114,-69.9104,-70.1719, -70.4203,-70.6693,-70.9174,-71.2881, -71.5285,-71.7692,-72.0099,-72.2507, -72.4916,-72.8488,-73.0812,-73.3139, -73.5464,-73.7791,-74.0117,-74.244, -74.4745,-74.6992,-74.9234,-75.259, -75.4832,-75.7073,-76.0412,-76.2641, -76.5902,-76.8045,-77.0188,-77.2326, -77.4461,-77.6591,-77.8716,-78.0835, -78.2951,-78.5066,-78.7165,-79.1208, -79.5228,-79.922,-80.3182,-80.5151, -80.7106,-80.9054,-81.002,-81.033)
FOOTPRINT_POINT_LONGITUDE = (71.6059,74.3265,77.1131,77.1695, 77.2142,78.0337,78.5489,79.0412,79.5117 ,79.9621,80.3932,80.8062,81.5826, 82.2987,82.8171,83.147,83.4645,83.7695, 84.0634,84.3467,84.6199,84.8839,85.1396 ,85.5058,85.7471,85.9803,86.2047, 86.4222,86.6347,86.9393,87.1344,87.323, 87.6035,87.784,87.9589,88.1285,88.293, 88.4526,88.6076,88.7632,88.914,89.1331, 89.3446,89.478,89.6753,89.8044,89.9298, 90.1137,90.1764,90.1804,88.7558,87.7649 ,86.7638,86.7293,86.7116,86.5636,86.422 ,86.2854,86.1271,85.8839,85.721,85.5565 ,85.3885,85.2147,85.0378,84.758,84.5649 ,84.3712,84.1699,83.9657,83.7544, 83.5325,83.3002,83.0833,82.8515,82.4808 ,82.236,81.9829,81.5564,81.2685,80.832, 80.53,80.2223,79.9009,79.568,79.2205, 78.8588,78.48,78.0901,77.6912,77.2734, 76.4213,75.5018,74.506,73.4272,72.8558, 72.2525,71.627,71.2987,71.6059)
ORBIT_NUMBER = 2543
ORBITAL_ECCENTRICITY = 0.572
ORBITAL_INCLINATION = 86.62
ORBITAL_SEMIMAJOR_AXIS = 8527.75
PERIAPSIS_ALTITUDE = 277.58
PERIAPSIS_ARGUMENT_ANGLE = 271.41
PERIAPSIS_TIME = 2006-01-04T18:09:12.000Z
SPACECRAFT_ORIENTATION = (0.0,-1.0,0.0)
^MEX_ORIENTATION_DESC = "MEX_ORIENTATION_DESC.TXT"
SPACECRAFT_POINTING_MODE = ACROSSTRACK
^MEX_POINTING_DESC = "MEX_POINTING_DESC.TXT"
RIGHT_ASCENSION = -1e+32
DECLINATION = -1e+32
OFFSET_ANGLE = 0.4
SPACECRAFT_SOLAR_DISTANCE = 2.29799e+08
TARGET_NAME = MARS
/* CAMERA DATA ELEMENTS */
DETECTOR_TEMPERATURE = 16.7393
FOCAL_PLANE_TEMPERATURE = 8.1755
INST_CMPRS_NAME = "DISCRETE COSINE TRANSFORMATION (DCT)"
INST_CMPRS_RATIO = 8.42541
INST_CMPRS_QUALITY = 0
INST_CMPRS_QUANTZ_TBL_ID = 0
INSTRUMENT_TEMPERATURE = 11.0301
LENS_TEMPERATURE = 8.5833
MACROPIXEL_SIZE = 1
MISSING_FRAMES = 8
PIXEL_SUBSAMPLING_FLAG = N
SIGNAL_CHAIN_ID = 0
/* RADIOMETRIC DATA ELEMENTS */
BANDWIDTH = 177.0
CENTER_FILTER_WAVELENGTH = 677.5
RADIANCE_OFFSET = 0.599554
RADIANCE_SCALING_FACTOR = 0.0090129
REFLECTANCE_SCALING_FACTOR = 0.000252841
MEX:REFLECTANCE_OFFSET = 0.0168194
/* IMAGE OBJECT DEFINITIONS */
OBJECT = IMAGE
  INTERCHANGE_FORMAT = BINARY
  LINES = 54648
  LINE_SAMPLES = 19398
  SAMPLE_TYPE = UNSIGNED_INTEGER
  SAMPLE_BITS = 8
  BANDS = 1
  BAND_STORAGE_TYPE = BAND_SEQUENTIAL
  MAXIMUM = 255
  MEAN = 115.7
  MINIMUM = 1
  STANDARD_DEVIATION = 44.5683
END_OBJECT = IMAGE
/* MAP OBJECT DEFINITIONS */
OBJECT = IMAGE_MAP_PROJECTION
  ^DATA_SET_MAP_PROJECTION_CATALOG= "DSMAP.CAT"
  A_AXIS_RADIUS = 3396.0
  B_AXIS_RADIUS = 3396.0
  C_AXIS_RADIUS = 3396.0
  CENTER_LATITUDE = 0.0
  CENTER_LONGITUDE = 84.0
  COORDINATE_SYSTEM_NAME = PLANETOGRAPHIC
  COORDINATE_SYSTEM_TYPE = "BODY-FIXED ROTATING"
  EASTERNMOST_LONGITUDE = 90.18040000000001
  FIRST_STANDARD_PARALLEL = "N/A"
  LINE_FIRST_PIXEL = 1
  LINE_LAST_PIXEL = 54648
  LINE_PROJECTION_OFFSET = -331495.0
  MAP_PROJECTION_ROTATION = 0.0
  MAP_PROJECTION_TYPE = SINUSOIDAL
  MAP_RESOLUTION = 4741.71043093333
  MAP_SCALE = 0.0125
  MAXIMUM_LATITUDE = -69.9104
  MINIMUM_LATITUDE = -81.4349
  POSITIVE_LONGITUDE_DIRECTION = EAST
  REFERENCE_LATITUDE = "N/A"
  REFERENCE_LONGITUDE = "N/A"
  SAMPLE_FIRST_PIXEL = 1
  SAMPLE_LAST_PIXEL = 19398
  SAMPLE_PROJECTION_OFFSET = 9429.0
  SECOND_STANDARD_PARALLEL = "N/A"
  WESTERNMOST_LONGITUDE = 71.2987
END_OBJECT = IMAGE_MAP_PROJECTION
END
