PDS_VERSION_ID = PDS3
/* FILE DATA ELEMENTS */
RECORD_TYPE = UNDEFINED
/* POINTERS TO DATA OBJECTS */
^IMAGE = ("H2543_0001_S14.TIF")
/* IDENTIFICATION DATA ELEMENTS */
DATA_SET_ID = "MEX-M-HRSC-4-REFDR-MAPPROJECT-EXT1-V4.0"
DATA_SET_NAME = "MARS EXPRESS HRSC MAP PROJECTED REFDR EXTENSION1 V4.0"
DETECTOR_ID = MEX_HRSC_S1
EVENT_TYPE = "MARS-REGIONAL-MAPPING-Im-Gl-La"
INSTRUMENT_HOST_ID = MEX
INSTRUMENT_HOST_NAME = "MARS EXPRESS"
INSTRUMENT_ID = HRSC
INSTRUMENT_NAME = "HIGH RESOLUTION STEREO CAMERA"
MISSION_NAME = "MARS EXPRESS"
MISSION_PHASE_NAME = ME_Phase_1
PROCESSING_LEVEL_ID = 4
PRODUCT_CREATION_TIME = 2023-02-08T07:05:14.000Z
PRODUCT_ID = "H2543_0001_S14.TIF"
RELEASE_ID = 0001
REVISION_ID = 0000
/* QUALITY DATA ELEMENTS */
DATA_QUALITY_ID = 1
DATA_QUALITY_DESC = "Data calculated based on original SPICE kernels"
/* TIME DATA ELEMENTS */
SPACECRAFT_CLOCK_START_COUNT = "1/0084478218.57163"
SPACECRAFT_CLOCK_STOP_COUNT = "1/0084478462.23664"
START_TIME = 2006-01-04T18:10:24.665Z
STOP_TIME = 2006-01-04T18:13:22.285Z
/* ORBITAL DATA ELEMENTS */
ASCENDING_NODE_LONGITUDE = 174.9
MAXIMUM_RESOLUTION = 0.0236
FOOTPRINT_POINT_LATITUDE = (-81.1285,-81.2978,-81.43,-81.5526, -81.5563,-81.4714,-81.1666,-80.7556, -80.5417,-80.3258,-80.1104,-79.895, -79.5695,-79.2436,-79.0255,-78.8072, -78.5884,-78.2595,-78.0415,-77.8192, -77.5993,-77.3778,-77.1443,-76.794, -76.5632,-76.3348,-76.1092,-75.8826, -75.5323,-75.2992,-74.9492,-74.7082, -74.4671,-74.1049,-73.7429,-73.5016, -73.2603,-73.0185,-72.7714,-72.3925, -72.012,-71.7564,-71.5097,-71.2703, -71.0143,-70.7557,-70.368,-69.9796, -69.8489,-69.8189,-69.7402,-69.676, -69.5864,-69.5848,-69.5843,-69.9669, -70.2245,-70.4889,-70.8756,-71.1214, -71.3675,-71.6146,-71.8638,-72.2363, -72.6097,-72.8498,-73.0865,-73.3254, -73.6824,-74.0416,-74.394,-74.6348, -74.8678,-75.0964,-75.3234,-75.5582, -75.7877,-76.0072,-76.2313,-76.4576, -76.7952,-77.0224,-77.2416,-77.4576, -77.7819,-77.9935,-78.2056,-78.4189, -78.6324,-78.8438,-79.0549,-79.2658, -79.4755,-79.7883,-79.9956,-80.2025, -80.6038,-80.8956,-80.9919,-81.1285)
FOOTPRINT_POINT_LONGITUDE = (71.3264,73.2994,74.9951,76.7215, 76.7759,77.064,77.89,78.9103,79.4035, 79.8776,80.328,80.7577,81.3716,81.9462, 82.3105,82.6598,82.996,83.4762,83.7787, 84.0756,84.3582,84.6323,84.9117,85.3111 ,85.5617,85.8002,86.0271,86.2475, 86.5759,86.7853,87.0867,87.2857,87.4782 ,87.756,88.0205,88.1899,88.3542,88.514, 88.6724,88.9068,89.1321,89.2783,89.4134 ,89.5393,89.6729,89.8037,89.9929, 90.1747,90.2346,90.2481,89.1433,88.2818 ,87.0075,86.9764,86.9646,86.7489, 86.6021,86.4569,86.2219,86.0605,85.8962 ,85.7279,85.5564,85.2884,85.0088, 84.8188,84.623,84.4233,84.111,83.786, 83.4393,83.2043,82.968,82.7233,82.4693, 82.214,81.9454,81.659,81.3673,81.0677, 80.5972,80.2717,79.9413,79.6029,79.066, 78.693,78.3071,77.9079,77.4938,77.0624, 76.6142,76.1482,75.663,74.8967,74.3588, 73.7978,72.6316,71.7019,71.3784, 71.3264)
ORBIT_NUMBER = 2543
ORBITAL_ECCENTRICITY = 0.572
ORBITAL_INCLINATION = 86.62
ORBITAL_SEMIMAJOR_AXIS = 8527.75
PERIAPSIS_ALTITUDE = 277.58
PERIAPSIS_ARGUMENT_ANGLE = 271.41
PERIAPSIS_TIME = 2006-01-04T18:09:12.000Z
SPACECRAFT_ORIENTATION = (0.0,-1.0,0.0)
^MEX_ORIENTATION_DESC = "MEX_ORIENTATION_DESC.TXT"
SPACECRAFT_POINTING_MODE = ACROSSTRACK
^MEX_POINTING_DESC = "MEX_POINTING_DESC.TXT"
RIGHT_ASCENSION = -1e+32
DECLINATION = -1e+32
OFFSET_ANGLE = 0.4
SPACECRAFT_SOLAR_DISTANCE = 2.29799e+08
TARGET_NAME = MARS
/* CAMERA DATA ELEMENTS */
DETECTOR_TEMPERATURE = 17.9627
FOCAL_PLANE_TEMPERATURE = 8.1755
INST_CMPRS_NAME = "DISCRETE COSINE TRANSFORMATION (DCT)"
INST_CMPRS_RATIO = 13.0826
INST_CMPRS_QUALITY = 0
INST_CMPRS_QUANTZ_TBL_ID = 0
INSTRUMENT_TEMPERATURE = 11.0301
LENS_TEMPERATURE = 8.5833
MACROPIXEL_SIZE = 2
MISSING_FRAMES = 1
PIXEL_SUBSAMPLING_FLAG = N
SIGNAL_CHAIN_ID = 1
/* RADIOMETRIC DATA ELEMENTS */
BANDWIDTH = 180.0
CENTER_FILTER_WAVELENGTH = 677.0
RADIANCE_OFFSET = 1.16866
RADIANCE_SCALING_FACTOR = 0.0105027
REFLECTANCE_SCALING_FACTOR = 0.000289363
MEX:REFLECTANCE_OFFSET = 0.0321982
/* IMAGE OBJECT DEFINITIONS */
OBJECT = IMAGE
  INTERCHANGE_FORMAT = BINARY
  LINES = 27324
  LINE_SAMPLES = 9699
  SAMPLE_TYPE = UNSIGNED_INTEGER
  SAMPLE_BITS = 8
  BANDS = 1
  BAND_STORAGE_TYPE = BAND_SEQUENTIAL
  MAXIMUM = 255
  MEAN = 108.633
  MINIMUM = 1
  STANDARD_DEVIATION = 40.9962
END_OBJECT = IMAGE
/* MAP OBJECT DEFINITIONS */
OBJECT = IMAGE_MAP_PROJECTION
  ^DATA_SET_MAP_PROJECTION_CATALOG= "DSMAP.CAT"
  A_AXIS_RADIUS = 3396.0
  B_AXIS_RADIUS = 3396.0
  C_AXIS_RADIUS = 3396.0
  CENTER_LATITUDE = 0.0
  CENTER_LONGITUDE = 84.0
  COORDINATE_SYSTEM_NAME = PLANETOGRAPHIC
  COORDINATE_SYSTEM_TYPE = "BODY-FIXED ROTATING"
  EASTERNMOST_LONGITUDE = 90.24809999999999
  FIRST_STANDARD_PARALLEL = "N/A"
  LINE_FIRST_PIXEL = 1
  LINE_LAST_PIXEL = 27324
  LINE_PROJECTION_OFFSET = -165747.75
  MAP_PROJECTION_ROTATION = 0.0
  MAP_PROJECTION_TYPE = SINUSOIDAL
  MAP_RESOLUTION = 2370.85521546667
  MAP_SCALE = 0.025
  MAXIMUM_LATITUDE = -69.5843
  MINIMUM_LATITUDE = -81.55629999999999
  POSITIVE_LONGITUDE_DIRECTION = EAST
  REFERENCE_LATITUDE = "N/A"
  REFERENCE_LONGITUDE = "N/A"
  SAMPLE_FIRST_PIXEL = 1
  SAMPLE_LAST_PIXEL = 9699
  SAMPLE_PROJECTION_OFFSET = 4714.25
  SECOND_STANDARD_PARALLEL = "N/A"
  WESTERNMOST_LONGITUDE = 71.32640000000001
END_OBJECT = IMAGE_MAP_PROJECTION
END
