PDS_VERSION_ID = PDS3
/* FILE DATA ELEMENTS */
RECORD_TYPE = UNDEFINED
/* POINTERS TO DATA OBJECTS */
^IMAGE = ("H2547_0000_RE4.TIF")
/* IDENTIFICATION DATA ELEMENTS */
DATA_SET_ID = "MEX-M-HRSC-4-REFDR-MAPPROJECT-EXT1-V4.0"
DATA_SET_NAME = "MARS EXPRESS HRSC MAP PROJECTED REFDR EXTENSION1 V4.0"
DETECTOR_ID = MEX_HRSC_RED
EVENT_TYPE = "MARS-REGIONAL-MAPPING-Im-Gl-Pf"
INSTRUMENT_HOST_ID = MEX
INSTRUMENT_HOST_NAME = "MARS EXPRESS"
INSTRUMENT_ID = HRSC
INSTRUMENT_NAME = "HIGH RESOLUTION STEREO CAMERA"
MISSION_NAME = "MARS EXPRESS"
MISSION_PHASE_NAME = ME_Phase_1
PROCESSING_LEVEL_ID = 4
PRODUCT_CREATION_TIME = 2023-02-08T07:05:14.000Z
PRODUCT_ID = "H2547_0000_RE4.TIF"
RELEASE_ID = 0001
REVISION_ID = 0000
/* QUALITY DATA ELEMENTS */
DATA_QUALITY_ID = 1
DATA_QUALITY_DESC = "Data calculated based on original SPICE kernels"
/* TIME DATA ELEMENTS */
SPACECRAFT_CLOCK_START_COUNT = "1/0084575030.57145"
SPACECRAFT_CLOCK_STOP_COUNT = "1/0084575286.17041"
START_TIME = 2006-01-05T21:04:48.559Z
STOP_TIME = 2006-01-05T21:08:03.148Z
/* ORBITAL DATA ELEMENTS */
ASCENDING_NODE_LONGITUDE = 174.82
MAXIMUM_RESOLUTION = 0.0598
FOOTPRINT_POINT_LATITUDE = (-78.6496,-78.7901,-78.8801,-78.9569, -78.9591,-79.1208,-78.6667,-78.4378, -78.0874,-77.7295,-77.3802,-77.1444, -76.9077,-76.6698,-76.4315,-76.0698, -75.7113,-75.4708,-75.11,-74.8679, -74.6302,-74.2746,-73.92,-73.6823, -73.3277,-73.09,-72.7333,-72.4646, -72.1825,-71.8991,-71.4735,-71.1901, -70.9071,-70.6237,-70.1985,-69.9142, -69.6255,-69.3478,-69.0675,-68.787, -68.5059,-68.2236,-67.9418,-67.6594, -67.3738,-67.0845,-66.6517,-66.3603, -66.212,-66.1085,-66.0991,-66.079, -66.0609,-66.0281,-66.0269,-66.0276, -66.465,-66.751,-67.0369,-67.4651, -67.744,-68.0227,-68.4394,-68.7179, -68.9974,-69.2799,-69.5615,-69.8412, -70.1188,-70.3968,-70.6766,-70.957, -71.2368,-71.6551,-71.9345,-72.2133, -72.4929,-72.7268,-73.0761,-73.3096, -73.5451,-74.0091,-74.2436,-74.706, -74.9402,-75.172,-75.5196,-75.7521, -75.9844,-76.332,-76.567,-76.7967, -77.1376,-77.3679,-77.5989,-77.9402, -78.2673,-78.5945,-78.7031,-78.6496)
FOOTPRINT_POINT_LONGITUDE = (39.339,41.9076,43.8078,45.6622,45.7195 ,45.2263,46.0921,46.5012,47.0943, 47.6636,48.1758,48.5068,48.827,49.1369, 49.4357,49.872,50.2771,50.538,50.9122, 51.1537,51.3786,51.7004,52.0045,52.2014 ,52.4818,52.6637,52.9263,53.1167, 53.3079,53.4945,53.763,53.9341,54.0991, 54.2591,54.4899,54.6388,54.7888,54.92, 55.0505,55.1775,55.3013,55.423,55.5406, 55.6556,55.7672,55.8779,56.0366,56.1393 ,56.1909,56.2261,55.5087,54.346,53.5866 ,52.4332,52.3953,52.3822,52.1939, 52.0639,51.9303,51.7241,51.5819,51.4362 ,51.2137,51.0573,50.8921,50.7113, 50.5277,50.3448,50.1632,49.9739,49.7717 ,49.5596,49.3424,49.0069,48.7706, 48.5275,48.272,48.0521,47.7141,47.4763, 47.2217,46.7155,46.4375,45.8806,45.5716 ,45.262,44.7746,44.4294,44.0706,43.5073 ,43.0927,42.6894,42.0718,41.6161, 41.1339,40.3986,39.6612,38.8573,38.5783 ,39.339)
ORBIT_NUMBER = 2547
ORBITAL_ECCENTRICITY = 0.571
ORBITAL_INCLINATION = 86.62
ORBITAL_SEMIMAJOR_AXIS = 8527.79
PERIAPSIS_ALTITUDE = 277.98
PERIAPSIS_ARGUMENT_ANGLE = 270.73
PERIAPSIS_TIME = 2006-01-05T21:01:37.000Z
SPACECRAFT_ORIENTATION = (0.0,-1.0,0.0)
^MEX_ORIENTATION_DESC = "MEX_ORIENTATION_DESC.TXT"
SPACECRAFT_POINTING_MODE = INERT
^MEX_POINTING_DESC = "MEX_POINTING_DESC.TXT"
RIGHT_ASCENSION = 318.274
DECLINATION = 49.453
OFFSET_ANGLE = -1e+32
SPACECRAFT_SOLAR_DISTANCE = 2.30015e+08
TARGET_NAME = MARS
/* CAMERA DATA ELEMENTS */
DETECTOR_TEMPERATURE = 18.3705
FOCAL_PLANE_TEMPERATURE = 8.3794
INST_CMPRS_NAME = "DISCRETE COSINE TRANSFORMATION (DCT)"
INST_CMPRS_RATIO = 29.6632
INST_CMPRS_QUALITY = 0
INST_CMPRS_QUANTZ_TBL_ID = 0
INSTRUMENT_TEMPERATURE = 10.8262
LENS_TEMPERATURE = 8.7872
MACROPIXEL_SIZE = 4
MISSING_FRAMES = 0
PIXEL_SUBSAMPLING_FLAG = N
SIGNAL_CHAIN_ID = 2
/* RADIOMETRIC DATA ELEMENTS */
BANDWIDTH = 48.0
CENTER_FILTER_WAVELENGTH = 748.0
RADIANCE_OFFSET = 0.285913
RADIANCE_SCALING_FACTOR = 0.00317681
REFLECTANCE_SCALING_FACTOR = 0.000383557
MEX:REFLECTANCE_OFFSET = 0.0345201
/* IMAGE OBJECT DEFINITIONS */
OBJECT = IMAGE
  INTERCHANGE_FORMAT = BINARY
  LINES = 15637
  LINE_SAMPLES = 5440
  SAMPLE_TYPE = UNSIGNED_INTEGER
  SAMPLE_BITS = 8
  BANDS = 1
  BAND_STORAGE_TYPE = BAND_SEQUENTIAL
  MAXIMUM = 255
  MEAN = 114.298
  MINIMUM = 1
  STANDARD_DEVIATION = 48.5907
END_OBJECT = IMAGE
/* MAP OBJECT DEFINITIONS */
OBJECT = IMAGE_MAP_PROJECTION
  ^DATA_SET_MAP_PROJECTION_CATALOG= "DSMAP.CAT"
  A_AXIS_RADIUS = 3396.0
  B_AXIS_RADIUS = 3396.0
  C_AXIS_RADIUS = 3396.0
  CENTER_LATITUDE = 0.0
  CENTER_LONGITUDE = 50.0
  COORDINATE_SYSTEM_NAME = PLANETOGRAPHIC
  COORDINATE_SYSTEM_TYPE = "BODY-FIXED ROTATING"
  EASTERNMOST_LONGITUDE = 56.2261
  FIRST_STANDARD_PARALLEL = "N/A"
  LINE_FIRST_PIXEL = 1
  LINE_LAST_PIXEL = 15637
  LINE_PROJECTION_OFFSET = -78228.375
  MAP_PROJECTION_ROTATION = 0.0
  MAP_PROJECTION_TYPE = SINUSOIDAL
  MAP_RESOLUTION = 1185.42760773333
  MAP_SCALE = 0.05
  MAXIMUM_LATITUDE = -66.0269
  MINIMUM_LATITUDE = -79.1208
  POSITIVE_LONGITUDE_DIRECTION = EAST
  REFERENCE_LATITUDE = "N/A"
  REFERENCE_LONGITUDE = "N/A"
  SAMPLE_FIRST_PIXEL = 1
  SAMPLE_LAST_PIXEL = 5440
  SAMPLE_PROJECTION_OFFSET = 2521.125
  SECOND_STANDARD_PARALLEL = "N/A"
  WESTERNMOST_LONGITUDE = 38.5783
END_OBJECT = IMAGE_MAP_PROJECTION
END
