PDS_VERSION_ID = PDS3
/* FILE DATA ELEMENTS */
RECORD_TYPE = UNDEFINED
/* POINTERS TO DATA OBJECTS */
^IMAGE = ("H2573_0000_IR4.TIF")
/* IDENTIFICATION DATA ELEMENTS */
DATA_SET_ID = "MEX-M-HRSC-4-REFDR-MAPPROJECT-EXT1-V4.0"
DATA_SET_NAME = "MARS EXPRESS HRSC MAP PROJECTED REFDR EXTENSION1 V4.0"
DETECTOR_ID = MEX_HRSC_IR
EVENT_TYPE = "MARS-REGIONAL-MAPPING-Vo-Gl"
INSTRUMENT_HOST_ID = MEX
INSTRUMENT_HOST_NAME = "MARS EXPRESS"
INSTRUMENT_ID = HRSC
INSTRUMENT_NAME = "HIGH RESOLUTION STEREO CAMERA"
MISSION_NAME = "MARS EXPRESS"
MISSION_PHASE_NAME = ME_Phase_2
PROCESSING_LEVEL_ID = 4
PRODUCT_CREATION_TIME = 2023-02-08T07:05:14.000Z
PRODUCT_ID = "H2573_0000_IR4.TIF"
RELEASE_ID = 0001
REVISION_ID = 0000
/* QUALITY DATA ELEMENTS */
DATA_QUALITY_ID = 1
DATA_QUALITY_DESC = "Data calculated based on original SPICE kernels"
/* TIME DATA ELEMENTS */
SPACECRAFT_CLOCK_START_COUNT = "1/0085203962.09064"
SPACECRAFT_CLOCK_STOP_COUNT = "1/0085204271.00590"
START_TIME = 2006-01-13T03:46:12.769Z
STOP_TIME = 2006-01-13T03:49:49.125Z
/* ORBITAL DATA ELEMENTS */
ASCENDING_NODE_LONGITUDE = 174.3
MAXIMUM_RESOLUTION = 0.1219
FOOTPRINT_POINT_LATITUDE = (-71.0483,-71.1029,-71.1721,-71.2483, -71.2498,-71.1768,-70.8156,-70.3339, -70.0848,-69.5874,-68.9657,-68.4602, -68.2051,-67.9489,-67.6932,-67.4404, -67.0574,-66.8016,-66.5448,-66.2894, -66.0345,-65.7795,-65.5245,-65.2701, -65.0154,-64.7628,-64.4679,-64.1644, -63.8613,-63.559,-63.2564,-62.9546, -62.6535,-62.3528,-62.0524,-61.7528, -61.4531,-61.1539,-60.8551,-60.4069, -60.1007,-59.7948,-59.4897,-59.1771, -58.7083,-58.3918,-57.9166,-57.4317, -57.2687,-57.2026,-57.1723,-57.1303, -57.0984,-57.0676,-57.0658,-57.067, -57.391,-57.8713,-58.1863,-58.5026, -58.8134,-59.1249,-59.4344,-59.7413, -60.0441,-60.347,-60.6414,-60.9426, -61.2389,-61.5375,-61.8355,-62.1354, -62.4383,-62.7368,-63.0345,-63.3342, -63.6349,-63.9358,-64.2373,-64.6665, -65.0465,-65.3002,-65.5548,-65.8083, -66.0622,-66.4424,-66.6969,-66.9506, -67.2043,-67.5837,-67.838,-68.2191, -68.5998,-69.0939,-69.5879,-69.9582, -70.4373,-70.7991,-70.9187,-71.0483)
FOOTPRINT_POINT_LONGITUDE = (19.8651,20.7268,21.9414,23.5156, 23.5508,23.6868,23.8465,24.0503,24.1537 ,24.3476,24.5768,24.7531,24.8371, 24.9207,25.0016,25.077,25.1918,25.2668, 25.3413,25.4126,25.4818,25.5497,25.6162 ,25.6808,25.7443,25.8043,25.8743,25.945 ,26.0137,26.0801,26.1453,26.2084, 26.2694,26.3288,26.3868,26.4428,26.4978 ,26.5513,26.6035,26.6799,26.7305, 26.7799,26.8277,26.8756,26.9457,26.9916 ,27.0558,27.1223,27.1439,27.1526, 26.1588,25.1325,24.4804,23.8919,23.8609 ,23.8401,23.7962,23.7295,23.6818, 23.6343,23.5861,23.5365,23.4858,23.4355 ,23.3814,23.3271,23.2706,23.2155, 23.1561,23.0959,23.0333,22.9696,22.9052 ,22.8364,22.7649,22.6921,22.6173, 22.5402,22.4607,22.3432,22.2351,22.1607 ,22.0847,22.0059,21.9251,21.7992, 21.7128,21.6236,21.5318,21.3885,21.2902 ,21.1373,20.9796,20.7643,20.5362, 20.3561,20.1092,19.9187,19.8528, 19.8651)
ORBIT_NUMBER = 2573
ORBITAL_ECCENTRICITY = 0.571
ORBITAL_INCLINATION = 86.61
ORBITAL_SEMIMAJOR_AXIS = 8529.93
PERIAPSIS_ALTITUDE = 280.71
PERIAPSIS_ARGUMENT_ANGLE = 266.16
PERIAPSIS_TIME = 2006-01-13T03:41:00.000Z
SPACECRAFT_ORIENTATION = (0.0,-1.0,0.0)
^MEX_ORIENTATION_DESC = "MEX_ORIENTATION_DESC.TXT"
SPACECRAFT_POINTING_MODE = NADIR
^MEX_POINTING_DESC = "MEX_POINTING_DESC.TXT"
RIGHT_ASCENSION = -1e+32
DECLINATION = -1e+32
OFFSET_ANGLE = -1e+32
SPACECRAFT_SOLAR_DISTANCE = 2.31403e+08
TARGET_NAME = MARS
/* CAMERA DATA ELEMENTS */
DETECTOR_TEMPERATURE = 17.1471
FOCAL_PLANE_TEMPERATURE = 8.1755
INST_CMPRS_NAME = "DISCRETE COSINE TRANSFORMATION (DCT)"
INST_CMPRS_RATIO = 21.5858
INST_CMPRS_QUALITY = 0
INST_CMPRS_QUANTZ_TBL_ID = 0
INSTRUMENT_TEMPERATURE = 10.8262
LENS_TEMPERATURE = 8.3794
MACROPIXEL_SIZE = 8
MISSING_FRAMES = 0
PIXEL_SUBSAMPLING_FLAG = N
SIGNAL_CHAIN_ID = 2
/* RADIOMETRIC DATA ELEMENTS */
BANDWIDTH = 81.0
CENTER_FILTER_WAVELENGTH = 955.5
RADIANCE_OFFSET = 0.381323
RADIANCE_SCALING_FACTOR = 0.00233002
REFLECTANCE_SCALING_FACTOR = 0.000269172
MEX:REFLECTANCE_OFFSET = 0.0440518
/* IMAGE OBJECT DEFINITIONS */
OBJECT = IMAGE
  INTERCHANGE_FORMAT = BINARY
  LINES = 8255
  LINE_SAMPLES = 1867
  SAMPLE_TYPE = UNSIGNED_INTEGER
  SAMPLE_BITS = 8
  BANDS = 1
  BAND_STORAGE_TYPE = BAND_SEQUENTIAL
  MAXIMUM = 255
  MEAN = 122.226
  MINIMUM = 1
  STANDARD_DEVIATION = 35.7839
END_OBJECT = IMAGE
/* MAP OBJECT DEFINITIONS */
OBJECT = IMAGE_MAP_PROJECTION
  ^DATA_SET_MAP_PROJECTION_CATALOG= "DSMAP.CAT"
  A_AXIS_RADIUS = 3396.0
  B_AXIS_RADIUS = 3396.0
  C_AXIS_RADIUS = 3396.0
  CENTER_LATITUDE = 0.0
  CENTER_LONGITUDE = 24.0
  COORDINATE_SYSTEM_NAME = PLANETOGRAPHIC
  COORDINATE_SYSTEM_TYPE = "BODY-FIXED ROTATING"
  EASTERNMOST_LONGITUDE = 27.1526
  FIRST_STANDARD_PARALLEL = "N/A"
  LINE_FIRST_PIXEL = 1
  LINE_LAST_PIXEL = 8255
  LINE_PROJECTION_OFFSET = -34090.5625
  MAP_PROJECTION_ROTATION = 0.0
  MAP_PROJECTION_TYPE = SINUSOIDAL
  MAP_RESOLUTION = 592.713803866667
  MAP_SCALE = 0.1
  MAXIMUM_LATITUDE = -57.0658
  MINIMUM_LATITUDE = -71.24979999999999
  POSITIVE_LONGITUDE_DIRECTION = EAST
  REFERENCE_LATITUDE = "N/A"
  REFERENCE_LONGITUDE = "N/A"
  SAMPLE_FIRST_PIXEL = 1
  SAMPLE_LAST_PIXEL = 1867
  SAMPLE_PROJECTION_OFFSET = 841.9375
  SECOND_STANDARD_PARALLEL = "N/A"
  WESTERNMOST_LONGITUDE = 19.8528
END_OBJECT = IMAGE_MAP_PROJECTION
END
