PDS_VERSION_ID = PDS3
/* FILE DATA ELEMENTS */
RECORD_TYPE = UNDEFINED
/* POINTERS TO DATA OBJECTS */
^IMAGE = ("H2574_0016_SR4.TIF")
/* IDENTIFICATION DATA ELEMENTS */
DATA_SET_ID = "MEX-M-HRSC-4-REFDR-MAPPROJECT-EXT1-V4.0"
DATA_SET_NAME = "MARS EXPRESS HRSC MAP PROJECTED REFDR EXTENSION1 V4.0"
DETECTOR_ID = MEX_HRSC_SRC
EVENT_TYPE = "MARS-TERMINATOR-VARIABLE-At"
INSTRUMENT_HOST_ID = MEX
INSTRUMENT_HOST_NAME = "MARS EXPRESS"
INSTRUMENT_ID = HRSC
INSTRUMENT_NAME = "HIGH RESOLUTION STEREO CAMERA"
MISSION_NAME = "MARS EXPRESS"
MISSION_PHASE_NAME = ME_Phase_2
PROCESSING_LEVEL_ID = 4
PRODUCT_CREATION_TIME = 2023-02-08T07:05:14.000Z
PRODUCT_ID = "H2574_0016_SR4.TIF"
RELEASE_ID = 0001
REVISION_ID = 0000
/* QUALITY DATA ELEMENTS */
DATA_QUALITY_ID = 1
DATA_QUALITY_DESC = "Data calculated based on original SPICE kernels"
/* TIME DATA ELEMENTS */
SPACECRAFT_CLOCK_START_COUNT = "1/0085232961.07305"
SPACECRAFT_CLOCK_STOP_COUNT = "1/0085234461.54422"
IMAGE_TIME = 2006-01-13T11:58:58.904Z
START_TIME = 2006-01-13T11:58:58.900Z
STOP_TIME = 2006-01-13T11:58:58.907Z
/* ORBITAL DATA ELEMENTS */
ASCENDING_NODE_LONGITUDE = 174.28
MAXIMUM_RESOLUTION = 0.066425
FOOTPRINT_POINT_LATITUDE = (52.8215,52.7541,52.7193,52.6845, 52.6498,52.615,52.5802,52.5454,52.4864, 52.4516,52.4169,52.3821,52.3473,52.3126 ,52.2778,52.243,52.2083,52.1492,52.0797 ,52.0102,51.9407,51.8712,51.7972, 51.7277,51.7266,51.7269,51.7392,51.7574 ,51.7695,51.7817,51.7937,51.8087, 51.8207,51.8327,51.8446,51.8564,51.8715 ,51.8833,51.895,51.9067,51.9184,51.9298 ,51.9414,51.953,51.9645,51.9786,51.9901 ,52.0014,52.0213,52.0241,52.0258, 52.0957,52.1657,52.2087,52.2787,52.3487 ,52.4187,52.4887,52.5459,52.5809,52.616 ,52.651,52.686,52.721,52.7561,52.7956, 52.8306,52.8834,52.9185,52.9535,52.9885 ,53.0236,53.0586,53.1276,53.1287, 53.1285,53.1139,53.1023,53.082,53.0702, 53.0584,53.0465,53.0258,53.0139,53.0019 ,52.9898,52.9718,52.9596,52.9475, 52.9352,52.92,52.9077,52.8954,52.883, 52.8641,52.8517,52.8391,52.8266,52.8234 ,52.8215)
FOOTPRINT_POINT_LONGITUDE = (276.309,276.277,276.26,276.243,276.227 ,276.21,276.194,276.177,276.15,276.133, 276.117,276.101,276.084,276.068,276.052 ,276.036,276.019,275.992,275.96,275.928 ,275.896,275.864,275.83,275.798,275.798 ,275.796,275.726,275.621,275.551, 275.481,275.411,275.323,275.253,275.183 ,275.113,275.042,274.954,274.884, 274.813,274.743,274.672,274.602,274.531 ,274.461,274.39,274.302,274.231,274.16, 274.036,274.019,274.008,274.037,274.066 ,274.084,274.113,274.142,274.172, 274.201,274.225,274.24,274.255,274.27, 274.285,274.3,274.315,274.332,274.347, 274.369,274.384,274.4,274.415,274.43, 274.445,274.475,274.475,274.477,274.568 ,274.641,274.768,274.84,274.912,274.985 ,275.111,275.184,275.256,275.328, 275.436,275.508,275.58,275.652,275.742, 275.814,275.886,275.958,276.065,276.137 ,276.209,276.28,276.298,276.309)
ORBIT_NUMBER = 2574
ORBITAL_ECCENTRICITY = 0.571
ORBITAL_INCLINATION = 86.61
ORBITAL_SEMIMAJOR_AXIS = 8530.52
PERIAPSIS_ALTITUDE = 280.64
PERIAPSIS_ARGUMENT_ANGLE = 266.01
PERIAPSIS_TIME = 2006-01-13T10:24:16.000Z
SPACECRAFT_ORIENTATION = (0.0,-1.0,0.0)
^MEX_ORIENTATION_DESC = "MEX_ORIENTATION_DESC.TXT"
SPACECRAFT_POINTING_MODE = INERT
^MEX_POINTING_DESC = "MEX_POINTING_DESC.TXT"
RIGHT_ASCENSION = 310.976
DECLINATION = 49.716
OFFSET_ANGLE = -1e+32
SPACECRAFT_SOLAR_DISTANCE = 2.31456e+08
TARGET_NAME = MARS
/* CAMERA DATA ELEMENTS */
BUFFER_MODE_ID = DIRECT
EXPOSURE_DURATION = 7.056
INST_CMPRS_NAME = NONE
INST_CMPRS_RATIO = 1.0
INST_CMPRS_QUALITY = -2147483648
INST_CMPRS_QUANTZ_TBL_ID = -2147483648
INSTRUMENT_TEMPERATURE = 17.2727
MISSING_FRAMES = 0
START_BIT = 0
/* RADIOMETRIC DATA ELEMENTS */
BANDWIDTH = 250.0
CENTER_FILTER_WAVELENGTH = 600.0
RADIANCE_OFFSET = -9.99e+31
RADIANCE_SCALING_FACTOR = -9.99e+31
REFLECTANCE_SCALING_FACTOR = -9.99e+31
MEX:REFLECTANCE_OFFSET = -9.99e+31
/* IMAGE OBJECT DEFINITIONS */
OBJECT = IMAGE
  INTERCHANGE_FORMAT = BINARY
  LINES = 1081
  LINE_SAMPLES = 1081
  SAMPLE_TYPE = UNSIGNED_INTEGER
  SAMPLE_BITS = 8
  BANDS = 1
  BAND_STORAGE_TYPE = BAND_SEQUENTIAL
  MAXIMUM = 243
  MEAN = 145.366
  MINIMUM = 17
  STANDARD_DEVIATION = 22.1618
END_OBJECT = IMAGE
/* MAP OBJECT DEFINITIONS */
OBJECT = IMAGE_MAP_PROJECTION
  ^DATA_SET_MAP_PROJECTION_CATALOG= "DSMAP.CAT"
  A_AXIS_RADIUS = 3396.19
  B_AXIS_RADIUS = 3396.19
  C_AXIS_RADIUS = 3396.19
  CENTER_LATITUDE = 0.0
  CENTER_LONGITUDE = 275.0
  COORDINATE_SYSTEM_NAME = PLANETOGRAPHIC
  COORDINATE_SYSTEM_TYPE = "BODY-FIXED ROTATING"
  EASTERNMOST_LONGITUDE = 276.309
  FIRST_STANDARD_PARALLEL = "N/A"
  LINE_FIRST_PIXEL = 1
  LINE_LAST_PIXEL = 1081
  LINE_PROJECTION_OFFSET = 39345.0
  MAP_PROJECTION_ROTATION = 0.0
  MAP_PROJECTION_TYPE = SINUSOIDAL
  MAP_RESOLUTION = 740.9337064023611
  MAP_SCALE = 0.08
  MAXIMUM_LATITUDE = 53.1287
  MINIMUM_LATITUDE = 51.7266
  POSITIVE_LONGITUDE_DIRECTION = EAST
  REFERENCE_LATITUDE = "N/A"
  REFERENCE_LONGITUDE = "N/A"
  SAMPLE_FIRST_PIXEL = 1
  SAMPLE_LAST_PIXEL = 1081
  SAMPLE_PROJECTION_OFFSET = 474.0
  SECOND_STANDARD_PARALLEL = "N/A"
  WESTERNMOST_LONGITUDE = 274.008
END_OBJECT = IMAGE_MAP_PROJECTION
END
