PDS_VERSION_ID = PDS3
/* FILE DATA ELEMENTS */
RECORD_TYPE = UNDEFINED
/* POINTERS TO DATA OBJECTS */
^IMAGE = ("H2574_0019_SR4.TIF")
/* IDENTIFICATION DATA ELEMENTS */
DATA_SET_ID = "MEX-M-HRSC-4-REFDR-MAPPROJECT-EXT1-V4.0"
DATA_SET_NAME = "MARS EXPRESS HRSC MAP PROJECTED REFDR EXTENSION1 V4.0"
DETECTOR_ID = MEX_HRSC_SRC
EVENT_TYPE = "MARS-TERMINATOR-VARIABLE-At"
INSTRUMENT_HOST_ID = MEX
INSTRUMENT_HOST_NAME = "MARS EXPRESS"
INSTRUMENT_ID = HRSC
INSTRUMENT_NAME = "HIGH RESOLUTION STEREO CAMERA"
MISSION_NAME = "MARS EXPRESS"
MISSION_PHASE_NAME = ME_Phase_2
PROCESSING_LEVEL_ID = 4
PRODUCT_CREATION_TIME = 2023-02-08T07:05:14.000Z
PRODUCT_ID = "H2574_0019_SR4.TIF"
RELEASE_ID = 0001
REVISION_ID = 0000
/* QUALITY DATA ELEMENTS */
DATA_QUALITY_ID = 1
DATA_QUALITY_DESC = "Data calculated based on original SPICE kernels"
/* TIME DATA ELEMENTS */
SPACECRAFT_CLOCK_START_COUNT = "1/0085232961.07305"
SPACECRAFT_CLOCK_STOP_COUNT = "1/0085234461.54422"
IMAGE_TIME = 2006-01-13T12:01:07.529Z
START_TIME = 2006-01-13T12:01:07.526Z
STOP_TIME = 2006-01-13T12:01:07.533Z
/* ORBITAL DATA ELEMENTS */
ASCENDING_NODE_LONGITUDE = 174.28
MAXIMUM_RESOLUTION = 0.067661
FOOTPRINT_POINT_LATITUDE = (56.1144,56.0687,56.0273,55.9916,55.956 ,55.9204,55.8676,55.832,55.7964,55.7607 ,55.7251,55.6895,55.6539,55.6183, 55.5827,55.4944,55.4233,55.3875,55.3163 ,55.2452,55.2074,55.1363,55.0652, 54.9941,54.993,54.9933,55.0062,55.0187, 55.0315,55.0442,55.0569,55.0721,55.0847 ,55.0972,55.1097,55.1282,55.1406, 55.1529,55.1652,55.1774,55.1896,55.2018 ,55.2139,55.229,55.2474,55.2594,55.2713 ,55.2831,55.3008,55.3037,55.3055, 55.3772,55.4489,55.5206,55.5826,55.6613 ,55.7331,55.8049,55.8767,55.9197, 55.9556,55.9916,56.0275,56.0634,56.0993 ,56.1353,56.1712,56.2072,56.2572, 56.2931,56.3291,56.3651,56.436,56.4371, 56.4368,56.4155,56.4032,56.3909,56.3755 ,56.3631,56.3507,56.3382,56.3258, 56.3133,56.3006,56.288,56.2723,56.2595, 56.2463,56.2334,56.2176,56.2046,56.1916 ,56.1786,56.1591,56.146,56.1328,56.1195 ,56.1164,56.1144)
FOOTPRINT_POINT_LONGITUDE = (276.381,276.356,276.334,276.315, 276.297,276.278,276.25,276.231,276.213, 276.194,276.175,276.157,276.138,276.12, 276.101,276.055,276.019,276.0,275.964, 275.928,275.908,275.872,275.836,275.8, 275.8,275.798,275.721,275.644,275.567, 275.49,275.413,275.317,275.24,275.163, 275.086,274.97,274.893,274.815,274.738, 274.66,274.583,274.505,274.428,274.331, 274.214,274.136,274.058,273.98,273.863, 273.844,273.832,273.865,273.897,273.93, 273.958,273.994,274.027,274.06,274.094, 274.113,274.13,274.147,274.164,274.18, 274.197,274.214,274.231,274.248,274.271 ,274.288,274.306,274.323,274.356, 274.357,274.359,274.499,274.58,274.66, 274.76,274.84,274.92,274.999,275.079, 275.159,275.239,275.318,275.418,275.497 ,275.577,275.656,275.756,275.835, 275.914,275.993,276.112,276.191,276.27, 276.349,276.369,276.381)
ORBIT_NUMBER = 2574
ORBITAL_ECCENTRICITY = 0.571
ORBITAL_INCLINATION = 86.61
ORBITAL_SEMIMAJOR_AXIS = 8530.52
PERIAPSIS_ALTITUDE = 280.64
PERIAPSIS_ARGUMENT_ANGLE = 266.01
PERIAPSIS_TIME = 2006-01-13T10:24:16.000Z
SPACECRAFT_ORIENTATION = (0.0,-1.0,0.0)
^MEX_ORIENTATION_DESC = "MEX_ORIENTATION_DESC.TXT"
SPACECRAFT_POINTING_MODE = INERT
^MEX_POINTING_DESC = "MEX_POINTING_DESC.TXT"
RIGHT_ASCENSION = 310.976
DECLINATION = 49.716
OFFSET_ANGLE = -1e+32
SPACECRAFT_SOLAR_DISTANCE = 2.31456e+08
TARGET_NAME = MARS
/* CAMERA DATA ELEMENTS */
BUFFER_MODE_ID = DIRECT
EXPOSURE_DURATION = 7.056
INST_CMPRS_NAME = NONE
INST_CMPRS_RATIO = 1.0
INST_CMPRS_QUALITY = -2147483648
INST_CMPRS_QUANTZ_TBL_ID = -2147483648
INSTRUMENT_TEMPERATURE = 20.2597
MISSING_FRAMES = 0
START_BIT = 0
/* RADIOMETRIC DATA ELEMENTS */
BANDWIDTH = 250.0
CENTER_FILTER_WAVELENGTH = 600.0
RADIANCE_OFFSET = -9.99e+31
RADIANCE_SCALING_FACTOR = -9.99e+31
REFLECTANCE_SCALING_FACTOR = -9.99e+31
MEX:REFLECTANCE_OFFSET = -9.99e+31
/* IMAGE OBJECT DEFINITIONS */
OBJECT = IMAGE
  INTERCHANGE_FORMAT = BINARY
  LINES = 1113
  LINE_SAMPLES = 1105
  SAMPLE_TYPE = UNSIGNED_INTEGER
  SAMPLE_BITS = 8
  BANDS = 1
  BAND_STORAGE_TYPE = BAND_SEQUENTIAL
  MAXIMUM = 248
  MEAN = 122.969
  MINIMUM = 4
  STANDARD_DEVIATION = 22.2908
END_OBJECT = IMAGE
/* MAP OBJECT DEFINITIONS */
OBJECT = IMAGE_MAP_PROJECTION
  ^DATA_SET_MAP_PROJECTION_CATALOG= "DSMAP.CAT"
  A_AXIS_RADIUS = 3396.19
  B_AXIS_RADIUS = 3396.19
  C_AXIS_RADIUS = 3396.19
  CENTER_LATITUDE = 0.0
  CENTER_LONGITUDE = 275.0
  COORDINATE_SYSTEM_NAME = PLANETOGRAPHIC
  COORDINATE_SYSTEM_TYPE = "BODY-FIXED ROTATING"
  EASTERNMOST_LONGITUDE = 276.381
  FIRST_STANDARD_PARALLEL = "N/A"
  LINE_FIRST_PIXEL = 1
  LINE_LAST_PIXEL = 1113
  LINE_PROJECTION_OFFSET = 41798.0
  MAP_PROJECTION_ROTATION = 0.0
  MAP_PROJECTION_TYPE = SINUSOIDAL
  MAP_RESOLUTION = 740.9337064023611
  MAP_SCALE = 0.08
  MAXIMUM_LATITUDE = 56.4371
  MINIMUM_LATITUDE = 54.993
  POSITIVE_LONGITUDE_DIRECTION = EAST
  REFERENCE_LATITUDE = "N/A"
  REFERENCE_LONGITUDE = "N/A"
  SAMPLE_FIRST_PIXEL = 1
  SAMPLE_LAST_PIXEL = 1105
  SAMPLE_PROJECTION_OFFSET = 513.0
  SECOND_STANDARD_PARALLEL = "N/A"
  WESTERNMOST_LONGITUDE = 273.832
END_OBJECT = IMAGE_MAP_PROJECTION
END
