PDS_VERSION_ID = PDS3
/* FILE DATA ELEMENTS */
RECORD_TYPE = UNDEFINED
/* POINTERS TO DATA OBJECTS */
^IMAGE = ("H2577_0000_S14.TIF")
/* IDENTIFICATION DATA ELEMENTS */
DATA_SET_ID = "MEX-M-HRSC-4-REFDR-MAPPROJECT-EXT1-V4.0"
DATA_SET_NAME = "MARS EXPRESS HRSC MAP PROJECTED REFDR EXTENSION1 V4.0"
DETECTOR_ID = MEX_HRSC_S1
EVENT_TYPE = "MARS-REGIONAL-MAPPING-Te-Im-Pf"
INSTRUMENT_HOST_ID = MEX
INSTRUMENT_HOST_NAME = "MARS EXPRESS"
INSTRUMENT_ID = HRSC
INSTRUMENT_NAME = "HIGH RESOLUTION STEREO CAMERA"
MISSION_NAME = "MARS EXPRESS"
MISSION_PHASE_NAME = ME_Phase_2
PROCESSING_LEVEL_ID = 4
PRODUCT_CREATION_TIME = 2023-02-08T07:05:14.000Z
PRODUCT_ID = "H2577_0000_S14.TIF"
RELEASE_ID = 0001
REVISION_ID = 0000
/* QUALITY DATA ELEMENTS */
DATA_QUALITY_ID = 1
DATA_QUALITY_DESC = "Data calculated based on original SPICE kernels"
/* TIME DATA ELEMENTS */
SPACECRAFT_CLOCK_START_COUNT = "1/0085300778.09032"
SPACECRAFT_CLOCK_STOP_COUNT = "1/0085301319.28433"
START_TIME = 2006-01-14T06:39:43.937Z
STOP_TIME = 2006-01-14T06:45:38.033Z
/* ORBITAL DATA ELEMENTS */
ASCENDING_NODE_LONGITUDE = 174.22
MAXIMUM_RESOLUTION = 0.033
FOOTPRINT_POINT_LATITUDE = (-68.6806,-68.7564,-68.8683,-68.8698, -68.7851,-68.2482,-67.7133,-67.001, -66.2735,-65.5352,-65.1615,-64.7839, -64.4017,-64.0193,-63.6281,-63.2374, -62.8393,-62.4405,-62.0367,-61.6311, -61.2181,-60.801,-60.3777,-59.738, -59.3054,-58.8673,-58.2022,-57.5242, -57.0699,-56.6054,-56.1353,-55.6652, -55.1866,-54.7017,-54.2106,-53.7143, -53.2126,-52.4382,-51.9194,-51.399, -50.8653,-50.0421,-49.4902,-48.9318, -48.3772,-47.8029,-47.2218,-46.6312, -46.3299,-46.2608,-46.259,-46.2457, -46.2104,-46.1663,-46.1646,-46.1649, -47.0514,-47.6325,-48.2047,-48.771, -49.3286,-49.8785,-50.4197,-50.9512, -51.4682,-51.9896,-52.5048,-53.0138, -53.7751,-54.2681,-54.7538,-55.2353, -55.7113,-56.1808,-56.6443,-57.1028, -57.5558,-58.0027,-58.6662,-59.1041, -59.5348,-60.1744,-60.5959,-61.011, -61.4235,-61.8291,-62.236,-62.6308, -63.0275,-63.4165,-63.8055,-64.1872, -64.5669,-65.3158,-65.87,-66.7755, -67.484,-68.3716,-68.5489,-68.6806)
FOOTPRINT_POINT_LONGITUDE = (347.904,349.146,351.446,351.481, 351.594,351.777,351.948,352.163,352.369 ,352.563,352.656,352.748,352.837, 352.923,353.009,353.092,353.174,353.253 ,353.329,353.403,353.477,353.55,353.621 ,353.724,353.791,353.857,353.952, 354.045,354.103,354.162,354.221,354.275 ,354.329,354.382,354.434,354.485, 354.534,354.611,354.657,354.7,354.745, 354.816,354.858,354.899,354.934,354.973 ,355.01,355.048,355.067,355.071,354.487 ,353.769,352.607,351.582,351.548, 351.536,351.505,351.482,351.457,351.431 ,351.403,351.372,351.34,351.304,351.264 ,351.225,351.185,351.143,351.08,351.033 ,350.984,350.933,350.881,350.825, 350.769,350.709,350.647,350.584,350.485 ,350.416,350.346,350.236,350.158,350.08 ,349.998,349.915,349.829,349.739, 349.647,349.553,349.455,349.355,349.252 ,349.037,348.867,348.567,348.312, 347.964,347.89,347.904)
ORBIT_NUMBER = 2577
ORBITAL_ECCENTRICITY = 0.571
ORBITAL_INCLINATION = 86.63
ORBITAL_SEMIMAJOR_AXIS = 8529.36
PERIAPSIS_ALTITUDE = 280.63
PERIAPSIS_ARGUMENT_ANGLE = 265.47
PERIAPSIS_TIME = 2006-01-14T06:33:50.000Z
SPACECRAFT_ORIENTATION = (0.0,-1.0,0.0)
^MEX_ORIENTATION_DESC = "MEX_ORIENTATION_DESC.TXT"
SPACECRAFT_POINTING_MODE = NADIR
^MEX_POINTING_DESC = "MEX_POINTING_DESC.TXT"
RIGHT_ASCENSION = -1e+32
DECLINATION = -1e+32
OFFSET_ANGLE = -1e+32
SPACECRAFT_SOLAR_DISTANCE = 2.31615e+08
TARGET_NAME = MARS
/* CAMERA DATA ELEMENTS */
DETECTOR_TEMPERATURE = 17.5549
FOCAL_PLANE_TEMPERATURE = 8.9911
INST_CMPRS_NAME = "DISCRETE COSINE TRANSFORMATION (DCT)"
INST_CMPRS_RATIO = 14.3215
INST_CMPRS_QUALITY = 0
INST_CMPRS_QUANTZ_TBL_ID = 0
INSTRUMENT_TEMPERATURE = 11.4379
LENS_TEMPERATURE = 8.9911
MACROPIXEL_SIZE = 2
MISSING_FRAMES = 0
PIXEL_SUBSAMPLING_FLAG = N
SIGNAL_CHAIN_ID = 1
/* RADIOMETRIC DATA ELEMENTS */
BANDWIDTH = 180.0
CENTER_FILTER_WAVELENGTH = 677.0
RADIANCE_OFFSET = 1.58172
RADIANCE_SCALING_FACTOR = 0.0169666
REFLECTANCE_SCALING_FACTOR = 0.000474869
MEX:REFLECTANCE_OFFSET = 0.04427
/* IMAGE OBJECT DEFINITIONS */
OBJECT = IMAGE
  INTERCHANGE_FORMAT = BINARY
  LINES = 53612
  LINE_SAMPLES = 9001
  SAMPLE_TYPE = UNSIGNED_INTEGER
  SAMPLE_BITS = 8
  BANDS = 1
  BAND_STORAGE_TYPE = BAND_SEQUENTIAL
  MAXIMUM = 255
  MEAN = 93.4928
  MINIMUM = 1
  STANDARD_DEVIATION = 33.8145
END_OBJECT = IMAGE
/* MAP OBJECT DEFINITIONS */
OBJECT = IMAGE_MAP_PROJECTION
  ^DATA_SET_MAP_PROJECTION_CATALOG= "DSMAP.CAT"
  A_AXIS_RADIUS = 3396.0
  B_AXIS_RADIUS = 3396.0
  C_AXIS_RADIUS = 3396.0
  CENTER_LATITUDE = 0.0
  CENTER_LONGITUDE = 352.0
  COORDINATE_SYSTEM_NAME = PLANETOGRAPHIC
  COORDINATE_SYSTEM_TYPE = "BODY-FIXED ROTATING"
  EASTERNMOST_LONGITUDE = 355.071
  FIRST_STANDARD_PARALLEL = "N/A"
  LINE_FIRST_PIXEL = 1
  LINE_LAST_PIXEL = 53612
  LINE_PROJECTION_OFFSET = -109447.75
  MAP_PROJECTION_ROTATION = 0.0
  MAP_PROJECTION_TYPE = SINUSOIDAL
  MAP_RESOLUTION = 2370.85521546667
  MAP_SCALE = 0.025
  MAXIMUM_LATITUDE = -46.1646
  MINIMUM_LATITUDE = -68.8698
  POSITIVE_LONGITUDE_DIRECTION = EAST
  REFERENCE_LATITUDE = "N/A"
  REFERENCE_LONGITUDE = "N/A"
  SAMPLE_FIRST_PIXEL = 1
  SAMPLE_LAST_PIXEL = 9001
  SAMPLE_PROJECTION_OFFSET = 3673.25
  SECOND_STANDARD_PARALLEL = "N/A"
  WESTERNMOST_LONGITUDE = 347.89
END_OBJECT = IMAGE_MAP_PROJECTION
END
