PDS_VERSION_ID = PDS3
/* FILE DATA ELEMENTS */
RECORD_TYPE = UNDEFINED
/* POINTERS TO DATA OBJECTS */
^IMAGE = ("H2578_0000_ND4.TIF")
/* IDENTIFICATION DATA ELEMENTS */
DATA_SET_ID = "MEX-M-HRSC-4-REFDR-MAPPROJECT-EXT1-V4.0"
DATA_SET_NAME = "MARS EXPRESS HRSC MAP PROJECTED REFDR EXTENSION1 V4.0"
DETECTOR_ID = MEX_HRSC_NADIR
EVENT_TYPE = "MARS-REGIONAL-MAPPING-Gl-Eo"
INSTRUMENT_HOST_ID = MEX
INSTRUMENT_HOST_NAME = "MARS EXPRESS"
INSTRUMENT_ID = HRSC
INSTRUMENT_NAME = "HIGH RESOLUTION STEREO CAMERA"
MISSION_NAME = "MARS EXPRESS"
MISSION_PHASE_NAME = ME_Phase_2
PROCESSING_LEVEL_ID = 4
PRODUCT_CREATION_TIME = 2023-02-08T07:05:14.000Z
PRODUCT_ID = "H2578_0000_ND4.TIF"
RELEASE_ID = 0001
REVISION_ID = 0000
/* QUALITY DATA ELEMENTS */
DATA_QUALITY_ID = 1
DATA_QUALITY_DESC = "Data calculated based on original SPICE kernels"
/* TIME DATA ELEMENTS */
SPACECRAFT_CLOCK_START_COUNT = "1/0085324834.09074"
SPACECRAFT_CLOCK_STOP_COUNT = "1/0085325019.08891"
START_TIME = 2006-01-14T13:21:08.651Z
STOP_TIME = 2006-01-14T13:23:03.656Z
/* ORBITAL DATA ELEMENTS */
ASCENDING_NODE_LONGITUDE = 174.2
MAXIMUM_RESOLUTION = 0.0133
FOOTPRINT_POINT_LATITUDE = (-77.6564,-77.7621,-77.8386,-77.8854, -77.947,-77.9494,-77.9582,-77.5611, -77.2962,-77.16,-77.0232,-76.8864, -76.7495,-76.6127,-76.4758,-76.3388, -76.202,-76.0652,-75.9286,-75.7919, -75.6551,-75.5184,-75.3818,-75.245, -75.1083,-74.9718,-74.8354,-74.5624, -74.2896,-74.0169,-73.7445,-73.4721, -73.2397,-73.0775,-72.9153,-72.7533, -72.5913,-72.4294,-72.2675,-72.1058, -71.9442,-71.7826,-71.6212,-71.4598, -71.2985,-71.1374,-70.9763,-70.8154, -70.735,-70.7168,-70.6779,-70.6509, -70.6157,-70.5871,-70.545,-70.5052, -70.5026,-70.5016,-70.6611,-70.8208, -70.9805,-71.1403,-71.3001,-71.4601, -71.6201,-71.7802,-71.9404,-72.1006, -72.2608,-72.4212,-72.5816,-72.742, -72.9025,-73.063,-73.2154,-73.4846, -73.7538,-74.0232,-74.2926,-74.562, -74.8315,-75.101,-75.2357,-75.3704, -75.5051,-75.6398,-75.7745,-75.9091, -76.0438,-76.1784,-76.3129,-76.4474, -76.5819,-76.7163,-76.8507,-76.9849, -77.2447,-77.5691,-77.6339,-77.6564)
FOOTPRINT_POINT_LONGITUDE = (242.376,243.988,245.277,246.127, 247.341,247.392,247.552,247.995,248.274 ,248.413,248.55,248.683,248.813,248.941 ,249.066,249.184,249.303,249.421, 249.539,249.652,249.762,249.87,249.977, 250.079,250.18,250.281,250.382,250.572, 250.755,250.932,251.102,251.264,251.399 ,251.492,251.583,251.672,251.76,251.845 ,251.929,252.011,252.092,252.171, 252.248,252.323,252.398,252.471,252.542 ,252.613,252.648,252.656,251.76,251.192 ,250.505,249.981,249.258,248.618, 248.578,248.558,248.473,248.387,248.299 ,248.21,248.118,248.025,247.93,247.833, 247.734,247.633,247.528,247.422,247.314 ,247.204,247.091,246.976,246.865, 246.663,246.451,246.233,246.006,245.77, 245.525,245.27,245.138,245.004,244.868, 244.728,244.586,244.44,244.291,244.14, 243.985,243.826,243.664,243.499,243.33, 243.158,242.812,242.359,242.265, 242.376)
ORBIT_NUMBER = 2578
ORBITAL_ECCENTRICITY = 0.571
ORBITAL_INCLINATION = 86.62
ORBITAL_SEMIMAJOR_AXIS = 8530.28
PERIAPSIS_ALTITUDE = 280.01
PERIAPSIS_ARGUMENT_ANGLE = 265.3
PERIAPSIS_TIME = 2006-01-14T13:17:02.000Z
SPACECRAFT_ORIENTATION = (0.0,-1.0,0.0)
^MEX_ORIENTATION_DESC = "MEX_ORIENTATION_DESC.TXT"
SPACECRAFT_POINTING_MODE = NADIR
^MEX_POINTING_DESC = "MEX_POINTING_DESC.TXT"
RIGHT_ASCENSION = -1e+32
DECLINATION = -1e+32
OFFSET_ANGLE = -1e+32
SPACECRAFT_SOLAR_DISTANCE = 2.31668e+08
TARGET_NAME = MARS
/* CAMERA DATA ELEMENTS */
DETECTOR_TEMPERATURE = 18.3705
FOCAL_PLANE_TEMPERATURE = 8.5833
INST_CMPRS_NAME = "DISCRETE COSINE TRANSFORMATION (DCT)"
INST_CMPRS_RATIO = 8.26901
INST_CMPRS_QUALITY = 0
INST_CMPRS_QUANTZ_TBL_ID = 0
INSTRUMENT_TEMPERATURE = 11.4379
LENS_TEMPERATURE = 8.9911
MACROPIXEL_SIZE = 1
MISSING_FRAMES = 0
PIXEL_SUBSAMPLING_FLAG = N
SIGNAL_CHAIN_ID = 0
/* RADIOMETRIC DATA ELEMENTS */
BANDWIDTH = 177.0
CENTER_FILTER_WAVELENGTH = 677.5
RADIANCE_OFFSET = 0.796704
RADIANCE_SCALING_FACTOR = 0.00481667
REFLECTANCE_SCALING_FACTOR = 0.00013733
MEX:REFLECTANCE_OFFSET = 0.0227151
/* IMAGE OBJECT DEFINITIONS */
OBJECT = IMAGE
  INTERCHANGE_FORMAT = BINARY
  LINES = 35359
  LINE_SAMPLES = 13130
  SAMPLE_TYPE = UNSIGNED_INTEGER
  SAMPLE_BITS = 8
  BANDS = 1
  BAND_STORAGE_TYPE = BAND_SEQUENTIAL
  MAXIMUM = 254
  MEAN = 123.278
  MINIMUM = 1
  STANDARD_DEVIATION = 36.5927
END_OBJECT = IMAGE
/* MAP OBJECT DEFINITIONS */
OBJECT = IMAGE_MAP_PROJECTION
  ^DATA_SET_MAP_PROJECTION_CATALOG= "DSMAP.CAT"
  A_AXIS_RADIUS = 3396.0
  B_AXIS_RADIUS = 3396.0
  C_AXIS_RADIUS = 3396.0
  CENTER_LATITUDE = 0.0
  CENTER_LONGITUDE = 248.0
  COORDINATE_SYSTEM_NAME = PLANETOGRAPHIC
  COORDINATE_SYSTEM_TYPE = "BODY-FIXED ROTATING"
  EASTERNMOST_LONGITUDE = 252.656
  FIRST_STANDARD_PARALLEL = "N/A"
  LINE_FIRST_PIXEL = 1
  LINE_LAST_PIXEL = 35359
  LINE_PROJECTION_OFFSET = -334299.0
  MAP_PROJECTION_ROTATION = 0.0
  MAP_PROJECTION_TYPE = SINUSOIDAL
  MAP_RESOLUTION = 4741.71043093333
  MAP_SCALE = 0.0125
  MAXIMUM_LATITUDE = -70.5016
  MINIMUM_LATITUDE = -77.95820000000001
  POSITIVE_LONGITUDE_DIRECTION = EAST
  REFERENCE_LATITUDE = "N/A"
  REFERENCE_LONGITUDE = "N/A"
  SAMPLE_FIRST_PIXEL = 1
  SAMPLE_LAST_PIXEL = 13130
  SAMPLE_PROJECTION_OFFSET = 5839.0
  SECOND_STANDARD_PARALLEL = "N/A"
  WESTERNMOST_LONGITUDE = 242.265
END_OBJECT = IMAGE_MAP_PROJECTION
END
