PDS_VERSION_ID = PDS3
/* FILE DATA ELEMENTS */
RECORD_TYPE = UNDEFINED
/* POINTERS TO DATA OBJECTS */
^IMAGE = ("H2578_0000_S14.TIF")
/* IDENTIFICATION DATA ELEMENTS */
DATA_SET_ID = "MEX-M-HRSC-4-REFDR-MAPPROJECT-EXT1-V4.0"
DATA_SET_NAME = "MARS EXPRESS HRSC MAP PROJECTED REFDR EXTENSION1 V4.0"
DETECTOR_ID = MEX_HRSC_S1
EVENT_TYPE = "MARS-REGIONAL-MAPPING-Gl-Eo"
INSTRUMENT_HOST_ID = MEX
INSTRUMENT_HOST_NAME = "MARS EXPRESS"
INSTRUMENT_ID = HRSC
INSTRUMENT_NAME = "HIGH RESOLUTION STEREO CAMERA"
MISSION_NAME = "MARS EXPRESS"
MISSION_PHASE_NAME = ME_Phase_2
PROCESSING_LEVEL_ID = 4
PRODUCT_CREATION_TIME = 2023-02-08T07:05:14.000Z
PRODUCT_ID = "H2578_0000_S14.TIF"
RELEASE_ID = 0001
REVISION_ID = 0000
/* QUALITY DATA ELEMENTS */
DATA_QUALITY_ID = 1
DATA_QUALITY_DESC = "Data calculated based on original SPICE kernels"
/* TIME DATA ELEMENTS */
SPACECRAFT_CLOCK_START_COUNT = "1/0085324834.09074"
SPACECRAFT_CLOCK_STOP_COUNT = "1/0085325019.08891"
START_TIME = 2006-01-14T13:20:39.922Z
STOP_TIME = 2006-01-14T13:22:29.171Z
/* ORBITAL DATA ELEMENTS */
ASCENDING_NODE_LONGITUDE = 174.2
MAXIMUM_RESOLUTION = 0.0271
FOOTPRINT_POINT_LATITUDE = (-77.7606,-77.8392,-77.8868,-77.9622, -78.048,-78.0504,-77.9632,-77.7613, -77.4918,-77.2223,-76.9518,-76.743, -76.6033,-76.3272,-76.1873,-76.0468, -75.9046,-75.6251,-75.4848,-75.2718, -75.1297,-74.9837,-74.8366,-74.6917, -74.5473,-74.4013,-74.1849,-74.0399, -73.8952,-73.678,-73.5336,-73.3913, -73.1736,-73.0282,-72.8107,-72.6653, -72.5203,-72.3758,-72.2305,-72.0851, -71.9405,-71.7955,-71.6505,-71.5064, -71.3615,-71.1155,-70.8568,-70.7704, -70.7229,-70.6978,-70.6636,-70.6236, -70.5874,-70.56,-70.5148,-70.5123, -70.5119,-70.683,-70.8543,-71.1059, -71.2494,-71.3932,-71.6086,-71.7528, -71.8969,-72.0401,-72.1826,-72.3974, -72.5408,-72.6846,-72.8279,-73.0428, -73.1864,-73.3301,-73.4735,-73.6168, -73.8304,-74.0452,-74.2597,-74.4027, -74.5452,-74.7596,-74.9023,-75.1154, -75.2536,-75.3918,-75.5985,-75.7366, -75.8742,-76.0119,-76.1495,-76.287, -76.4244,-76.5617,-76.7638,-77.095, -77.3595,-77.5578,-77.6237,-77.7606)
FOOTPRINT_POINT_LONGITUDE = (242.327,243.489,244.24,245.521,247.157 ,247.205,247.467,247.696,247.989, 248.269,248.539,248.739,248.869,249.113 ,249.235,249.356,249.478,249.704, 249.815,249.978,250.081,250.189,250.298 ,250.399,250.498,250.599,250.74,250.833 ,250.924,251.058,251.144,251.226, 251.352,251.435,251.555,251.634,251.711 ,251.786,251.861,251.935,252.006, 252.076,252.146,252.213,252.28,252.392, 252.505,252.543,252.563,251.994,251.274 ,250.519,249.88,249.43,248.72,248.683, 248.669,248.578,248.485,248.345,248.263 ,248.179,248.051,247.964,247.876, 247.785,247.693,247.552,247.455,247.357 ,247.257,247.104,246.999,246.892, 246.783,246.672,246.502,246.326,246.145 ,246.022,245.896,245.702,245.569, 245.366,245.231,245.093,244.881,244.736 ,244.588,244.437,244.282,244.124, 243.963,243.799,243.55,243.123,242.764, 242.485,242.389,242.327)
ORBIT_NUMBER = 2578
ORBITAL_ECCENTRICITY = 0.571
ORBITAL_INCLINATION = 86.62
ORBITAL_SEMIMAJOR_AXIS = 8530.28
PERIAPSIS_ALTITUDE = 280.01
PERIAPSIS_ARGUMENT_ANGLE = 265.3
PERIAPSIS_TIME = 2006-01-14T13:17:02.000Z
SPACECRAFT_ORIENTATION = (0.0,-1.0,0.0)
^MEX_ORIENTATION_DESC = "MEX_ORIENTATION_DESC.TXT"
SPACECRAFT_POINTING_MODE = NADIR
^MEX_POINTING_DESC = "MEX_POINTING_DESC.TXT"
RIGHT_ASCENSION = -1e+32
DECLINATION = -1e+32
OFFSET_ANGLE = -1e+32
SPACECRAFT_SOLAR_DISTANCE = 2.31668e+08
TARGET_NAME = MARS
/* CAMERA DATA ELEMENTS */
DETECTOR_TEMPERATURE = 17.7588
FOCAL_PLANE_TEMPERATURE = 8.5833
INST_CMPRS_NAME = "DISCRETE COSINE TRANSFORMATION (DCT)"
INST_CMPRS_RATIO = 10.8101
INST_CMPRS_QUALITY = 0
INST_CMPRS_QUANTZ_TBL_ID = 0
INSTRUMENT_TEMPERATURE = 11.4379
LENS_TEMPERATURE = 8.9911
MACROPIXEL_SIZE = 2
MISSING_FRAMES = 0
PIXEL_SUBSAMPLING_FLAG = N
SIGNAL_CHAIN_ID = 1
/* RADIOMETRIC DATA ELEMENTS */
BANDWIDTH = 180.0
CENTER_FILTER_WAVELENGTH = 677.0
RADIANCE_OFFSET = 1.29293
RADIANCE_SCALING_FACTOR = 0.00507031
REFLECTANCE_SCALING_FACTOR = 0.000141974
MEX:REFLECTANCE_OFFSET = 0.0362035
/* IMAGE OBJECT DEFINITIONS */
OBJECT = IMAGE
  INTERCHANGE_FORMAT = BINARY
  LINES = 17680
  LINE_SAMPLES = 6565
  SAMPLE_TYPE = UNSIGNED_INTEGER
  SAMPLE_BITS = 8
  BANDS = 1
  BAND_STORAGE_TYPE = BAND_SEQUENTIAL
  MAXIMUM = 255
  MEAN = 124.252
  MINIMUM = 1
  STANDARD_DEVIATION = 40.0298
END_OBJECT = IMAGE
/* MAP OBJECT DEFINITIONS */
OBJECT = IMAGE_MAP_PROJECTION
  ^DATA_SET_MAP_PROJECTION_CATALOG= "DSMAP.CAT"
  A_AXIS_RADIUS = 3396.0
  B_AXIS_RADIUS = 3396.0
  C_AXIS_RADIUS = 3396.0
  CENTER_LATITUDE = 0.0
  CENTER_LONGITUDE = 248.0
  COORDINATE_SYSTEM_NAME = PLANETOGRAPHIC
  COORDINATE_SYSTEM_TYPE = "BODY-FIXED ROTATING"
  EASTERNMOST_LONGITUDE = 252.563
  FIRST_STANDARD_PARALLEL = "N/A"
  LINE_FIRST_PIXEL = 1
  LINE_LAST_PIXEL = 17680
  LINE_PROJECTION_OFFSET = -167149.75
  MAP_PROJECTION_ROTATION = 0.0
  MAP_PROJECTION_TYPE = SINUSOIDAL
  MAP_RESOLUTION = 2370.85521546667
  MAP_SCALE = 0.025
  MAXIMUM_LATITUDE = -70.5119
  MINIMUM_LATITUDE = -78.0504
  POSITIVE_LONGITUDE_DIRECTION = EAST
  REFERENCE_LATITUDE = "N/A"
  REFERENCE_LONGITUDE = "N/A"
  SAMPLE_FIRST_PIXEL = 1
  SAMPLE_LAST_PIXEL = 6565
  SAMPLE_PROJECTION_OFFSET = 2919.25
  SECOND_STANDARD_PARALLEL = "N/A"
  WESTERNMOST_LONGITUDE = 242.327
END_OBJECT = IMAGE_MAP_PROJECTION
END
