PDS_VERSION_ID = PDS3
/* FILE DATA ELEMENTS */
RECORD_TYPE = UNDEFINED
/* POINTERS TO DATA OBJECTS */
^IMAGE = ("H2582_0000_GR4.TIF")
/* IDENTIFICATION DATA ELEMENTS */
DATA_SET_ID = "MEX-M-HRSC-4-REFDR-MAPPROJECT-EXT1-V4.0"
DATA_SET_NAME = "MARS EXPRESS HRSC MAP PROJECTED REFDR EXTENSION1 V4.0"
DETECTOR_ID = MEX_HRSC_GREEN
EVENT_TYPE = "MARS-REGIONAL-MAPPING-Im-Fl"
INSTRUMENT_HOST_ID = MEX
INSTRUMENT_HOST_NAME = "MARS EXPRESS"
INSTRUMENT_ID = HRSC
INSTRUMENT_NAME = "HIGH RESOLUTION STEREO CAMERA"
MISSION_NAME = "MARS EXPRESS"
MISSION_PHASE_NAME = ME_Phase_2
PROCESSING_LEVEL_ID = 4
PRODUCT_CREATION_TIME = 2023-02-08T07:05:14.000Z
PRODUCT_ID = "H2582_0000_GR4.TIF"
RELEASE_ID = 0001
REVISION_ID = 0000
/* QUALITY DATA ELEMENTS */
DATA_QUALITY_ID = 1
DATA_QUALITY_DESC = "Data calculated based on original SPICE kernels"
/* TIME DATA ELEMENTS */
SPACECRAFT_CLOCK_START_COUNT = "1/0085421693.07310"
SPACECRAFT_CLOCK_STOP_COUNT = "1/0085422125.27308"
START_TIME = 2006-01-15T16:15:26.483Z
STOP_TIME = 2006-01-15T16:20:37.936Z
/* ORBITAL DATA ELEMENTS */
ASCENDING_NODE_LONGITUDE = 174.11
MAXIMUM_RESOLUTION = 0.0608
FOOTPRINT_POINT_LATITUDE = (-72.1081,-72.2324,-72.3394,-72.3412, -72.3291,-71.3744,-70.7397,-70.2641, -69.6317,-69.3108,-68.9872,-68.664, -68.1706,-67.84,-67.5053,-67.1669, -66.8295,-66.4842,-66.1397,-65.6142, -65.263,-64.9049,-64.5466,-64.1832, -63.8183,-63.4482,-63.0764,-62.6998, -62.3209,-61.9369,-61.3554,-60.964, -60.5663,-60.1673,-59.7629,-59.3541, -58.9424,-58.5255,-58.104,-57.679, -57.2506,-56.815,-56.3762,-55.9326, -55.4844,-55.0313,-54.5718,-53.873, -53.6377,-53.6054,-53.582,-53.561, -53.5246,-53.498,-53.4701,-53.4682, -53.4691,-54.1679,-54.6277,-55.0825, -55.5324,-55.9765,-56.416,-56.8514, -57.2826,-57.7099,-58.1302,-58.547, -58.9596,-59.3689,-59.7727,-60.175, -60.5704,-61.1571,-61.7358,-62.1183, -62.4945,-62.8702,-63.2401,-63.6091, -63.9707,-64.3338,-64.6902,-65.0469, -65.3965,-65.9197,-66.2628,-66.7743, -67.1098,-67.6108,-67.939,-68.4305, -68.7513,-69.3916,-70.019,-70.6473, -71.2766,-71.9067,-72.0644,-72.1081)
FOOTPRINT_POINT_LONGITUDE = (214.167,216.141,218.207,218.245, 218.335,218.823,219.118,219.33,219.592, 219.717,219.84,219.96,220.128,220.242, 220.352,220.463,220.565,220.669,220.769 ,220.916,221.009,221.102,221.192, 221.281,221.366,221.451,221.534,221.613 ,221.694,221.772,221.886,221.959, 222.032,222.102,222.171,222.239,222.305 ,222.369,222.433,222.494,222.553, 222.614,222.67,222.727,222.783,222.837, 222.892,222.972,222.998,223.001,222.07, 221.414,220.48,219.892,219.338,219.303, 219.292,219.226,219.181,219.133,219.084 ,219.029,218.977,218.923,218.867, 218.808,218.745,218.681,218.612,218.546 ,218.476,218.408,218.332,218.214, 218.091,218.008,217.922,217.833,217.743 ,217.65,217.549,217.454,217.354,217.248 ,217.143,216.977,216.866,216.686, 216.564,216.372,216.241,216.035,215.894 ,215.597,215.285,214.948,214.583, 214.188,214.084,214.167)
ORBIT_NUMBER = 2582
ORBITAL_ECCENTRICITY = 0.571
ORBITAL_INCLINATION = 86.63
ORBITAL_SEMIMAJOR_AXIS = 8530.16
PERIAPSIS_ALTITUDE = 279.79
PERIAPSIS_ARGUMENT_ANGLE = 264.61
PERIAPSIS_TIME = 2006-01-15T16:09:46.000Z
SPACECRAFT_ORIENTATION = (0.0,-1.0,0.0)
^MEX_ORIENTATION_DESC = "MEX_ORIENTATION_DESC.TXT"
SPACECRAFT_POINTING_MODE = ACROSSTRACK
^MEX_POINTING_DESC = "MEX_POINTING_DESC.TXT"
RIGHT_ASCENSION = -1e+32
DECLINATION = -1e+32
OFFSET_ANGLE = 0.13
SPACECRAFT_SOLAR_DISTANCE = 2.31879e+08
TARGET_NAME = MARS
/* CAMERA DATA ELEMENTS */
DETECTOR_TEMPERATURE = 18.1666
FOCAL_PLANE_TEMPERATURE = 8.3794
INST_CMPRS_NAME = "DISCRETE COSINE TRANSFORMATION (DCT)"
INST_CMPRS_RATIO = 19.1532
INST_CMPRS_QUALITY = 0
INST_CMPRS_QUANTZ_TBL_ID = 0
INSTRUMENT_TEMPERATURE = 11.234
LENS_TEMPERATURE = 8.7872
MACROPIXEL_SIZE = 4
MISSING_FRAMES = 0
PIXEL_SUBSAMPLING_FLAG = N
SIGNAL_CHAIN_ID = 2
/* RADIOMETRIC DATA ELEMENTS */
BANDWIDTH = 88.0
CENTER_FILTER_WAVELENGTH = 538.0
RADIANCE_OFFSET = 0.566803
RADIANCE_SCALING_FACTOR = 0.00333413
REFLECTANCE_SCALING_FACTOR = 0.000154347
MEX:REFLECTANCE_OFFSET = 0.026239
/* IMAGE OBJECT DEFINITIONS */
OBJECT = IMAGE
  INTERCHANGE_FORMAT = BINARY
  LINES = 22365
  LINE_SAMPLES = 4660
  SAMPLE_TYPE = UNSIGNED_INTEGER
  SAMPLE_BITS = 8
  BANDS = 1
  BAND_STORAGE_TYPE = BAND_SEQUENTIAL
  MAXIMUM = 255
  MEAN = 116.462
  MINIMUM = 1
  STANDARD_DEVIATION = 42.8102
END_OBJECT = IMAGE
/* MAP OBJECT DEFINITIONS */
OBJECT = IMAGE_MAP_PROJECTION
  ^DATA_SET_MAP_PROJECTION_CATALOG= "DSMAP.CAT"
  A_AXIS_RADIUS = 3396.0
  B_AXIS_RADIUS = 3396.0
  C_AXIS_RADIUS = 3396.0
  CENTER_LATITUDE = 0.0
  CENTER_LONGITUDE = 219.0
  COORDINATE_SYSTEM_NAME = PLANETOGRAPHIC
  COORDINATE_SYSTEM_TYPE = "BODY-FIXED ROTATING"
  EASTERNMOST_LONGITUDE = 223.001
  FIRST_STANDARD_PARALLEL = "N/A"
  LINE_FIRST_PIXEL = 1
  LINE_LAST_PIXEL = 22365
  LINE_PROJECTION_OFFSET = -63380.875
  MAP_PROJECTION_ROTATION = 0.0
  MAP_PROJECTION_TYPE = SINUSOIDAL
  MAP_RESOLUTION = 1185.42760773333
  MAP_SCALE = 0.05
  MAXIMUM_LATITUDE = -53.4682
  MINIMUM_LATITUDE = -72.3412
  POSITIVE_LONGITUDE_DIRECTION = EAST
  REFERENCE_LATITUDE = "N/A"
  REFERENCE_LONGITUDE = "N/A"
  SAMPLE_FIRST_PIXEL = 1
  SAMPLE_LAST_PIXEL = 4660
  SAMPLE_PROJECTION_OFFSET = 1806.375
  SECOND_STANDARD_PARALLEL = "N/A"
  WESTERNMOST_LONGITUDE = 214.084
END_OBJECT = IMAGE_MAP_PROJECTION
END
