PDS_VERSION_ID = PDS3
/* FILE DATA ELEMENTS */
RECORD_TYPE = UNDEFINED
/* POINTERS TO DATA OBJECTS */
^IMAGE = ("H2583_0000_ND4.TIF")
/* IDENTIFICATION DATA ELEMENTS */
DATA_SET_ID = "MEX-M-HRSC-4-REFDR-MAPPROJECT-EXT1-V4.0"
DATA_SET_NAME = "MARS EXPRESS HRSC MAP PROJECTED REFDR EXTENSION1 V4.0"
DETECTOR_ID = MEX_HRSC_NADIR
EVENT_TYPE = "MARS-REGIONAL-MAPPING-Te-Fl-Gl"
INSTRUMENT_HOST_ID = MEX
INSTRUMENT_HOST_NAME = "MARS EXPRESS"
INSTRUMENT_ID = HRSC
INSTRUMENT_NAME = "HIGH RESOLUTION STEREO CAMERA"
MISSION_NAME = "MARS EXPRESS"
MISSION_PHASE_NAME = ME_Phase_2
PROCESSING_LEVEL_ID = 4
PRODUCT_CREATION_TIME = 2023-02-08T07:05:14.000Z
PRODUCT_ID = "H2583_0000_ND4.TIF"
RELEASE_ID = 0001
REVISION_ID = 0000
/* QUALITY DATA ELEMENTS */
DATA_QUALITY_ID = 1
DATA_QUALITY_DESC = "Data calculated based on original SPICE kernels"
/* TIME DATA ELEMENTS */
SPACECRAFT_CLOCK_START_COUNT = "1/0085445838.09039"
SPACECRAFT_CLOCK_STOP_COUNT = "1/0085446301.54336"
START_TIME = 2006-01-15T22:57:54.538Z
STOP_TIME = 2006-01-15T23:03:48.519Z
/* ORBITAL DATA ELEMENTS */
ASCENDING_NODE_LONGITUDE = 174.09
MAXIMUM_RESOLUTION = 0.0142
FOOTPRINT_POINT_LATITUDE = (-75.4908,-75.6304,-75.7583,-75.7605, -75.7672,-74.974,-74.3401,-73.5995, -73.2225,-72.846,-72.4699,-72.0945, -71.7194,-71.3452,-70.9713,-70.2253, -69.6554,-69.2743,-68.6908,-68.301, -67.9026,-67.5051,-67.0995,-66.6938, -66.2803,-65.6558,-65.2339,-64.8067, -64.1588,-63.7215,-63.2778,-62.8309, -62.3783,-61.9201,-61.4578,-60.9905, -60.516,-60.0366,-59.5519,-59.0617, -58.5655,-58.0621,-57.5528,-57.0371, -56.5149,-55.9865,-55.451,-54.9083, -54.6339,-54.6042,-54.5697,-54.528, -54.4712,-54.4693,-54.4687,-55.2823, -55.8157,-56.3422,-56.8623,-57.3759, -57.8833,-58.3844,-58.8785,-59.3668, -59.8495,-60.327,-60.7996,-61.2645, -61.725,-62.1814,-62.6314,-63.0763, -63.5181,-63.953,-64.5979,-65.0231, -65.4424,-66.0636,-66.475,-66.8779, -67.2816,-67.6765,-68.2662,-68.653, -69.0391,-69.4172,-69.983,-70.7227, -71.0933,-71.4644,-71.8353,-72.2069, -72.579,-72.9517,-73.3247,-74.0593, -74.6847,-75.3096,-75.4658,-75.4908)
FOOTPRINT_POINT_LONGITUDE = (113.203,115.39,117.794,117.841,117.967 ,118.593,119.041,119.528,119.755, 119.972,120.179,120.379,120.568,120.754 ,120.927,121.253,121.485,121.632, 121.845,121.979,122.113,122.244,122.372 ,122.494,122.613,122.785,122.896, 123.004,123.159,123.26,123.36,123.453, 123.547,123.638,123.727,123.814,123.899 ,123.98,124.061,124.14,124.217,124.292, 124.367,124.439,124.509,124.582,124.652 ,124.712,124.741,124.745,123.392, 122.229,120.992,120.955,120.936,120.853 ,120.794,120.734,120.671,120.604, 120.534,120.462,120.387,120.308,120.226 ,120.141,120.053,119.962,119.868, 119.772,119.663,119.559,119.45,119.338, 119.166,119.043,118.916,118.716,118.578 ,118.433,118.29,118.138,117.9,117.735, 117.563,117.387,117.109,116.717,116.509 ,116.293,116.052,115.81,115.555,115.296 ,115.023,114.422,113.867,113.25,113.088 ,113.203)
ORBIT_NUMBER = 2583
ORBITAL_ECCENTRICITY = 0.571
ORBITAL_INCLINATION = 86.62
ORBITAL_SEMIMAJOR_AXIS = 8529.94
PERIAPSIS_ALTITUDE = 280.52
PERIAPSIS_ARGUMENT_ANGLE = 264.43
PERIAPSIS_TIME = 2006-01-15T22:53:00.000Z
SPACECRAFT_ORIENTATION = (0.0,-1.0,0.0)
^MEX_ORIENTATION_DESC = "MEX_ORIENTATION_DESC.TXT"
SPACECRAFT_POINTING_MODE = ACROSSTRACK
^MEX_POINTING_DESC = "MEX_POINTING_DESC.TXT"
RIGHT_ASCENSION = -1e+32
DECLINATION = -1e+32
OFFSET_ANGLE = 0.08
SPACECRAFT_SOLAR_DISTANCE = 2.31932e+08
TARGET_NAME = MARS
/* CAMERA DATA ELEMENTS */
DETECTOR_TEMPERATURE = 18.3705
FOCAL_PLANE_TEMPERATURE = 8.5833
INST_CMPRS_NAME = "DISCRETE COSINE TRANSFORMATION (DCT)"
INST_CMPRS_RATIO = 7.4179
INST_CMPRS_QUALITY = 0
INST_CMPRS_QUANTZ_TBL_ID = 0
INSTRUMENT_TEMPERATURE = 11.4379
LENS_TEMPERATURE = 8.9911
MACROPIXEL_SIZE = 1
MISSING_FRAMES = 0
PIXEL_SUBSAMPLING_FLAG = N
SIGNAL_CHAIN_ID = 0
/* RADIOMETRIC DATA ELEMENTS */
BANDWIDTH = 177.0
CENTER_FILTER_WAVELENGTH = 677.5
RADIANCE_OFFSET = 0.850737
RADIANCE_SCALING_FACTOR = 0.0135038
REFLECTANCE_SCALING_FACTOR = 0.00038589
MEX:REFLECTANCE_OFFSET = 0.0243111
/* IMAGE OBJECT DEFINITIONS */
OBJECT = IMAGE
  INTERCHANGE_FORMAT = BINARY
  LINES = 100989
  LINE_SAMPLES = 19712
  SAMPLE_TYPE = UNSIGNED_INTEGER
  SAMPLE_BITS = 8
  BANDS = 1
  BAND_STORAGE_TYPE = BAND_SEQUENTIAL
  MAXIMUM = 255
  MEAN = 90.1872
  MINIMUM = 1
  STANDARD_DEVIATION = 34.141
END_OBJECT = IMAGE
/* MAP OBJECT DEFINITIONS */
OBJECT = IMAGE_MAP_PROJECTION
  ^DATA_SET_MAP_PROJECTION_CATALOG= "DSMAP.CAT"
  A_AXIS_RADIUS = 3396.0
  B_AXIS_RADIUS = 3396.0
  C_AXIS_RADIUS = 3396.0
  CENTER_LATITUDE = 0.0
  CENTER_LONGITUDE = 121.0
  COORDINATE_SYSTEM_NAME = PLANETOGRAPHIC
  COORDINATE_SYSTEM_TYPE = "BODY-FIXED ROTATING"
  EASTERNMOST_LONGITUDE = 124.745
  FIRST_STANDARD_PARALLEL = "N/A"
  LINE_FIRST_PIXEL = 1
  LINE_LAST_PIXEL = 100989
  LINE_PROJECTION_OFFSET = -258269.0
  MAP_PROJECTION_ROTATION = 0.0
  MAP_PROJECTION_TYPE = SINUSOIDAL
  MAP_RESOLUTION = 4741.71043093333
  MAP_SCALE = 0.0125
  MAXIMUM_LATITUDE = -54.4687
  MINIMUM_LATITUDE = -75.7672
  POSITIVE_LONGITUDE_DIRECTION = EAST
  REFERENCE_LATITUDE = "N/A"
  REFERENCE_LONGITUDE = "N/A"
  SAMPLE_FIRST_PIXEL = 1
  SAMPLE_LAST_PIXEL = 19712
  SAMPLE_PROJECTION_OFFSET = 9434.0
  SECOND_STANDARD_PARALLEL = "N/A"
  WESTERNMOST_LONGITUDE = 113.088
END_OBJECT = IMAGE_MAP_PROJECTION
END
