PDS_VERSION_ID = PDS3
/* FILE DATA ELEMENTS */
RECORD_TYPE = UNDEFINED
/* POINTERS TO DATA OBJECTS */
^IMAGE = ("H2584_0000_RE4.TIF")
/* IDENTIFICATION DATA ELEMENTS */
DATA_SET_ID = "MEX-M-HRSC-4-REFDR-MAPPROJECT-EXT1-V4.0"
DATA_SET_NAME = "MARS EXPRESS HRSC MAP PROJECTED REFDR EXTENSION1 V4.0"
DETECTOR_ID = MEX_HRSC_RED
EVENT_TYPE = "MARS-REGIONAL-MAPPING-Vo-Te"
INSTRUMENT_HOST_ID = MEX
INSTRUMENT_HOST_NAME = "MARS EXPRESS"
INSTRUMENT_ID = HRSC
INSTRUMENT_NAME = "HIGH RESOLUTION STEREO CAMERA"
MISSION_NAME = "MARS EXPRESS"
MISSION_PHASE_NAME = ME_Phase_2
PROCESSING_LEVEL_ID = 4
PRODUCT_CREATION_TIME = 2023-02-08T07:05:14.000Z
PRODUCT_ID = "H2584_0000_RE4.TIF"
RELEASE_ID = 0001
REVISION_ID = 0000
/* QUALITY DATA ELEMENTS */
DATA_QUALITY_ID = 1
DATA_QUALITY_DESC = "Data calculated based on original SPICE kernels"
/* TIME DATA ELEMENTS */
SPACECRAFT_CLOCK_START_COUNT = "1/0085470193.07292"
SPACECRAFT_CLOCK_STOP_COUNT = "1/0085470626.29265"
START_TIME = 2006-01-16T05:44:42.169Z
STOP_TIME = 2006-01-16T05:50:09.574Z
/* ORBITAL DATA ELEMENTS */
ASCENDING_NODE_LONGITUDE = 174.07
MAXIMUM_RESOLUTION = 0.0847
FOOTPRINT_POINT_LATITUDE = (-64.774,-64.847,-64.8869,-64.9283, -64.9539,-64.9552,-65.0302,-64.3544, -63.8022,-63.2459,-62.681,-62.1059, -61.6756,-61.3811,-61.0877,-60.7901, -60.3415,-59.889,-59.5848,-59.2765, -58.9681,-58.6565,-58.3417,-58.0229, -57.5452,-57.2232,-56.8979,-56.5706, -56.2414,-55.9096,-55.5734,-55.2422, -54.7258,-54.3792,-53.8553,-53.5064, -53.1539,-52.7973,-52.4382,-52.0737, -51.7135,-51.3477,-50.9766,-50.6028, -50.2252,-49.8435,-49.4631,-49.0724, -48.8791,-48.798,-48.7929,-48.7876, -48.7751,-48.7652,-48.7463,-48.7276, -48.7132,-48.7119,-48.713,-49.2913, -49.6729,-50.0508,-50.4259,-50.9853, -51.3532,-51.7175,-52.0843,-52.4429, -52.7966,-53.3246,-53.6725,-54.0188, -54.3623,-54.7033,-55.0418,-55.3769, -55.7079,-56.2016,-56.5272,-56.8514, -57.3364,-57.6557,-57.9728,-58.2857, -58.5976,-58.9075,-59.2136,-59.6687, -60.1198,-60.5679,-61.1559,-61.7364, -62.3085,-62.8727,-63.2902,-63.705, -64.2496,-64.6524,-64.7889,-64.774)
FOOTPRINT_POINT_LONGITUDE = (20.9452,22.3332,23.1987,24.2172, 24.9376,24.9756,25.0351,25.2017,25.3282 ,25.4532,25.5733,25.6881,25.7765,25.831 ,25.886,25.9399,26.0193,26.0977,26.149, 26.199,26.2488,26.2979,26.346,26.3918, 26.463,26.5088,26.5544,26.5995,26.644, 26.6876,26.7301,26.7768,26.8364,26.8766 ,26.9364,26.9777,27.0181,27.0575, 27.0967,27.1341,27.175,27.214,27.2516, 27.2888,27.3253,27.3608,27.3985,27.4322 ,27.4505,27.4578,26.74,26.2748,25.4731, 24.9671,24.1661,23.4494,22.9851,22.9429 ,22.9288,22.9092,22.8949,22.8798, 22.8632,22.8347,22.8153,22.7949,22.7697 ,22.7472,22.7251,22.6876,22.6618, 22.6341,22.6054,22.5755,22.5446,22.513, 22.4813,22.4306,22.3951,22.358,22.2975, 22.2567,22.215,22.1727,22.1284,22.0834, 22.0375,21.9669,21.8929,21.8143,21.7071 ,21.594,21.476,21.3525,21.2565,21.1567, 21.0199,20.9138,20.875,20.9452)
ORBIT_NUMBER = 2584
ORBITAL_ECCENTRICITY = 0.571
ORBITAL_INCLINATION = 86.61
ORBITAL_SEMIMAJOR_AXIS = 8530.36
PERIAPSIS_ALTITUDE = 280.74
PERIAPSIS_ARGUMENT_ANGLE = 264.25
PERIAPSIS_TIME = 2006-01-16T05:36:09.000Z
SPACECRAFT_ORIENTATION = (0.0,-1.0,0.0)
^MEX_ORIENTATION_DESC = "MEX_ORIENTATION_DESC.TXT"
SPACECRAFT_POINTING_MODE = NADIR
^MEX_POINTING_DESC = "MEX_POINTING_DESC.TXT"
RIGHT_ASCENSION = -1e+32
DECLINATION = -1e+32
OFFSET_ANGLE = -1e+32
SPACECRAFT_SOLAR_DISTANCE = 2.31985e+08
TARGET_NAME = MARS
/* CAMERA DATA ELEMENTS */
DETECTOR_TEMPERATURE = 18.7783
FOCAL_PLANE_TEMPERATURE = 8.7872
INST_CMPRS_NAME = "DISCRETE COSINE TRANSFORMATION (DCT)"
INST_CMPRS_RATIO = 19.0599
INST_CMPRS_QUALITY = 0
INST_CMPRS_QUANTZ_TBL_ID = 0
INSTRUMENT_TEMPERATURE = 11.4379
LENS_TEMPERATURE = 8.1755
MACROPIXEL_SIZE = 4
MISSING_FRAMES = 0
PIXEL_SUBSAMPLING_FLAG = N
SIGNAL_CHAIN_ID = 2
/* RADIOMETRIC DATA ELEMENTS */
BANDWIDTH = 48.0
CENTER_FILTER_WAVELENGTH = 748.0
RADIANCE_OFFSET = 0.36925
RADIANCE_SCALING_FACTOR = 0.00404104
REFLECTANCE_SCALING_FACTOR = 0.000496297
MEX:REFLECTANCE_OFFSET = 0.0453491
/* IMAGE OBJECT DEFINITIONS */
OBJECT = IMAGE
  INTERCHANGE_FORMAT = BINARY
  LINES = 9683
  LINE_SAMPLES = 1989
  SAMPLE_TYPE = UNSIGNED_INTEGER
  SAMPLE_BITS = 8
  BANDS = 1
  BAND_STORAGE_TYPE = BAND_SEQUENTIAL
  MAXIMUM = 255
  MEAN = 103.42
  MINIMUM = 1
  STANDARD_DEVIATION = 29.2026
END_OBJECT = IMAGE
/* MAP OBJECT DEFINITIONS */
OBJECT = IMAGE_MAP_PROJECTION
  ^DATA_SET_MAP_PROJECTION_CATALOG= "DSMAP.CAT"
  A_AXIS_RADIUS = 3396.0
  B_AXIS_RADIUS = 3396.0
  C_AXIS_RADIUS = 3396.0
  CENTER_LATITUDE = 0.0
  CENTER_LONGITUDE = 24.0
  COORDINATE_SYSTEM_NAME = PLANETOGRAPHIC
  COORDINATE_SYSTEM_TYPE = "BODY-FIXED ROTATING"
  EASTERNMOST_LONGITUDE = 27.4578
  FIRST_STANDARD_PARALLEL = "N/A"
  LINE_FIRST_PIXEL = 1
  LINE_LAST_PIXEL = 9683
  LINE_PROJECTION_OFFSET = -28863.875
  MAP_PROJECTION_ROTATION = 0.0
  MAP_PROJECTION_TYPE = SINUSOIDAL
  MAP_RESOLUTION = 592.713803866667
  MAP_SCALE = 0.1
  MAXIMUM_LATITUDE = -48.7119
  MINIMUM_LATITUDE = -65.03019999999999
  POSITIVE_LONGITUDE_DIRECTION = EAST
  REFERENCE_LATITUDE = "N/A"
  REFERENCE_LONGITUDE = "N/A"
  SAMPLE_FIRST_PIXEL = 1
  SAMPLE_LAST_PIXEL = 1989
  SAMPLE_PROJECTION_OFFSET = 757.875
  SECOND_STANDARD_PARALLEL = "N/A"
  WESTERNMOST_LONGITUDE = 20.875
END_OBJECT = IMAGE_MAP_PROJECTION
END
