PDS_VERSION_ID = PDS3
/* FILE DATA ELEMENTS */
RECORD_TYPE = UNDEFINED
/* POINTERS TO DATA OBJECTS */
^IMAGE = ("H2587_0001_IR4.TIF")
/* IDENTIFICATION DATA ELEMENTS */
DATA_SET_ID = "MEX-M-HRSC-4-REFDR-MAPPROJECT-EXT1-V4.0"
DATA_SET_NAME = "MARS EXPRESS HRSC MAP PROJECTED REFDR EXTENSION1 V4.0"
DETECTOR_ID = MEX_HRSC_IR
EVENT_TYPE = "MARS-REGIONAL-MAPPING-Fl-Gl-Mw"
INSTRUMENT_HOST_ID = MEX
INSTRUMENT_HOST_NAME = "MARS EXPRESS"
INSTRUMENT_ID = HRSC
INSTRUMENT_NAME = "HIGH RESOLUTION STEREO CAMERA"
MISSION_NAME = "MARS EXPRESS"
MISSION_PHASE_NAME = ME_Phase_2
PROCESSING_LEVEL_ID = 4
PRODUCT_CREATION_TIME = 2023-02-08T07:05:14.000Z
PRODUCT_ID = "H2587_0001_IR4.TIF"
RELEASE_ID = 0001
REVISION_ID = 0000
/* QUALITY DATA ELEMENTS */
DATA_QUALITY_ID = 1
DATA_QUALITY_DESC = "Data calculated based on original SPICE kernels"
/* TIME DATA ELEMENTS */
SPACECRAFT_CLOCK_START_COUNT = "1/0085542751.08394"
SPACECRAFT_CLOCK_STOP_COUNT = "1/0085543504.23786"
START_TIME = 2006-01-17T01:52:43.503Z
STOP_TIME = 2006-01-17T02:00:42.378Z
/* ORBITAL DATA ELEMENTS */
ASCENDING_NODE_LONGITUDE = 174.01
MAXIMUM_RESOLUTION = 0.0715
FOOTPRINT_POINT_LATITUDE = (-66.8291,-66.9081,-67.0145,-67.0158, -66.9469,-66.1132,-65.469,-64.6148, -63.9539,-63.0562,-62.3692,-61.4321, -60.4765,-59.9899,-59.4992,-58.9963, -58.4906,-57.7157,-57.1977,-56.6678, -56.1311,-55.5879,-55.0387,-54.4784, -53.9123,-53.3372,-52.7573,-52.1659, -51.2626,-50.6497,-50.0383,-49.399, -48.4311,-47.7694,-47.0971,-46.4164, -45.7284,-45.0296,-44.3176,-43.5945, -42.859,-42.1135,-41.3528,-40.5784, -39.7916,-38.5833,-38.1726,-38.0808, -38.0849,-38.0793,-38.0698,-38.049, -38.0169,-38.0148,-38.0165,-38.834, -39.6312,-40.4168,-41.1875,-41.9466, -42.6907,-43.4214,-44.1412,-44.8489, -45.5457,-46.2329,-46.907,-47.5714, -48.2256,-48.8697,-49.5099,-50.1359, -50.753,-51.675,-52.2706,-52.8585, -53.4333,-54.0018,-54.5603,-55.1136, -55.6593,-56.1965,-56.7278,-57.2535, -57.7698,-58.2817,-58.7871,-59.2843, -59.7757,-60.2612,-60.7393,-61.4476, -62.3759,-63.2831,-64.1681,-65.0341, -65.8797,-66.5024,-66.7098,-66.8291)
FOOTPRINT_POINT_LONGITUDE = (85.7005,87.0245,89.3182,89.3527, 89.4455,89.6781,89.852,90.0516,90.2027, 90.3938,90.5309,90.7076,90.8727,90.9508 ,91.0262,91.1052,91.1785,91.2893, 91.3543,91.4219,91.4877,91.5515,91.6126 ,91.6746,91.7335,91.7916,91.8459, 91.9007,91.9805,92.0311,92.0736,92.1264 ,92.197,92.2445,92.2904,92.334,92.3737, 92.4125,92.4504,92.4865,92.5213,92.5535 ,92.5855,92.6163,92.645,92.6863,92.6997 ,92.7027,91.75,90.9491,90.3387,89.4609, 88.6569,88.6184,88.6056,88.6186,88.6257 ,88.6306,88.6319,88.6307,88.6258, 88.6174,88.6067,88.5935,88.5776,88.5596 ,88.538,88.514,88.4872,88.4584,88.4292, 88.395,88.3591,88.3059,88.2636,88.2195, 88.1705,88.1194,88.0648,88.0086,87.9499 ,87.8882,87.8243,87.7582,87.6878, 87.6153,87.5405,87.4621,87.3804,87.295, 87.2076,87.0699,86.8758,86.6676,86.4452 ,86.2074,85.9519,85.7495,85.6794, 85.7005)
ORBIT_NUMBER = 2587
ORBITAL_ECCENTRICITY = 0.571
ORBITAL_INCLINATION = 86.63
ORBITAL_SEMIMAJOR_AXIS = 8529.24
PERIAPSIS_ALTITUDE = 279.67
PERIAPSIS_ARGUMENT_ANGLE = 263.74
PERIAPSIS_TIME = 2006-01-17T01:45:49.000Z
SPACECRAFT_ORIENTATION = (0.0,-1.0,0.0)
^MEX_ORIENTATION_DESC = "MEX_ORIENTATION_DESC.TXT"
SPACECRAFT_POINTING_MODE = NADIR
^MEX_POINTING_DESC = "MEX_POINTING_DESC.TXT"
RIGHT_ASCENSION = -1e+32
DECLINATION = -1e+32
OFFSET_ANGLE = -1e+32
SPACECRAFT_SOLAR_DISTANCE = 2.32142e+08
TARGET_NAME = MARS
/* CAMERA DATA ELEMENTS */
DETECTOR_TEMPERATURE = 18.3705
FOCAL_PLANE_TEMPERATURE = 8.5833
INST_CMPRS_NAME = "DISCRETE COSINE TRANSFORMATION (DCT)"
INST_CMPRS_RATIO = 12.8438
INST_CMPRS_QUALITY = 0
INST_CMPRS_QUANTZ_TBL_ID = 0
INSTRUMENT_TEMPERATURE = 12.4574
LENS_TEMPERATURE = 8.7872
MACROPIXEL_SIZE = 4
MISSING_FRAMES = 0
PIXEL_SUBSAMPLING_FLAG = N
SIGNAL_CHAIN_ID = 2
/* RADIOMETRIC DATA ELEMENTS */
BANDWIDTH = 81.0
CENTER_FILTER_WAVELENGTH = 955.5
RADIANCE_OFFSET = 0.419516
RADIANCE_SCALING_FACTOR = 0.00396774
REFLECTANCE_SCALING_FACTOR = 0.0004613
MEX:REFLECTANCE_OFFSET = 0.048774
/* IMAGE OBJECT DEFINITIONS */
OBJECT = IMAGE
  INTERCHANGE_FORMAT = BINARY
  LINES = 34176
  LINE_SAMPLES = 4816
  SAMPLE_TYPE = UNSIGNED_INTEGER
  SAMPLE_BITS = 8
  BANDS = 1
  BAND_STORAGE_TYPE = BAND_SEQUENTIAL
  MAXIMUM = 255
  MEAN = 118.895
  MINIMUM = 1
  STANDARD_DEVIATION = 43.0181
END_OBJECT = IMAGE
/* MAP OBJECT DEFINITIONS */
OBJECT = IMAGE_MAP_PROJECTION
  ^DATA_SET_MAP_PROJECTION_CATALOG= "DSMAP.CAT"
  A_AXIS_RADIUS = 3396.0
  B_AXIS_RADIUS = 3396.0
  C_AXIS_RADIUS = 3396.0
  CENTER_LATITUDE = 0.0
  CENTER_LONGITUDE = 90.0
  COORDINATE_SYSTEM_NAME = PLANETOGRAPHIC
  COORDINATE_SYSTEM_TYPE = "BODY-FIXED ROTATING"
  EASTERNMOST_LONGITUDE = 92.70269999999999
  FIRST_STANDARD_PARALLEL = "N/A"
  LINE_FIRST_PIXEL = 1
  LINE_LAST_PIXEL = 34176
  LINE_PROJECTION_OFFSET = -45196.125
  MAP_PROJECTION_ROTATION = 0.0
  MAP_PROJECTION_TYPE = SINUSOIDAL
  MAP_RESOLUTION = 1185.42760773333
  MAP_SCALE = 0.05
  MAXIMUM_LATITUDE = -38.0148
  MINIMUM_LATITUDE = -67.0158
  POSITIVE_LONGITUDE_DIRECTION = EAST
  REFERENCE_LATITUDE = "N/A"
  REFERENCE_LONGITUDE = "N/A"
  SAMPLE_FIRST_PIXEL = 1
  SAMPLE_LAST_PIXEL = 4816
  SAMPLE_PROJECTION_OFFSET = 2084.375
  SECOND_STANDARD_PARALLEL = "N/A"
  WESTERNMOST_LONGITUDE = 85.6794
END_OBJECT = IMAGE_MAP_PROJECTION
END
