PDS_VERSION_ID = PDS3
/* FILE DATA ELEMENTS */
RECORD_TYPE = UNDEFINED
/* POINTERS TO DATA OBJECTS */
^IMAGE = ("H2587_0001_RE4.TIF")
/* IDENTIFICATION DATA ELEMENTS */
DATA_SET_ID = "MEX-M-HRSC-4-REFDR-MAPPROJECT-EXT1-V4.0"
DATA_SET_NAME = "MARS EXPRESS HRSC MAP PROJECTED REFDR EXTENSION1 V4.0"
DETECTOR_ID = MEX_HRSC_RED
EVENT_TYPE = "MARS-REGIONAL-MAPPING-Fl-Gl-Mw"
INSTRUMENT_HOST_ID = MEX
INSTRUMENT_HOST_NAME = "MARS EXPRESS"
INSTRUMENT_ID = HRSC
INSTRUMENT_NAME = "HIGH RESOLUTION STEREO CAMERA"
MISSION_NAME = "MARS EXPRESS"
MISSION_PHASE_NAME = ME_Phase_2
PROCESSING_LEVEL_ID = 4
PRODUCT_CREATION_TIME = 2023-02-08T07:05:14.000Z
PRODUCT_ID = "H2587_0001_RE4.TIF"
RELEASE_ID = 0001
REVISION_ID = 0000
/* QUALITY DATA ELEMENTS */
DATA_QUALITY_ID = 1
DATA_QUALITY_DESC = "Data calculated based on original SPICE kernels"
/* TIME DATA ELEMENTS */
SPACECRAFT_CLOCK_START_COUNT = "1/0085542751.08394"
SPACECRAFT_CLOCK_STOP_COUNT = "1/0085543504.23786"
START_TIME = 2006-01-17T01:53:55.894Z
STOP_TIME = 2006-01-17T02:04:29.432Z
/* ORBITAL DATA ELEMENTS */
ASCENDING_NODE_LONGITUDE = 174.01
MAXIMUM_RESOLUTION = 0.0809
FOOTPRINT_POINT_LATITUDE = (-66.6932,-66.8201,-66.8855,-66.8869, -66.9615,-66.1159,-65.2621,-64.5895, -63.6933,-62.7764,-61.6031,-60.6453, -60.1535,-59.6565,-59.1596,-58.3955, -57.8851,-57.3608,-56.8315,-56.0186, -55.4737,-54.9245,-54.3661,-53.7981, -53.2237,-52.6419,-52.0505,-51.4488, -50.8468,-49.9162,-48.9756,-48.0186, -47.3734,-46.7118,-46.0394,-45.3567, -44.6636,-43.9627,-43.2492,-42.5256, -41.7903,-41.0466,-40.2891,-39.5201, -38.7488,-38.3501,-38.1762,-38.1915, -38.2037,-38.2174,-38.2262,-38.2333, -38.2383,-38.2387,-38.2386,-38.2409, -39.3948,-40.1525,-40.8994,-41.636, -42.3622,-43.0797,-43.7887,-44.4849, -45.171,-45.849,-46.5172,-47.1755, -47.8257,-48.4667,-49.0968,-49.7155, -50.6278,-51.2198,-52.1097,-52.6894, -53.2772,-53.832,-54.398,-54.9544, -55.4995,-56.0412,-56.5756,-57.1018, -57.6212,-58.3934,-58.8962,-59.3963, -59.8905,-60.379,-60.8633,-61.8093, -62.5071,-63.4189,-64.3101,-64.9665, -65.6146,-66.4634,-66.6709,-66.6932)
FOOTPRINT_POINT_LONGITUDE = (85.5104,87.9752,89.6052,89.6442, 89.7054,89.9474,90.1831,90.3387,90.5476 ,90.7456,90.9802,91.1611,91.2457, 91.3286,91.4132,91.532,91.6134,91.6883, 91.7624,91.8674,91.9386,92.0104,92.0789 ,92.1457,92.211,92.2756,92.3378,92.3975 ,92.4606,92.5468,92.6361,92.7255, 92.7861,92.8421,92.8966,92.9501,93.0025 ,93.0557,93.1073,93.1586,93.2092, 93.2602,93.3099,93.3594,93.4132,93.4356 ,93.4464,92.6778,91.9593,91.0887, 90.3198,89.2417,88.6236,88.0043,87.9526 ,87.9353,87.9806,88.0051,88.0259, 88.0428,88.0564,88.0655,88.0705,88.0736 ,88.0736,88.0695,88.0625,88.0531, 88.0398,88.0237,88.0059,87.9872,87.9537 ,87.9323,87.8831,87.849,87.8006,87.7687 ,87.7197,87.6701,87.6205,87.5651, 87.5077,87.4483,87.3859,87.2829,87.2136 ,87.1384,87.0601,86.9784,86.8919, 86.7152,86.57,86.366,86.1456,85.9697, 85.7814,85.5152,85.4466,85.5104)
ORBIT_NUMBER = 2587
ORBITAL_ECCENTRICITY = 0.571
ORBITAL_INCLINATION = 86.63
ORBITAL_SEMIMAJOR_AXIS = 8529.24
PERIAPSIS_ALTITUDE = 279.67
PERIAPSIS_ARGUMENT_ANGLE = 263.74
PERIAPSIS_TIME = 2006-01-17T01:45:49.000Z
SPACECRAFT_ORIENTATION = (0.0,-1.0,0.0)
^MEX_ORIENTATION_DESC = "MEX_ORIENTATION_DESC.TXT"
SPACECRAFT_POINTING_MODE = NADIR
^MEX_POINTING_DESC = "MEX_POINTING_DESC.TXT"
RIGHT_ASCENSION = -1e+32
DECLINATION = -1e+32
OFFSET_ANGLE = -1e+32
SPACECRAFT_SOLAR_DISTANCE = 2.32142e+08
TARGET_NAME = MARS
/* CAMERA DATA ELEMENTS */
DETECTOR_TEMPERATURE = 19.5939
FOCAL_PLANE_TEMPERATURE = 8.5833
INST_CMPRS_NAME = "DISCRETE COSINE TRANSFORMATION (DCT)"
INST_CMPRS_RATIO = 17.1628
INST_CMPRS_QUALITY = 0
INST_CMPRS_QUANTZ_TBL_ID = 0
INSTRUMENT_TEMPERATURE = 12.4574
LENS_TEMPERATURE = 8.7872
MACROPIXEL_SIZE = 4
MISSING_FRAMES = 0
PIXEL_SUBSAMPLING_FLAG = N
SIGNAL_CHAIN_ID = 2
/* RADIOMETRIC DATA ELEMENTS */
BANDWIDTH = 48.0
CENTER_FILTER_WAVELENGTH = 748.0
RADIANCE_OFFSET = 0.456582
RADIANCE_SCALING_FACTOR = 0.00442363
REFLECTANCE_SCALING_FACTOR = 0.000544023
MEX:REFLECTANCE_OFFSET = 0.056151
/* IMAGE OBJECT DEFINITIONS */
OBJECT = IMAGE
  INTERCHANGE_FORMAT = BINARY
  LINES = 34176
  LINE_SAMPLES = 4816
  SAMPLE_TYPE = UNSIGNED_INTEGER
  SAMPLE_BITS = 8
  BANDS = 1
  BAND_STORAGE_TYPE = BAND_SEQUENTIAL
  MAXIMUM = 255
  MEAN = 130.48
  MINIMUM = 1
  STANDARD_DEVIATION = 46.3449
END_OBJECT = IMAGE
/* MAP OBJECT DEFINITIONS */
OBJECT = IMAGE_MAP_PROJECTION
  ^DATA_SET_MAP_PROJECTION_CATALOG= "DSMAP.CAT"
  A_AXIS_RADIUS = 3396.0
  B_AXIS_RADIUS = 3396.0
  C_AXIS_RADIUS = 3396.0
  CENTER_LATITUDE = 0.0
  CENTER_LONGITUDE = 90.0
  COORDINATE_SYSTEM_NAME = PLANETOGRAPHIC
  COORDINATE_SYSTEM_TYPE = "BODY-FIXED ROTATING"
  EASTERNMOST_LONGITUDE = 93.4464
  FIRST_STANDARD_PARALLEL = "N/A"
  LINE_FIRST_PIXEL = 1
  LINE_LAST_PIXEL = 34176
  LINE_PROJECTION_OFFSET = -45196.125
  MAP_PROJECTION_ROTATION = 0.0
  MAP_PROJECTION_TYPE = SINUSOIDAL
  MAP_RESOLUTION = 1185.42760773333
  MAP_SCALE = 0.05
  MAXIMUM_LATITUDE = -38.1762
  MINIMUM_LATITUDE = -66.9615
  POSITIVE_LONGITUDE_DIRECTION = EAST
  REFERENCE_LATITUDE = "N/A"
  REFERENCE_LONGITUDE = "N/A"
  SAMPLE_FIRST_PIXEL = 1
  SAMPLE_LAST_PIXEL = 4816
  SAMPLE_PROJECTION_OFFSET = 2084.375
  SECOND_STANDARD_PARALLEL = "N/A"
  WESTERNMOST_LONGITUDE = 85.4466
END_OBJECT = IMAGE_MAP_PROJECTION
END
