PDS_VERSION_ID = PDS3
/* FILE DATA ELEMENTS */
RECORD_TYPE = UNDEFINED
/* POINTERS TO DATA OBJECTS */
^IMAGE = ("H2590_0001_P24.TIF")
/* IDENTIFICATION DATA ELEMENTS */
DATA_SET_ID = "MEX-M-HRSC-4-REFDR-MAPPROJECT-EXT1-V4.0"
DATA_SET_NAME = "MARS EXPRESS HRSC MAP PROJECTED REFDR EXTENSION1 V4.0"
DETECTOR_ID = MEX_HRSC_P2
EVENT_TYPE = "MARS-REGIONAL-MAPPING-Im-Fl"
INSTRUMENT_HOST_ID = MEX
INSTRUMENT_HOST_NAME = "MARS EXPRESS"
INSTRUMENT_ID = HRSC
INSTRUMENT_NAME = "HIGH RESOLUTION STEREO CAMERA"
MISSION_NAME = "MARS EXPRESS"
MISSION_PHASE_NAME = ME_Phase_2
PROCESSING_LEVEL_ID = 4
PRODUCT_CREATION_TIME = 2023-02-08T07:05:14.000Z
PRODUCT_ID = "H2590_0001_P24.TIF"
RELEASE_ID = 0001
REVISION_ID = 0000
/* QUALITY DATA ELEMENTS */
DATA_QUALITY_ID = 1
DATA_QUALITY_DESC = "Data calculated based on original SPICE kernels"
/* TIME DATA ELEMENTS */
SPACECRAFT_CLOCK_START_COUNT = "1/0085615670.09077"
SPACECRAFT_CLOCK_STOP_COUNT = "1/0085616353.65414"
START_TIME = 2006-01-17T22:10:34.181Z
STOP_TIME = 2006-01-17T22:17:19.427Z
/* ORBITAL DATA ELEMENTS */
ASCENDING_NODE_LONGITUDE = 173.95
MAXIMUM_RESOLUTION = 0.0775
FOOTPRINT_POINT_LATITUDE = (-45.6676,-45.6905,-45.7083,-45.7175, -45.722,-45.7257,-45.7262,-45.7261, -45.7668,-45.0549,-44.4768,-43.8892, -43.2962,-42.9964,-42.6948,-42.3915, -42.0861,-41.7795,-41.4704,-41.1595, -40.8466,-40.5317,-40.2155,-39.7399, -39.415,-39.091,-38.7649,-38.4412, -38.1199,-37.8006,-37.4832,-37.1675, -36.8537,-36.5422,-36.2319,-35.9232, -35.6173,-35.3117,-35.0073,-34.7053, -34.4073,-33.8186,-33.0931,-32.5165, -31.9492,-31.3891,-30.8417,-30.7045, -30.6408,-30.6645,-30.6823,-30.7022, -30.7189,-30.7438,-30.7585,-30.777, -30.7863,-30.7975,-30.8167,-30.8246, -30.823,-30.8242,-31.6369,-32.1758, -32.7362,-33.2959,-33.8669,-34.445, -35.03,-35.3269,-35.6258,-36.0781, -36.5391,-36.8464,-37.15,-37.4601, -37.7732,-38.0885,-38.4052,-38.7241, -39.0455,-39.3653,-39.6824,-39.9981, -40.3113,-40.623,-40.933,-41.2407, -41.6965,-42.0019,-42.3009,-42.6, -43.0495,-43.3453,-43.9305,-44.5083, -45.0764,-45.5008,-45.6394,-45.6676)
FOOTPRINT_POINT_LONGITUDE = (153.289,154.241,155.236,155.961, 156.458,157.183,157.911,157.956,157.999 ,158.052,158.093,158.133,158.173, 158.192,158.212,158.232,158.251,158.27, 158.29,158.309,158.328,158.347,158.366, 158.396,158.413,158.432,158.45,158.469, 158.488,158.506,158.525,158.542,158.56, 158.577,158.594,158.61,158.627,158.642, 158.657,158.672,158.688,158.72,158.759, 158.787,158.816,158.844,158.876,158.882 ,158.886,158.225,157.685,157.147, 156.669,155.893,155.414,154.697,154.278 ,153.859,153.197,152.775,152.716, 152.694,152.756,152.802,152.839,152.88, 152.917,152.954,152.989,153.005,153.021 ,153.044,153.064,153.078,153.095, 153.109,153.122,153.135,153.147,153.159 ,153.169,153.18,153.19,153.199,153.208, 153.215,153.223,153.23,153.24,153.244, 153.25,153.254,153.257,153.259,153.262, 153.264,153.264,153.262,153.262, 153.289)
ORBIT_NUMBER = 2590
ORBITAL_ECCENTRICITY = 0.571
ORBITAL_INCLINATION = 86.61
ORBITAL_SEMIMAJOR_AXIS = 8531.04
PERIAPSIS_ALTITUDE = 281.39
PERIAPSIS_ARGUMENT_ANGLE = 263.22
PERIAPSIS_TIME = 2006-01-17T21:55:22.000Z
SPACECRAFT_ORIENTATION = (0.0,-1.0,0.0)
^MEX_ORIENTATION_DESC = "MEX_ORIENTATION_DESC.TXT"
SPACECRAFT_POINTING_MODE = NADIR
^MEX_POINTING_DESC = "MEX_POINTING_DESC.TXT"
RIGHT_ASCENSION = -1e+32
DECLINATION = -1e+32
OFFSET_ANGLE = -1e+32
SPACECRAFT_SOLAR_DISTANCE = 2.323e+08
TARGET_NAME = MARS
/* CAMERA DATA ELEMENTS */
DETECTOR_TEMPERATURE = 20.8173
FOCAL_PLANE_TEMPERATURE = 8.5833
INST_CMPRS_NAME = "DISCRETE COSINE TRANSFORMATION (DCT)"
INST_CMPRS_RATIO = 6.21854
INST_CMPRS_QUALITY = 0
INST_CMPRS_QUANTZ_TBL_ID = 0
INSTRUMENT_TEMPERATURE = 13.4769
LENS_TEMPERATURE = 7.5638
MACROPIXEL_SIZE = 2
MISSING_FRAMES = 0
PIXEL_SUBSAMPLING_FLAG = N
SIGNAL_CHAIN_ID = 3
/* RADIOMETRIC DATA ELEMENTS */
BANDWIDTH = 177.0
CENTER_FILTER_WAVELENGTH = 676.5
RADIANCE_OFFSET = 2.76091
RADIANCE_SCALING_FACTOR = 0.0131472
REFLECTANCE_SCALING_FACTOR = 0.000376177
MEX:REFLECTANCE_OFFSET = 0.0789972
/* IMAGE OBJECT DEFINITIONS */
OBJECT = IMAGE
  INTERCHANGE_FORMAT = BINARY
  LINES = 17902
  LINE_SAMPLES = 5336
  SAMPLE_TYPE = UNSIGNED_INTEGER
  SAMPLE_BITS = 8
  BANDS = 1
  BAND_STORAGE_TYPE = BAND_SEQUENTIAL
  MAXIMUM = 255
  MEAN = 125.407
  MINIMUM = 1
  STANDARD_DEVIATION = 25.6583
END_OBJECT = IMAGE
/* MAP OBJECT DEFINITIONS */
OBJECT = IMAGE_MAP_PROJECTION
  ^DATA_SET_MAP_PROJECTION_CATALOG= "DSMAP.CAT"
  A_AXIS_RADIUS = 3396.0
  B_AXIS_RADIUS = 3396.0
  C_AXIS_RADIUS = 3396.0
  CENTER_LATITUDE = 0.0
  CENTER_LONGITUDE = 156.0
  COORDINATE_SYSTEM_NAME = PLANETOGRAPHIC
  COORDINATE_SYSTEM_TYPE = "BODY-FIXED ROTATING"
  EASTERNMOST_LONGITUDE = 158.886
  FIRST_STANDARD_PARALLEL = "N/A"
  LINE_FIRST_PIXEL = 1
  LINE_LAST_PIXEL = 17902
  LINE_PROJECTION_OFFSET = -36339.75
  MAP_PROJECTION_ROTATION = 0.0
  MAP_PROJECTION_TYPE = SINUSOIDAL
  MAP_RESOLUTION = 1185.42760773333
  MAP_SCALE = 0.05
  MAXIMUM_LATITUDE = -30.6408
  MINIMUM_LATITUDE = -45.7668
  POSITIVE_LONGITUDE_DIRECTION = EAST
  REFERENCE_LATITUDE = "N/A"
  REFERENCE_LONGITUDE = "N/A"
  SAMPLE_FIRST_PIXEL = 1
  SAMPLE_LAST_PIXEL = 5336
  SAMPLE_PROJECTION_OFFSET = 2951.75
  SECOND_STANDARD_PARALLEL = "N/A"
  WESTERNMOST_LONGITUDE = 152.694
END_OBJECT = IMAGE_MAP_PROJECTION
END
