PDS_VERSION_ID = PDS3
/* FILE DATA ELEMENTS */
RECORD_TYPE = UNDEFINED
/* POINTERS TO DATA OBJECTS */
^IMAGE = ("H2594_0000_ND4.TIF")
/* IDENTIFICATION DATA ELEMENTS */
DATA_SET_ID = "MEX-M-HRSC-4-REFDR-MAPPROJECT-EXT1-V4.0"
DATA_SET_NAME = "MARS EXPRESS HRSC MAP PROJECTED REFDR EXTENSION1 V4.0"
DETECTOR_ID = MEX_HRSC_NADIR
EVENT_TYPE = "MARS-TERMINATOR-VARIABLE-Gl-At"
INSTRUMENT_HOST_ID = MEX
INSTRUMENT_HOST_NAME = "MARS EXPRESS"
INSTRUMENT_ID = HRSC
INSTRUMENT_NAME = "HIGH RESOLUTION STEREO CAMERA"
MISSION_NAME = "MARS EXPRESS"
MISSION_PHASE_NAME = ME_Phase_2
PROCESSING_LEVEL_ID = 4
PRODUCT_CREATION_TIME = 2023-02-08T07:05:14.000Z
PRODUCT_ID = "H2594_0000_ND4.TIF"
RELEASE_ID = 0001
REVISION_ID = 0000
/* QUALITY DATA ELEMENTS */
DATA_QUALITY_ID = 1
DATA_QUALITY_DESC = "Data calculated based on original SPICE kernels"
/* TIME DATA ELEMENTS */
SPACECRAFT_CLOCK_START_COUNT = "1/0085711794.09062"
SPACECRAFT_CLOCK_STOP_COUNT = "1/0085711938.52800"
START_TIME = 2006-01-19T00:50:25.294Z
STOP_TIME = 2006-01-19T00:51:52.257Z
/* ORBITAL DATA ELEMENTS */
ASCENDING_NODE_LONGITUDE = 173.86
MAXIMUM_RESOLUTION = 0.0234
FOOTPRINT_POINT_LATITUDE = (-85.9897,-86.1242,-86.2579,-86.391, -86.5476,-86.7027,-86.832,-86.84, -86.8752,-86.8134,-86.7489,-86.6822, -86.6128,-86.5409,-86.3915,-86.2351, -86.072,-85.9034,-85.7299,-85.553, -85.3719,-85.1878,-85.0913,-84.9934, -84.8948,-84.7954,-84.6957,-84.5951, -84.4941,-84.3926,-84.2901,-84.1874, -84.0843,-83.9809,-83.8772,-83.7732, -83.6687,-83.564,-83.4589,-83.3536, -83.1901,-83.0804,-82.9704,-82.8602, -82.7498,-82.6391,-82.5282,-82.4171, -82.3059,-82.1944,-82.1387,-82.115, -82.0264,-81.9635,-81.8804,-81.7927, -81.6913,-81.6865,-81.6852,-81.7916, -81.8977,-82.0035,-82.1089,-82.214, -82.3184,-82.4229,-82.5269,-82.6305, -82.7337,-82.8861,-82.9846,-83.0827, -83.1803,-83.2773,-83.3739,-83.4698, -83.5651,-83.6599,-83.7542,-83.8478, -83.9406,-84.0326,-84.1238,-84.2141, -84.3035,-84.392,-84.4795,-84.5646, -84.7283,-84.8876,-85.0421,-85.1913, -85.3345,-85.4715,-85.6014,-85.7237, -85.8375,-85.9422,-85.9669,-85.9897)
FOOTPRINT_POINT_LONGITUDE = (64.0696,65.0114,66.0236,67.1154, 68.5244,70.074,71.5037,71.597,72.0192, 73.7107,75.3352,76.8991,78.395,79.8249, 82.5163,84.9901,87.2561,89.3394,91.2554 ,93.0329,94.6671,96.1846,96.9115, 97.6154,98.2898,98.9383,99.5656,100.165 ,100.744,101.301,101.83,102.344,102.841 ,103.322,103.788,104.238,104.672, 105.092,105.499,105.893,106.48,106.857, 107.222,107.576,107.919,108.25,108.571, 108.882,109.185,109.478,109.621,109.682 ,107.875,106.698,105.259,103.854, 102.351,102.284,102.258,101.904,101.541 ,101.167,100.783,100.387,99.9762, 99.5587,99.1294,98.6875,98.2327,97.5323 ,97.0603,96.5744,96.0741,95.5591, 95.0288,94.4822,93.919,93.3385,92.7434, 92.1298,91.495,90.8396,90.1631,89.4641, 88.7425,87.9983,87.2292,86.4484,84.8431 ,83.1344,81.3155,79.3794,77.3194, 75.1316,72.8084,70.3466,67.7423,64.9953 ,64.287,64.0696)
ORBIT_NUMBER = 2594
ORBITAL_ECCENTRICITY = 0.571
ORBITAL_INCLINATION = 86.62
ORBITAL_SEMIMAJOR_AXIS = 8530.31
PERIAPSIS_ALTITUDE = 280.37
PERIAPSIS_ARGUMENT_ANGLE = 262.52
PERIAPSIS_TIME = 2006-01-19T00:48:08.000Z
SPACECRAFT_ORIENTATION = (0.0,-1.0,0.0)
^MEX_ORIENTATION_DESC = "MEX_ORIENTATION_DESC.TXT"
SPACECRAFT_POINTING_MODE = ACROSSTRACK
^MEX_POINTING_DESC = "MEX_POINTING_DESC.TXT"
RIGHT_ASCENSION = -1e+32
DECLINATION = -1e+32
OFFSET_ANGLE = -0.23
SPACECRAFT_SOLAR_DISTANCE = 2.32509e+08
TARGET_NAME = MARS
/* CAMERA DATA ELEMENTS */
DETECTOR_TEMPERATURE = 18.1666
FOCAL_PLANE_TEMPERATURE = 9.195
INST_CMPRS_NAME = "DISCRETE COSINE TRANSFORMATION (DCT)"
INST_CMPRS_RATIO = 13.5995
INST_CMPRS_QUALITY = 0
INST_CMPRS_QUANTZ_TBL_ID = 0
INSTRUMENT_TEMPERATURE = 11.234
LENS_TEMPERATURE = 9.6028
MACROPIXEL_SIZE = 2
MISSING_FRAMES = 0
PIXEL_SUBSAMPLING_FLAG = N
SIGNAL_CHAIN_ID = 0
/* RADIOMETRIC DATA ELEMENTS */
BANDWIDTH = 177.0
CENTER_FILTER_WAVELENGTH = 677.5
RADIANCE_OFFSET = 0.0516854
RADIANCE_SCALING_FACTOR = 0.00283763
REFLECTANCE_SCALING_FACTOR = 8.1493e-05
MEX:REFLECTANCE_OFFSET = 0.00148434
/* IMAGE OBJECT DEFINITIONS */
OBJECT = IMAGE
  INTERCHANGE_FORMAT = BINARY
  LINES = 12307
  LINE_SAMPLES = 10094
  SAMPLE_TYPE = UNSIGNED_INTEGER
  SAMPLE_BITS = 8
  BANDS = 1
  BAND_STORAGE_TYPE = BAND_SEQUENTIAL
  MAXIMUM = 254
  MEAN = 107.958
  MINIMUM = 2
  STANDARD_DEVIATION = 44.0193
END_OBJECT = IMAGE
/* MAP OBJECT DEFINITIONS */
OBJECT = IMAGE_MAP_PROJECTION
  ^DATA_SET_MAP_PROJECTION_CATALOG= "DSMAP.CAT"
  A_AXIS_RADIUS = 3396.0
  B_AXIS_RADIUS = 3396.0
  C_AXIS_RADIUS = 3396.0
  CENTER_LATITUDE = 0.0
  CENTER_LONGITUDE = 94.0
  COORDINATE_SYSTEM_NAME = PLANETOGRAPHIC
  COORDINATE_SYSTEM_TYPE = "BODY-FIXED ROTATING"
  EASTERNMOST_LONGITUDE = 109.682
  FIRST_STANDARD_PARALLEL = "N/A"
  LINE_FIRST_PIXEL = 1
  LINE_LAST_PIXEL = 12307
  LINE_PROJECTION_OFFSET = -193664.0
  MAP_PROJECTION_ROTATION = 0.0
  MAP_PROJECTION_TYPE = SINUSOIDAL
  MAP_RESOLUTION = 2370.85521546667
  MAP_SCALE = 0.025
  MAXIMUM_LATITUDE = -81.68519999999999
  MINIMUM_LATITUDE = -86.87520000000001
  POSITIVE_LONGITUDE_DIRECTION = EAST
  REFERENCE_LATITUDE = "N/A"
  REFERENCE_LONGITUDE = "N/A"
  SAMPLE_FIRST_PIXEL = 1
  SAMPLE_LAST_PIXEL = 10094
  SAMPLE_PROJECTION_OFFSET = 4992.0
  SECOND_STANDARD_PARALLEL = "N/A"
  WESTERNMOST_LONGITUDE = 64.06959999999999
END_OBJECT = IMAGE_MAP_PROJECTION
END
