PDS_VERSION_ID = PDS3
/* FILE DATA ELEMENTS */
RECORD_TYPE = UNDEFINED
/* POINTERS TO DATA OBJECTS */
^IMAGE = ("H2594_0001_S14.TIF")
/* IDENTIFICATION DATA ELEMENTS */
DATA_SET_ID = "MEX-M-HRSC-4-REFDR-MAPPROJECT-EXT1-V4.0"
DATA_SET_NAME = "MARS EXPRESS HRSC MAP PROJECTED REFDR EXTENSION1 V4.0"
DETECTOR_ID = MEX_HRSC_S1
EVENT_TYPE = "MARS-REGIONAL-MAPPING-Te-Im-Fl"
INSTRUMENT_HOST_ID = MEX
INSTRUMENT_HOST_NAME = "MARS EXPRESS"
INSTRUMENT_ID = HRSC
INSTRUMENT_NAME = "HIGH RESOLUTION STEREO CAMERA"
MISSION_NAME = "MARS EXPRESS"
MISSION_PHASE_NAME = ME_Phase_2
PROCESSING_LEVEL_ID = 4
PRODUCT_CREATION_TIME = 2023-02-08T07:05:14.000Z
PRODUCT_ID = "H2594_0001_S14.TIF"
RELEASE_ID = 0001
REVISION_ID = 0000
/* QUALITY DATA ELEMENTS */
DATA_QUALITY_ID = 1
DATA_QUALITY_DESC = "Data calculated based on original SPICE kernels"
/* TIME DATA ELEMENTS */
SPACECRAFT_CLOCK_START_COUNT = "1/0085712240.08574"
SPACECRAFT_CLOCK_STOP_COUNT = "1/0085712702.33215"
START_TIME = 2006-01-19T00:57:25.909Z
STOP_TIME = 2006-01-19T01:01:19.439Z
/* ORBITAL DATA ELEMENTS */
ASCENDING_NODE_LONGITUDE = 173.86
MAXIMUM_RESOLUTION = 0.0463
FOOTPRINT_POINT_LATITUDE = (-58.4315,-58.4799,-58.5137,-58.5307, -58.5546,-58.5552,-58.4833,-57.9977, -57.3799,-56.8822,-56.3797,-55.8579, -55.5985,-55.0848,-54.5597,-54.1645, -53.8961,-53.6254,-53.3503,-53.0758, -52.8002,-52.5237,-52.2416,-51.9634, -51.6775,-51.3936,-51.1055,-50.8163, -50.5263,-50.2314,-49.9361,-49.6378, -49.3395,-49.0371,-48.7341,-48.4286, -48.125,-47.8093,-47.4957,-47.1802, -46.8684,-46.5504,-46.2285,-45.8986, -45.5713,-45.2368,-44.7379,-44.3967, -44.227,-44.225,-44.2289,-44.2267, -44.2122,-44.2019,-44.1953,-44.1822, -44.1617,-44.1602,-44.1611,-44.4959, -44.8354,-45.3255,-45.6536,-45.9792, -46.3016,-46.6202,-46.9383,-47.2536, -47.5671,-47.8796,-48.1872,-48.4961, -48.8053,-49.1018,-49.5474,-49.9898, -50.2838,-50.7199,-51.1504,-51.4378, -51.8659,-52.2857,-52.565,-52.8396, -53.1116,-53.3856,-53.6519,-53.9201, -54.3174,-54.5819,-54.843,-55.4928, -56.0062,-56.3882,-56.8884,-57.2609, -57.63,-58.2359,-58.3557,-58.4315)
FOOTPRINT_POINT_LONGITUDE = (120.089,121.121,122.021,122.576, 123.625,123.66,123.731,123.792,123.869, 123.926,123.981,124.044,124.072,124.119 ,124.169,124.203,124.227,124.252, 124.278,124.302,124.324,124.347,124.371 ,124.391,124.414,124.435,124.457, 124.478,124.498,124.519,124.539,124.559 ,124.578,124.597,124.616,124.634, 124.649,124.67,124.688,124.706,124.72, 124.736,124.752,124.771,124.787,124.805 ,124.828,124.845,124.853,124.853, 124.134,123.605,123.042,122.628,121.99, 121.577,121.015,120.978,120.965,120.96, 120.957,120.948,120.942,120.935,120.928 ,120.92,120.912,120.903,120.894,120.884 ,120.873,120.863,120.852,120.839, 120.818,120.797,120.783,120.76,120.736, 120.719,120.694,120.667,120.648,120.628 ,120.608,120.588,120.566,120.544,120.51 ,120.486,120.463,120.401,120.35,120.31, 120.254,120.211,120.166,120.088,120.072 ,120.089)
ORBIT_NUMBER = 2594
ORBITAL_ECCENTRICITY = 0.571
ORBITAL_INCLINATION = 86.62
ORBITAL_SEMIMAJOR_AXIS = 8530.31
PERIAPSIS_ALTITUDE = 280.37
PERIAPSIS_ARGUMENT_ANGLE = 262.52
PERIAPSIS_TIME = 2006-01-19T00:48:08.000Z
SPACECRAFT_ORIENTATION = (0.0,-1.0,0.0)
^MEX_ORIENTATION_DESC = "MEX_ORIENTATION_DESC.TXT"
SPACECRAFT_POINTING_MODE = ACROSSTRACK
^MEX_POINTING_DESC = "MEX_POINTING_DESC.TXT"
RIGHT_ASCENSION = -1e+32
DECLINATION = -1e+32
OFFSET_ANGLE = -0.23
SPACECRAFT_SOLAR_DISTANCE = 2.32509e+08
TARGET_NAME = MARS
/* CAMERA DATA ELEMENTS */
DETECTOR_TEMPERATURE = 18.7783
FOCAL_PLANE_TEMPERATURE = 9.3989
INST_CMPRS_NAME = "DISCRETE COSINE TRANSFORMATION (DCT)"
INST_CMPRS_RATIO = 10.4795
INST_CMPRS_QUALITY = 0
INST_CMPRS_QUANTZ_TBL_ID = 0
INSTRUMENT_TEMPERATURE = 12.8652
LENS_TEMPERATURE = 9.8067
MACROPIXEL_SIZE = 2
MISSING_FRAMES = 0
PIXEL_SUBSAMPLING_FLAG = N
SIGNAL_CHAIN_ID = 1
/* RADIOMETRIC DATA ELEMENTS */
BANDWIDTH = 180.0
CENTER_FILTER_WAVELENGTH = 677.0
RADIANCE_OFFSET = 1.96648
RADIANCE_SCALING_FACTOR = 0.0204758
REFLECTANCE_SCALING_FACTOR = 0.000577521
MEX:REFLECTANCE_OFFSET = 0.0554645
/* IMAGE OBJECT DEFINITIONS */
OBJECT = IMAGE
  INTERCHANGE_FORMAT = BINARY
  LINES = 16972
  LINE_SAMPLES = 3913
  SAMPLE_TYPE = UNSIGNED_INTEGER
  SAMPLE_BITS = 8
  BANDS = 1
  BAND_STORAGE_TYPE = BAND_SEQUENTIAL
  MAXIMUM = 255
  MEAN = 90.5693
  MINIMUM = 1
  STANDARD_DEVIATION = 34.2785
END_OBJECT = IMAGE
/* MAP OBJECT DEFINITIONS */
OBJECT = IMAGE_MAP_PROJECTION
  ^DATA_SET_MAP_PROJECTION_CATALOG= "DSMAP.CAT"
  A_AXIS_RADIUS = 3396.0
  B_AXIS_RADIUS = 3396.0
  C_AXIS_RADIUS = 3396.0
  CENTER_LATITUDE = 0.0
  CENTER_LONGITUDE = 122.0
  COORDINATE_SYSTEM_NAME = PLANETOGRAPHIC
  COORDINATE_SYSTEM_TYPE = "BODY-FIXED ROTATING"
  EASTERNMOST_LONGITUDE = 124.853
  FIRST_STANDARD_PARALLEL = "N/A"
  LINE_FIRST_PIXEL = 1
  LINE_LAST_PIXEL = 16972
  LINE_PROJECTION_OFFSET = -52393.25
  MAP_PROJECTION_ROTATION = 0.0
  MAP_PROJECTION_TYPE = SINUSOIDAL
  MAP_RESOLUTION = 1185.42760773333
  MAP_SCALE = 0.05
  MAXIMUM_LATITUDE = -44.1602
  MINIMUM_LATITUDE = -58.5552
  POSITIVE_LONGITUDE_DIRECTION = EAST
  REFERENCE_LATITUDE = "N/A"
  REFERENCE_LONGITUDE = "N/A"
  SAMPLE_FIRST_PIXEL = 1
  SAMPLE_LAST_PIXEL = 3913
  SAMPLE_PROJECTION_OFFSET = 1319.25
  SECOND_STANDARD_PARALLEL = "N/A"
  WESTERNMOST_LONGITUDE = 120.072
END_OBJECT = IMAGE_MAP_PROJECTION
END
