PDS_VERSION_ID = PDS3
/* FILE DATA ELEMENTS */
RECORD_TYPE = UNDEFINED
/* POINTERS TO DATA OBJECTS */
^IMAGE = ("H2595_0001_GR4.TIF")
/* IDENTIFICATION DATA ELEMENTS */
DATA_SET_ID = "MEX-M-HRSC-4-REFDR-MAPPROJECT-EXT1-V4.0"
DATA_SET_NAME = "MARS EXPRESS HRSC MAP PROJECTED REFDR EXTENSION1 V4.0"
DETECTOR_ID = MEX_HRSC_GREEN
EVENT_TYPE = "MARS-REGIONAL-MAPPING-Te-Fl-Eo"
INSTRUMENT_HOST_ID = MEX
INSTRUMENT_HOST_NAME = "MARS EXPRESS"
INSTRUMENT_ID = HRSC
INSTRUMENT_NAME = "HIGH RESOLUTION STEREO CAMERA"
MISSION_NAME = "MARS EXPRESS"
MISSION_PHASE_NAME = ME_Phase_2
PROCESSING_LEVEL_ID = 4
PRODUCT_CREATION_TIME = 2023-02-08T07:05:14.000Z
PRODUCT_ID = "H2595_0001_GR4.TIF"
RELEASE_ID = 0001
REVISION_ID = 0000
/* QUALITY DATA ELEMENTS */
DATA_QUALITY_ID = 1
DATA_QUALITY_DESC = "Data calculated based on original SPICE kernels"
/* TIME DATA ELEMENTS */
SPACECRAFT_CLOCK_START_COUNT = "1/0085736545.07304"
SPACECRAFT_CLOCK_STOP_COUNT = "1/0085737269.47674"
START_TIME = 2006-01-19T07:43:28.628Z
STOP_TIME = 2006-01-19T07:49:54.543Z
/* ORBITAL DATA ELEMENTS */
ASCENDING_NODE_LONGITUDE = 173.84
MAXIMUM_RESOLUTION = 0.1151
FOOTPRINT_POINT_LATITUDE = (-51.3538,-51.4011,-51.4301,-51.4475, -51.4626,-51.477,-51.4775,-51.4662, -50.9907,-50.3498,-49.6985,-49.0379, -48.3665,-47.6841,-46.9914,-46.2873, -45.5567,-45.1944,-44.829,-44.4606, -44.089,-43.7148,-43.3373,-42.956, -42.5718,-42.1842,-41.7938,-41.3994, -40.7845,-40.3811,-39.9747,-39.564, -39.1501,-38.7321,-38.3107,-37.6801, -37.2623,-36.8467,-36.4331,-36.0215, -35.6121,-35.0002,-34.598,-33.9958, -33.5963,-33.1991,-32.8031,-32.6069, -32.5291,-32.5497,-32.5663,-32.5711, -32.5725,-32.5719,-32.5672,-32.5584, -32.5577,-32.5595,-32.9491,-33.3403, -33.7333,-34.1284,-34.5257,-34.9251, -35.3266,-35.7306,-36.136,-36.5442, -36.954,-37.3662,-37.7813,-38.4063, -38.8232,-39.2362,-39.6459,-40.0515, -40.4534,-40.8522,-41.4601,-41.8501, -42.2364,-42.6202,-43.0004,-43.3774, -43.7513,-44.1225,-44.4906,-44.8565, -45.2186,-45.5778,-46.477,-47.1727, -47.8567,-48.5304,-49.1925,-49.8466, -50.4898,-51.1233,-51.28,-51.3538)
FOOTPRINT_POINT_LONGITUDE = (21.89,22.9571,23.7675,24.3567,24.9835, 25.7975,25.8345,25.8736,25.9172,25.9714 ,26.0229,26.0737,26.1231,26.1712, 26.2166,26.2621,26.3063,26.3278,26.3488 ,26.3693,26.3898,26.4092,26.4287,26.448 ,26.4663,26.4851,26.503,26.5212,26.5491 ,26.5668,26.584,26.601,26.6174,26.6335, 26.6491,26.6716,26.6862,26.7,26.7134, 26.7267,26.739,26.7605,26.7677,26.7833, 26.7944,26.8046,26.8161,26.8195,26.8215 ,25.9405,24.9179,24.2219,23.7106, 23.1993,22.5021,21.8941,21.8474,21.8319 ,21.8534,21.8732,21.8917,21.9097, 21.9272,21.9442,21.9604,21.9766,21.9904 ,22.005,22.0177,22.0301,22.0434,22.058, 22.0677,22.0769,22.0849,22.0919,22.097, 22.102,22.1076,22.1098,22.1102,22.1106, 22.11,22.1088,22.1069,22.1045,22.101, 22.0984,22.0934,22.0879,22.0685,22.0515 ,22.029,22.0041,21.9754,21.9461,21.9123 ,21.8755,21.8656,21.89)
ORBIT_NUMBER = 2595
ORBITAL_ECCENTRICITY = 0.571
ORBITAL_INCLINATION = 86.61
ORBITAL_SEMIMAJOR_AXIS = 8530.91
PERIAPSIS_ALTITUDE = 280.64
PERIAPSIS_ARGUMENT_ANGLE = 262.34
PERIAPSIS_TIME = 2006-01-19T07:31:17.000Z
SPACECRAFT_ORIENTATION = (0.0,-1.0,0.0)
^MEX_ORIENTATION_DESC = "MEX_ORIENTATION_DESC.TXT"
SPACECRAFT_POINTING_MODE = NADIR
^MEX_POINTING_DESC = "MEX_POINTING_DESC.TXT"
RIGHT_ASCENSION = -1e+32
DECLINATION = -1e+32
OFFSET_ANGLE = -1e+32
SPACECRAFT_SOLAR_DISTANCE = 2.32561e+08
TARGET_NAME = MARS
/* CAMERA DATA ELEMENTS */
DETECTOR_TEMPERATURE = 20.0017
FOCAL_PLANE_TEMPERATURE = 9.3989
INST_CMPRS_NAME = "DISCRETE COSINE TRANSFORMATION (DCT)"
INST_CMPRS_RATIO = 12.2349
INST_CMPRS_QUALITY = 0
INST_CMPRS_QUANTZ_TBL_ID = 0
INSTRUMENT_TEMPERATURE = 12.2535
LENS_TEMPERATURE = 9.8067
MACROPIXEL_SIZE = 4
PIXEL_SUBSAMPLING_FLAG = N
SIGNAL_CHAIN_ID = 2
/* RADIOMETRIC DATA ELEMENTS */
BANDWIDTH = 88.0
CENTER_FILTER_WAVELENGTH = 538.0
RADIANCE_OFFSET = 0.796818
RADIANCE_SCALING_FACTOR = 0.0042441
REFLECTANCE_SCALING_FACTOR = 0.000197631
MEX:REFLECTANCE_OFFSET = 0.0371047
/* IMAGE OBJECT DEFINITIONS */
OBJECT = IMAGE
  INTERCHANGE_FORMAT = BINARY
  LINES = 11233
  LINE_SAMPLES = 2589
  SAMPLE_TYPE = UNSIGNED_INTEGER
  SAMPLE_BITS = 8
  BANDS = 1
  BAND_STORAGE_TYPE = BAND_SEQUENTIAL
  MAXIMUM = 255
  MEAN = 136.557
  MINIMUM = 1
  STANDARD_DEVIATION = 24.53
END_OBJECT = IMAGE
/* MAP OBJECT DEFINITIONS */
OBJECT = IMAGE_MAP_PROJECTION
  ^DATA_SET_MAP_PROJECTION_CATALOG= "DSMAP.CAT"
  A_AXIS_RADIUS = 3396.0
  B_AXIS_RADIUS = 3396.0
  C_AXIS_RADIUS = 3396.0
  CENTER_LATITUDE = 0.0
  CENTER_LONGITUDE = 24.0
  COORDINATE_SYSTEM_NAME = PLANETOGRAPHIC
  COORDINATE_SYSTEM_TYPE = "BODY-FIXED ROTATING"
  EASTERNMOST_LONGITUDE = 26.8215
  FIRST_STANDARD_PARALLEL = "N/A"
  LINE_FIRST_PIXEL = 1
  LINE_LAST_PIXEL = 11233
  LINE_PROJECTION_OFFSET = -19277.375
  MAP_PROJECTION_ROTATION = 0.0
  MAP_PROJECTION_TYPE = SINUSOIDAL
  MAP_RESOLUTION = 592.713803866667
  MAP_SCALE = 0.1
  MAXIMUM_LATITUDE = -32.5291
  MINIMUM_LATITUDE = -51.4775
  POSITIVE_LONGITUDE_DIRECTION = EAST
  REFERENCE_LATITUDE = "N/A"
  REFERENCE_LONGITUDE = "N/A"
  SAMPLE_FIRST_PIXEL = 1
  SAMPLE_LAST_PIXEL = 2589
  SAMPLE_PROJECTION_OFFSET = 1125.625
  SECOND_STANDARD_PARALLEL = "N/A"
  WESTERNMOST_LONGITUDE = 21.8319
END_OBJECT = IMAGE_MAP_PROJECTION
END
